| Back to Multiple platform build/check report for BioC 3.7 |
|
This page was generated on 2018-10-17 08:43:06 -0400 (Wed, 17 Oct 2018).
| Package 1436/1561 | Hostname | OS / Arch | INSTALL | BUILD | CHECK | BUILD BIN | ||||||
| StarBioTrek 1.6.0 Claudia Cava
| malbec2 | Linux (Ubuntu 16.04.1 LTS) / x86_64 | OK | OK | OK | |||||||
| tokay2 | Windows Server 2012 R2 Standard / x64 | [ OK ] | OK | OK | OK | |||||||
| merida2 | OS X 10.11.6 El Capitan / x86_64 | OK | OK | OK | OK |
| Package: StarBioTrek |
| Version: 1.6.0 |
| Command: C:\cygwin\bin\curl.exe -O https://malbec2.bioconductor.org/BBS/3.7/bioc/src/contrib/StarBioTrek_1.6.0.tar.gz && rm -rf StarBioTrek.buildbin-libdir && mkdir StarBioTrek.buildbin-libdir && C:\Users\biocbuild\bbs-3.7-bioc\R\bin\R.exe CMD INSTALL --merge-multiarch --build --library=StarBioTrek.buildbin-libdir StarBioTrek_1.6.0.tar.gz && C:\Users\biocbuild\bbs-3.7-bioc\R\bin\R.exe CMD INSTALL StarBioTrek_1.6.0.zip && rm StarBioTrek_1.6.0.tar.gz StarBioTrek_1.6.0.zip |
| StartedAt: 2018-10-16 20:15:59 -0400 (Tue, 16 Oct 2018) |
| EndedAt: 2018-10-16 20:17:31 -0400 (Tue, 16 Oct 2018) |
| EllapsedTime: 92.9 seconds |
| RetCode: 0 |
| Status: OK |
##############################################################################
##############################################################################
###
### Running command:
###
### C:\cygwin\bin\curl.exe -O https://malbec2.bioconductor.org/BBS/3.7/bioc/src/contrib/StarBioTrek_1.6.0.tar.gz && rm -rf StarBioTrek.buildbin-libdir && mkdir StarBioTrek.buildbin-libdir && C:\Users\biocbuild\bbs-3.7-bioc\R\bin\R.exe CMD INSTALL --merge-multiarch --build --library=StarBioTrek.buildbin-libdir StarBioTrek_1.6.0.tar.gz && C:\Users\biocbuild\bbs-3.7-bioc\R\bin\R.exe CMD INSTALL StarBioTrek_1.6.0.zip && rm StarBioTrek_1.6.0.tar.gz StarBioTrek_1.6.0.zip
###
##############################################################################
##############################################################################
% Total % Received % Xferd Average Speed Time Time Time Current
Dload Upload Total Spent Left Speed
0 0 0 0 0 0 0 0 --:--:-- --:--:-- --:--:-- 0
100 6760k 100 6760k 0 0 55.0M 0 --:--:-- --:--:-- --:--:-- 58.9M
install for i386
* installing *source* package 'StarBioTrek' ...
** R
** data
*** moving datasets to lazyload DB
** inst
** byte-compile and prepare package for lazy loading
** help
*** installing help indices
converting help for package 'StarBioTrek'
finding HTML links ... done
Data_CANCER_normUQ_filt html
GE_matrix html
IPPI html
SelectedSample html
StarBioTrek html
average html
ds_score_crtlk html
euc_dist_crtlk html
getKEGGdata html
getNETdata html
list_path_net html
list_path_plot html
matrix_plot html
netw html
norm html
path html
path_net html
plotting_cross_talk html
proc_path html
process_matrix html
score_euc_dist html
select_class html
st_dv html
svm_classification html
tumo html
** building package indices
** installing vignettes
** testing if installed package can be loaded
In R CMD INSTALL
install for x64
* installing *source* package 'StarBioTrek' ...
** testing if installed package can be loaded
* MD5 sums
packaged installation of 'StarBioTrek' as StarBioTrek_1.6.0.zip
* DONE (StarBioTrek)
In R CMD INSTALL
In R CMD INSTALL
* installing to library 'C:/Users/biocbuild/bbs-3.7-bioc/R/library'
package 'StarBioTrek' successfully unpacked and MD5 sums checked
In R CMD INSTALL