| Back to Multiple platform build/check report for BioC 3.7 |
|
This page was generated on 2018-10-17 08:34:30 -0400 (Wed, 17 Oct 2018).
| Package 1406/1561 | Hostname | OS / Arch | INSTALL | BUILD | CHECK | BUILD BIN | ||||||
| SpeCond 1.34.0 Florence Cavalli
| malbec2 | Linux (Ubuntu 16.04.1 LTS) / x86_64 | OK | OK | OK | |||||||
| tokay2 | Windows Server 2012 R2 Standard / x64 | [ OK ] | OK | OK | OK | |||||||
| merida2 | OS X 10.11.6 El Capitan / x86_64 | OK | OK | OK | OK |
| Package: SpeCond |
| Version: 1.34.0 |
| Command: C:\cygwin\bin\curl.exe -O https://malbec2.bioconductor.org/BBS/3.7/bioc/src/contrib/SpeCond_1.34.0.tar.gz && rm -rf SpeCond.buildbin-libdir && mkdir SpeCond.buildbin-libdir && C:\Users\biocbuild\bbs-3.7-bioc\R\bin\R.exe CMD INSTALL --merge-multiarch --build --library=SpeCond.buildbin-libdir SpeCond_1.34.0.tar.gz && C:\Users\biocbuild\bbs-3.7-bioc\R\bin\R.exe CMD INSTALL SpeCond_1.34.0.zip && rm SpeCond_1.34.0.tar.gz SpeCond_1.34.0.zip |
| StartedAt: 2018-10-16 18:41:16 -0400 (Tue, 16 Oct 2018) |
| EndedAt: 2018-10-16 18:42:33 -0400 (Tue, 16 Oct 2018) |
| EllapsedTime: 77.1 seconds |
| RetCode: 0 |
| Status: OK |
##############################################################################
##############################################################################
###
### Running command:
###
### C:\cygwin\bin\curl.exe -O https://malbec2.bioconductor.org/BBS/3.7/bioc/src/contrib/SpeCond_1.34.0.tar.gz && rm -rf SpeCond.buildbin-libdir && mkdir SpeCond.buildbin-libdir && C:\Users\biocbuild\bbs-3.7-bioc\R\bin\R.exe CMD INSTALL --merge-multiarch --build --library=SpeCond.buildbin-libdir SpeCond_1.34.0.tar.gz && C:\Users\biocbuild\bbs-3.7-bioc\R\bin\R.exe CMD INSTALL SpeCond_1.34.0.zip && rm SpeCond_1.34.0.tar.gz SpeCond_1.34.0.zip
###
##############################################################################
##############################################################################
% Total % Received % Xferd Average Speed Time Time Time Current
Dload Upload Total Spent Left Speed
0 0 0 0 0 0 0 0 --:--:-- --:--:-- --:--:-- 0
100 1098k 100 1098k 0 0 14.7M 0 --:--:-- --:--:-- --:--:-- 16.2M
install for i386
* installing *source* package 'SpeCond' ...
** R
** data
** byte-compile and prepare package for lazy loading
** help
*** installing help indices
converting help for package 'SpeCond'
finding HTML links ... done
SpeCond html
createParameterMatrix html
expSetSpeCondExample html
expressionSpeCondExample html
fitNoPriorWithExclusion html
fitPrior html
getDefaultParameter html
getFullHtmlSpeCondResult html
getGeneHtmlPage html
getMatrixFromExpressionSet html
getProfile html
getSpecificOutliersStep1 html
getSpecificResult html
simulatedSpeCondData html
writeGeneResult html
writeSpeCondResult html
writeUniqueProfileSpecificResult html
** building package indices
** installing vignettes
** testing if installed package can be loaded
In R CMD INSTALL
install for x64
* installing *source* package 'SpeCond' ...
** testing if installed package can be loaded
* MD5 sums
packaged installation of 'SpeCond' as SpeCond_1.34.0.zip
* DONE (SpeCond)
In R CMD INSTALL
In R CMD INSTALL
* installing to library 'C:/Users/biocbuild/bbs-3.7-bioc/R/library'
package 'SpeCond' successfully unpacked and MD5 sums checked
In R CMD INSTALL