| Back to Multiple platform build/check report for BioC 3.7 |
|
This page was generated on 2018-10-17 08:44:12 -0400 (Wed, 17 Oct 2018).
| Package 1381/1561 | Hostname | OS / Arch | INSTALL | BUILD | CHECK | BUILD BIN | ||||||
| SingleCellExperiment 1.2.0 Davide Risso
| malbec2 | Linux (Ubuntu 16.04.1 LTS) / x86_64 | OK | OK | OK | |||||||
| tokay2 | Windows Server 2012 R2 Standard / x64 | [ OK ] | OK | OK | OK | |||||||
| merida2 | OS X 10.11.6 El Capitan / x86_64 | OK | OK | OK | OK |
| Package: SingleCellExperiment |
| Version: 1.2.0 |
| Command: C:\cygwin\bin\curl.exe -O https://malbec2.bioconductor.org/BBS/3.7/bioc/src/contrib/SingleCellExperiment_1.2.0.tar.gz && rm -rf SingleCellExperiment.buildbin-libdir && mkdir SingleCellExperiment.buildbin-libdir && C:\Users\biocbuild\bbs-3.7-bioc\R\bin\R.exe CMD INSTALL --merge-multiarch --build --library=SingleCellExperiment.buildbin-libdir SingleCellExperiment_1.2.0.tar.gz && C:\Users\biocbuild\bbs-3.7-bioc\R\bin\R.exe CMD INSTALL SingleCellExperiment_1.2.0.zip && rm SingleCellExperiment_1.2.0.tar.gz SingleCellExperiment_1.2.0.zip |
| StartedAt: 2018-10-16 19:36:51 -0400 (Tue, 16 Oct 2018) |
| EndedAt: 2018-10-16 19:37:30 -0400 (Tue, 16 Oct 2018) |
| EllapsedTime: 39.5 seconds |
| RetCode: 0 |
| Status: OK |
##############################################################################
##############################################################################
###
### Running command:
###
### C:\cygwin\bin\curl.exe -O https://malbec2.bioconductor.org/BBS/3.7/bioc/src/contrib/SingleCellExperiment_1.2.0.tar.gz && rm -rf SingleCellExperiment.buildbin-libdir && mkdir SingleCellExperiment.buildbin-libdir && C:\Users\biocbuild\bbs-3.7-bioc\R\bin\R.exe CMD INSTALL --merge-multiarch --build --library=SingleCellExperiment.buildbin-libdir SingleCellExperiment_1.2.0.tar.gz && C:\Users\biocbuild\bbs-3.7-bioc\R\bin\R.exe CMD INSTALL SingleCellExperiment_1.2.0.zip && rm SingleCellExperiment_1.2.0.tar.gz SingleCellExperiment_1.2.0.zip
###
##############################################################################
##############################################################################
% Total % Received % Xferd Average Speed Time Time Time Current
Dload Upload Total Spent Left Speed
0 0 0 0 0 0 0 0 --:--:-- --:--:-- --:--:-- 0
0 0 0 0 0 0 0 0 --:--:-- --:--:-- --:--:-- 0
100 29677 100 29677 0 0 412k 0 --:--:-- --:--:-- --:--:-- 445k
install for i386
* installing *source* package 'SingleCellExperiment' ...
** R
** inst
** byte-compile and prepare package for lazy loading
** help
*** installing help indices
converting help for package 'SingleCellExperiment'
finding HTML links ... done
LEM-combine html
LEM-getset html
LEM-misc html
LEM-subset html
LinearEmbeddingMatrix html
SCE-combine html
SCE-misc html
finding level-2 HTML links ... done
SCE-subset html
SingleCellExperiment html
isSpike html
namedAssays html
reducedDims html
sizeFactors html
** building package indices
** installing vignettes
** testing if installed package can be loaded
In R CMD INSTALL
install for x64
* installing *source* package 'SingleCellExperiment' ...
** testing if installed package can be loaded
* MD5 sums
packaged installation of 'SingleCellExperiment' as SingleCellExperiment_1.2.0.zip
* DONE (SingleCellExperiment)
In R CMD INSTALL
In R CMD INSTALL
* installing to library 'C:/Users/biocbuild/bbs-3.7-bioc/R/library'
package 'SingleCellExperiment' successfully unpacked and MD5 sums checked
In R CMD INSTALL