| Back to Multiple platform build/check report for BioC 3.7 |
|
This page was generated on 2018-10-17 08:34:37 -0400 (Wed, 17 Oct 2018).
| Package 1311/1561 | Hostname | OS / Arch | INSTALL | BUILD | CHECK | BUILD BIN | ||||||
| SamSPECTRAL 1.34.0 Habil Zare
| malbec2 | Linux (Ubuntu 16.04.1 LTS) / x86_64 | OK | OK | WARNINGS | |||||||
| tokay2 | Windows Server 2012 R2 Standard / x64 | [ OK ] | OK | WARNINGS | OK | |||||||
| merida2 | OS X 10.11.6 El Capitan / x86_64 | OK | OK | WARNINGS | OK |
| Package: SamSPECTRAL |
| Version: 1.34.0 |
| Command: C:\cygwin\bin\curl.exe -O https://malbec2.bioconductor.org/BBS/3.7/bioc/src/contrib/SamSPECTRAL_1.34.0.tar.gz && rm -rf SamSPECTRAL.buildbin-libdir && mkdir SamSPECTRAL.buildbin-libdir && C:\Users\biocbuild\bbs-3.7-bioc\R\bin\R.exe CMD INSTALL --merge-multiarch --build --library=SamSPECTRAL.buildbin-libdir SamSPECTRAL_1.34.0.tar.gz && C:\Users\biocbuild\bbs-3.7-bioc\R\bin\R.exe CMD INSTALL SamSPECTRAL_1.34.0.zip && rm SamSPECTRAL_1.34.0.tar.gz SamSPECTRAL_1.34.0.zip |
| StartedAt: 2018-10-16 18:35:06 -0400 (Tue, 16 Oct 2018) |
| EndedAt: 2018-10-16 18:35:43 -0400 (Tue, 16 Oct 2018) |
| EllapsedTime: 37.5 seconds |
| RetCode: 0 |
| Status: OK |
##############################################################################
##############################################################################
###
### Running command:
###
### C:\cygwin\bin\curl.exe -O https://malbec2.bioconductor.org/BBS/3.7/bioc/src/contrib/SamSPECTRAL_1.34.0.tar.gz && rm -rf SamSPECTRAL.buildbin-libdir && mkdir SamSPECTRAL.buildbin-libdir && C:\Users\biocbuild\bbs-3.7-bioc\R\bin\R.exe CMD INSTALL --merge-multiarch --build --library=SamSPECTRAL.buildbin-libdir SamSPECTRAL_1.34.0.tar.gz && C:\Users\biocbuild\bbs-3.7-bioc\R\bin\R.exe CMD INSTALL SamSPECTRAL_1.34.0.zip && rm SamSPECTRAL_1.34.0.tar.gz SamSPECTRAL_1.34.0.zip
###
##############################################################################
##############################################################################
% Total % Received % Xferd Average Speed Time Time Time Current
Dload Upload Total Spent Left Speed
0 0 0 0 0 0 0 0 --:--:-- --:--:-- --:--:-- 0
100 443k 100 443k 0 0 8488k 0 --:--:-- --:--:-- --:--:-- 9856k
install for i386
* installing *source* package 'SamSPECTRAL' ...
** libs
C:/Rtools/mingw_32/bin/gcc -I"C:/Users/BIOCBU˜1/BBS-3˜1.7-B/R/include" -DNDEBUG -I"C:/extsoft/include" -O3 -Wall -std=gnu99 -mtune=generic -c Rinit.c -o Rinit.o
C:/Rtools/mingw_32/bin/gcc -I"C:/Users/BIOCBU˜1/BBS-3˜1.7-B/R/include" -DNDEBUG -I"C:/extsoft/include" -O3 -Wall -std=gnu99 -mtune=generic -c conductance_computation.c -o conductance_computation.o
conductance_computation.c: In function 'conductance_computation':
conductance_computation.c:155:17: warning: variable 'repres_ind' set but not used [-Wunused-but-set-variable]
int *density, *repres_ind;
^
conductance_computation.c:155:7: warning: variable 'density' set but not used [-Wunused-but-set-variable]
int *density, *repres_ind;
^
C:/Rtools/mingw_32/bin/gcc -I"C:/Users/BIOCBU˜1/BBS-3˜1.7-B/R/include" -DNDEBUG -I"C:/extsoft/include" -O3 -Wall -std=gnu99 -mtune=generic -c maximum_of_rows.c -o maximum_of_rows.o
C:/Rtools/mingw_32/bin/gcc -shared -s -static-libgcc -o SamSPECTRAL.dll tmp.def Rinit.o conductance_computation.o maximum_of_rows.o -LC:/extsoft/lib/i386 -LC:/extsoft/lib -LC:/Users/BIOCBU˜1/BBS-3˜1.7-B/R/bin/i386 -lR
installing to C:/Users/biocbuild/bbs-3.7-bioc/meat/SamSPECTRAL.buildbin-libdir/SamSPECTRAL/libs/i386
** R
** data
** inst
** byte-compile and prepare package for lazy loading
** help
*** installing help indices
converting help for package 'SamSPECTRAL'
finding HTML links ... done
Building_Communities html
Civilized_Spectral_Clustering html
Conductance_Calculation html
Connecting html
SamSPECTRAL-package html
SamSPECTRAL html
check.SamSPECTRAL.input html
eigen.values.10 html
eigen.values.1000 html
kneepointDetection html
small html
stmFSC html
** building package indices
** installing vignettes
** testing if installed package can be loaded
In R CMD INSTALL
install for x64
* installing *source* package 'SamSPECTRAL' ...
** libs
C:/Rtools/mingw_64/bin/gcc -I"C:/Users/BIOCBU˜1/BBS-3˜1.7-B/R/include" -DNDEBUG -I"C:/extsoft/include" -O2 -Wall -std=gnu99 -mtune=generic -c Rinit.c -o Rinit.o
C:/Rtools/mingw_64/bin/gcc -I"C:/Users/BIOCBU˜1/BBS-3˜1.7-B/R/include" -DNDEBUG -I"C:/extsoft/include" -O2 -Wall -std=gnu99 -mtune=generic -c conductance_computation.c -o conductance_computation.o
conductance_computation.c: In function 'conductance_computation':
conductance_computation.c:155:17: warning: variable 'repres_ind' set but not used [-Wunused-but-set-variable]
int *density, *repres_ind;
^
conductance_computation.c:155:7: warning: variable 'density' set but not used [-Wunused-but-set-variable]
int *density, *repres_ind;
^
C:/Rtools/mingw_64/bin/gcc -I"C:/Users/BIOCBU˜1/BBS-3˜1.7-B/R/include" -DNDEBUG -I"C:/extsoft/include" -O2 -Wall -std=gnu99 -mtune=generic -c maximum_of_rows.c -o maximum_of_rows.o
C:/Rtools/mingw_64/bin/gcc -shared -s -static-libgcc -o SamSPECTRAL.dll tmp.def Rinit.o conductance_computation.o maximum_of_rows.o -LC:/extsoft/lib/x64 -LC:/extsoft/lib -LC:/Users/BIOCBU˜1/BBS-3˜1.7-B/R/bin/x64 -lR
installing to C:/Users/biocbuild/bbs-3.7-bioc/meat/SamSPECTRAL.buildbin-libdir/SamSPECTRAL/libs/x64
** testing if installed package can be loaded
* MD5 sums
packaged installation of 'SamSPECTRAL' as SamSPECTRAL_1.34.0.zip
* DONE (SamSPECTRAL)
In R CMD INSTALL
In R CMD INSTALL
* installing to library 'C:/Users/biocbuild/bbs-3.7-bioc/R/library'
package 'SamSPECTRAL' successfully unpacked and MD5 sums checked
In R CMD INSTALL