| Back to Multiple platform build/check report for BioC 3.7 | 
 | 
This page was generated on 2018-10-17 08:42:23 -0400 (Wed, 17 Oct 2018).
| Package 1425/1561 | Hostname | OS / Arch | INSTALL | BUILD | CHECK | BUILD BIN | ||||||
| SRGnet 1.6.0 Isar Nassiri 
 | malbec2 | Linux (Ubuntu 16.04.1 LTS) / x86_64 | OK | OK | OK |  | ||||||
| tokay2 | Windows Server 2012 R2 Standard / x64 | [ OK ] | OK | OK | OK |  | ||||||
| merida2 | OS X 10.11.6 El Capitan / x86_64 | OK | OK | OK | OK |  | 
| Package: SRGnet | 
| Version: 1.6.0 | 
| Command: C:\cygwin\bin\curl.exe -O https://malbec2.bioconductor.org/BBS/3.7/bioc/src/contrib/SRGnet_1.6.0.tar.gz && rm -rf SRGnet.buildbin-libdir && mkdir SRGnet.buildbin-libdir && C:\Users\biocbuild\bbs-3.7-bioc\R\bin\R.exe CMD INSTALL --merge-multiarch --build --library=SRGnet.buildbin-libdir SRGnet_1.6.0.tar.gz && C:\Users\biocbuild\bbs-3.7-bioc\R\bin\R.exe CMD INSTALL SRGnet_1.6.0.zip && rm SRGnet_1.6.0.tar.gz SRGnet_1.6.0.zip | 
| StartedAt: 2018-10-16 20:22:50 -0400 (Tue, 16 Oct 2018) | 
| EndedAt: 2018-10-16 20:23:24 -0400 (Tue, 16 Oct 2018) | 
| EllapsedTime: 34.5 seconds | 
| RetCode: 0 | 
| Status: OK | 
##############################################################################
##############################################################################
###
### Running command:
###
###   C:\cygwin\bin\curl.exe -O https://malbec2.bioconductor.org/BBS/3.7/bioc/src/contrib/SRGnet_1.6.0.tar.gz && rm -rf SRGnet.buildbin-libdir && mkdir SRGnet.buildbin-libdir && C:\Users\biocbuild\bbs-3.7-bioc\R\bin\R.exe CMD INSTALL --merge-multiarch --build --library=SRGnet.buildbin-libdir SRGnet_1.6.0.tar.gz && C:\Users\biocbuild\bbs-3.7-bioc\R\bin\R.exe CMD INSTALL SRGnet_1.6.0.zip && rm SRGnet_1.6.0.tar.gz SRGnet_1.6.0.zip
###
##############################################################################
##############################################################################
  % Total    % Received % Xferd  Average Speed   Time    Time     Time  Current
                                 Dload  Upload   Total   Spent    Left  Speed
  0     0    0     0    0     0      0      0 --:--:-- --:--:-- --:--:--     0
100  158k  100  158k    0     0  2750k      0 --:--:-- --:--:-- --:--:-- 3109k
install for i386
* installing *source* package 'SRGnet' ...
** R
** data
*** moving datasets to lazyload DB
** byte-compile and prepare package for lazy loading
** help
*** installing help indices
  converting help for package 'SRGnet'
    finding HTML links ... done
    Differentially_expressed_genes          html  
    PLCRG                                   html  
    SRGnet                                  html  
    Transcriptomics                         html  
** building package indices
** installing vignettes
** testing if installed package can be loaded
In R CMD INSTALL
install for x64
* installing *source* package 'SRGnet' ...
** testing if installed package can be loaded
* MD5 sums
packaged installation of 'SRGnet' as SRGnet_1.6.0.zip
* DONE (SRGnet)
In R CMD INSTALL
In R CMD INSTALL
* installing to library 'C:/Users/biocbuild/bbs-3.7-bioc/R/library'
package 'SRGnet' successfully unpacked and MD5 sums checked
In R CMD INSTALL