| Back to Multiple platform build/check report for BioC 3.7 |
|
This page was generated on 2018-10-17 08:34:44 -0400 (Wed, 17 Oct 2018).
| Package 1423/1561 | Hostname | OS / Arch | INSTALL | BUILD | CHECK | BUILD BIN | ||||||
| SRAdb 1.42.2 Jack Zhu
| malbec2 | Linux (Ubuntu 16.04.1 LTS) / x86_64 | OK | OK | OK | |||||||
| tokay2 | Windows Server 2012 R2 Standard / x64 | [ OK ] | OK | OK | OK | |||||||
| merida2 | OS X 10.11.6 El Capitan / x86_64 | OK | OK | OK | OK |
| Package: SRAdb |
| Version: 1.42.2 |
| Command: C:\cygwin\bin\curl.exe -O https://malbec2.bioconductor.org/BBS/3.7/bioc/src/contrib/SRAdb_1.42.2.tar.gz && rm -rf SRAdb.buildbin-libdir && mkdir SRAdb.buildbin-libdir && C:\Users\biocbuild\bbs-3.7-bioc\R\bin\R.exe CMD INSTALL --merge-multiarch --build --library=SRAdb.buildbin-libdir SRAdb_1.42.2.tar.gz && C:\Users\biocbuild\bbs-3.7-bioc\R\bin\R.exe CMD INSTALL SRAdb_1.42.2.zip && rm SRAdb_1.42.2.tar.gz SRAdb_1.42.2.zip |
| StartedAt: 2018-10-16 19:03:08 -0400 (Tue, 16 Oct 2018) |
| EndedAt: 2018-10-16 19:04:56 -0400 (Tue, 16 Oct 2018) |
| EllapsedTime: 108.0 seconds |
| RetCode: 0 |
| Status: OK |
##############################################################################
##############################################################################
###
### Running command:
###
### C:\cygwin\bin\curl.exe -O https://malbec2.bioconductor.org/BBS/3.7/bioc/src/contrib/SRAdb_1.42.2.tar.gz && rm -rf SRAdb.buildbin-libdir && mkdir SRAdb.buildbin-libdir && C:\Users\biocbuild\bbs-3.7-bioc\R\bin\R.exe CMD INSTALL --merge-multiarch --build --library=SRAdb.buildbin-libdir SRAdb_1.42.2.tar.gz && C:\Users\biocbuild\bbs-3.7-bioc\R\bin\R.exe CMD INSTALL SRAdb_1.42.2.zip && rm SRAdb_1.42.2.tar.gz SRAdb_1.42.2.zip
###
##############################################################################
##############################################################################
% Total % Received % Xferd Average Speed Time Time Time Current
Dload Upload Total Spent Left Speed
0 0 0 0 0 0 0 0 --:--:-- --:--:-- --:--:-- 0
100 552k 100 552k 0 0 8992k 0 --:--:-- --:--:-- --:--:-- 9.8M
install for i386
* installing *source* package 'SRAdb' ...
** R
** inst
** byte-compile and prepare package for lazy loading
** help
*** installing help indices
converting help for package 'SRAdb'
finding HTML links ... done
IGVclear html
IGVcollapse html
IGVgenome html
IGVgoto html
IGVload html
IGVsession html
IGVsnapshot html
IGVsocket html
IGVsort html
SRAdb-package html
ascpR html
ascpSRA html
colDescriptions html
entityGraph html
getFASTQfile html
getFASTQinfo html
getSRA html
getSRAdbFile html
getSRAfile html
getSRAinfo html
listSRAfile html
sraConvert html
sraGraph html
startIGV html
** building package indices
** installing vignettes
** testing if installed package can be loaded
In R CMD INSTALL
install for x64
* installing *source* package 'SRAdb' ...
** testing if installed package can be loaded
* MD5 sums
packaged installation of 'SRAdb' as SRAdb_1.42.2.zip
* DONE (SRAdb)
In R CMD INSTALL
In R CMD INSTALL
* installing to library 'C:/Users/biocbuild/bbs-3.7-bioc/R/library'
package 'SRAdb' successfully unpacked and MD5 sums checked
In R CMD INSTALL