| Back to Multiple platform build/check report for BioC 3.7 |
|
This page was generated on 2018-10-17 08:44:26 -0400 (Wed, 17 Oct 2018).
| Package 1420/1561 | Hostname | OS / Arch | INSTALL | BUILD | CHECK | BUILD BIN | ||||||
| SPONGE 1.2.0 Markus List
| malbec2 | Linux (Ubuntu 16.04.1 LTS) / x86_64 | OK | OK | OK | |||||||
| tokay2 | Windows Server 2012 R2 Standard / x64 | OK | OK | OK | [ OK ] | |||||||
| merida2 | OS X 10.11.6 El Capitan / x86_64 | OK | OK | OK | OK |
| Package: SPONGE |
| Version: 1.2.0 |
| Command: rm -rf SPONGE.buildbin-libdir && mkdir SPONGE.buildbin-libdir && C:\Users\biocbuild\bbs-3.7-bioc\R\bin\R.exe CMD INSTALL --merge-multiarch --build --library=SPONGE.buildbin-libdir SPONGE_1.2.0.tar.gz |
| StartedAt: 2018-10-17 07:02:03 -0400 (Wed, 17 Oct 2018) |
| EndedAt: 2018-10-17 07:02:26 -0400 (Wed, 17 Oct 2018) |
| EllapsedTime: 22.2 seconds |
| RetCode: 0 |
| Status: OK |
| PackageFile: SPONGE_1.2.0.zip |
| PackageFileSize: 8.36 MiB |
##############################################################################
##############################################################################
###
### Running command:
###
### rm -rf SPONGE.buildbin-libdir && mkdir SPONGE.buildbin-libdir && C:\Users\biocbuild\bbs-3.7-bioc\R\bin\R.exe CMD INSTALL --merge-multiarch --build --library=SPONGE.buildbin-libdir SPONGE_1.2.0.tar.gz
###
##############################################################################
##############################################################################
install for i386
* installing *source* package 'SPONGE' ...
** R
** data
*** moving datasets to lazyload DB
** inst
** byte-compile and prepare package for lazy loading
** help
*** installing help indices
converting help for package 'SPONGE'
finding HTML links ... done
ceRNA_interactions html
check_and_convert_expression_data html
fn_elasticnet html
fn_gene_miRNA_F_test html
fn_get_model_coef html
fn_get_rss html
fn_get_shared_miRNAs html
gene_expr html
genes_pairwise_combinations html
mir_expr html
mir_interactions html
mircode_ensg html
mircode_symbol html
precomputed_cov_matrices html
precomputed_null_model html
sample_zero_mscor_cov html
sample_zero_mscor_data html
sponge html
sponge_build_null_model html
sponge_compute_p_values html
sponge_edge_centralities html
sponge_gene_miRNA_interaction_filter html
sponge_network html
sponge_node_centralities html
sponge_plot_network html
sponge_plot_network_centralities html
sponge_plot_simulation_results html
sponge_run_benchmark html
sponge_subsampling html
targetscan_ensg html
targetscan_symbol html
** building package indices
** installing vignettes
** testing if installed package can be loaded
In R CMD INSTALL
install for x64
* installing *source* package 'SPONGE' ...
** testing if installed package can be loaded
* MD5 sums
packaged installation of 'SPONGE' as SPONGE_1.2.0.zip
* DONE (SPONGE)
In R CMD INSTALL
In R CMD INSTALL