| Back to Multiple platform build/check report for BioC 3.7 |
|
This page was generated on 2018-10-17 08:22:16 -0400 (Wed, 17 Oct 2018).
| Package 1388/1561 | Hostname | OS / Arch | INSTALL | BUILD | CHECK | BUILD BIN | ||||||
| SLGI 1.40.0 Nolwenn Le Meur
| malbec2 | Linux (Ubuntu 16.04.1 LTS) / x86_64 | OK | OK | [ OK ] | |||||||
| tokay2 | Windows Server 2012 R2 Standard / x64 | OK | OK | OK | OK | |||||||
| merida2 | OS X 10.11.6 El Capitan / x86_64 | OK | OK | OK | OK |
| Package: SLGI |
| Version: 1.40.0 |
| Command: /home/biocbuild/bbs-3.7-bioc/R/bin/R CMD check --install=check:SLGI.install-out.txt --library=/home/biocbuild/bbs-3.7-bioc/R/library --no-vignettes --timings SLGI_1.40.0.tar.gz |
| StartedAt: 2018-10-16 03:50:24 -0400 (Tue, 16 Oct 2018) |
| EndedAt: 2018-10-16 03:53:03 -0400 (Tue, 16 Oct 2018) |
| EllapsedTime: 158.8 seconds |
| RetCode: 0 |
| Status: OK |
| CheckDir: SLGI.Rcheck |
| Warnings: 0 |
##############################################################################
##############################################################################
###
### Running command:
###
### /home/biocbuild/bbs-3.7-bioc/R/bin/R CMD check --install=check:SLGI.install-out.txt --library=/home/biocbuild/bbs-3.7-bioc/R/library --no-vignettes --timings SLGI_1.40.0.tar.gz
###
##############################################################################
##############################################################################
* using log directory ‘/home/biocbuild/bbs-3.7-bioc/meat/SLGI.Rcheck’
* using R version 3.5.1 Patched (2018-07-12 r74967)
* using platform: x86_64-pc-linux-gnu (64-bit)
* using session charset: UTF-8
* using option ‘--no-vignettes’
* checking for file ‘SLGI/DESCRIPTION’ ... OK
* this is package ‘SLGI’ version ‘1.40.0’
* checking package namespace information ... OK
* checking package dependencies ... OK
* checking if this is a source package ... OK
* checking if there is a namespace ... OK
* checking for hidden files and directories ... OK
* checking for portable file names ... OK
* checking for sufficient/correct file permissions ... OK
* checking whether package ‘SLGI’ can be installed ... OK
* checking installed package size ... NOTE
installed size is 15.8Mb
sub-directories of 1Mb or more:
data 4.2Mb
extdata 11.3Mb
* checking package directory ... OK
* checking ‘build’ directory ... OK
* checking DESCRIPTION meta-information ... NOTE
Malformed Description field: should contain one or more complete sentences.
Packages listed in more than one of Depends, Imports, Suggests, Enhances:
‘ScISI’ ‘lattice’ ‘GO.db’
A package should be listed in only one of these fields.
* checking top-level files ... OK
* checking for left-over files ... OK
* checking index information ... OK
* checking package subdirectories ... OK
* checking R files for non-ASCII characters ... OK
* checking R files for syntax errors ... OK
* checking whether the package can be loaded ... OK
* checking whether the package can be loaded with stated dependencies ... OK
* checking whether the package can be unloaded cleanly ... OK
* checking whether the namespace can be loaded with stated dependencies ... OK
* checking whether the namespace can be unloaded cleanly ... OK
* checking dependencies in R code ... NOTE
'library' or 'require' call to ‘GO.db’ in package code.
Please use :: or requireNamespace() instead.
See section 'Suggested packages' in the 'Writing R Extensions' manual.
* checking S3 generic/method consistency ... OK
* checking replacement functions ... OK
* checking foreign function calls ... OK
* checking R code for possible problems ... OK
* checking Rd files ... OK
* checking Rd metadata ... OK
* checking Rd cross-references ... OK
* checking for missing documentation entries ... OK
* checking for code/documentation mismatches ... OK
* checking Rd \usage sections ... OK
* checking Rd contents ... OK
* checking for unstated dependencies in examples ... OK
* checking contents of ‘data’ directory ... OK
* checking data for non-ASCII characters ... OK
* checking data for ASCII and uncompressed saves ... OK
* checking files in ‘vignettes’ ... OK
* checking examples ... OK
Examples with CPU or elapsed time > 5s
user system elapsed
iSummary 14.584 0.080 14.675
siResult-class 9.664 0.056 9.727
compare 8.724 0.072 8.801
modelSLGI 8.664 0.048 8.718
plot 7.772 0.000 7.781
* checking for unstated dependencies in vignettes ... OK
* checking package vignettes in ‘inst/doc’ ... OK
* checking running R code from vignettes ... SKIPPED
* checking re-building of vignette outputs ... SKIPPED
* checking PDF version of manual ... OK
* DONE
Status: 3 NOTEs
See
‘/home/biocbuild/bbs-3.7-bioc/meat/SLGI.Rcheck/00check.log’
for details.
SLGI.Rcheck/00install.out
############################################################################## ############################################################################## ### ### Running command: ### ### /home/biocbuild/bbs-3.7-bioc/R/bin/R CMD INSTALL SLGI ### ############################################################################## ############################################################################## * installing to library ‘/home/biocbuild/bbs-3.7-bioc/R/library’ * installing *source* package ‘SLGI’ ... ** R ** data ** inst ** byte-compile and prepare package for lazy loading No methods found in package ‘Biobase’ for request: ‘listlen’ when loading ‘RpsiXML’ No methods found in package ‘annotate’ for requests: ‘pubmed’, ‘buildPubMedAbst’ when loading ‘RpsiXML’ No methods found in package ‘BiocGenerics’ for request: ‘plot’ when loading ‘SLGI’ ** help *** installing help indices ** building package indices ** installing vignettes ** testing if installed package can be loaded No methods found in package ‘Biobase’ for request: ‘listlen’ when loading ‘RpsiXML’ No methods found in package ‘annotate’ for requests: ‘pubmed’, ‘buildPubMedAbst’ when loading ‘RpsiXML’ No methods found in package ‘BiocGenerics’ for request: ‘plot’ when loading ‘SLGI’ * DONE (SLGI)
SLGI.Rcheck/SLGI-Ex.timings
| name | user | system | elapsed | |
| Atong | 0.032 | 0.000 | 0.035 | |
| AtongFnDomain | 2.732 | 0.044 | 2.776 | |
| AtongPair | 0.128 | 0.008 | 0.136 | |
| SDL | 0.388 | 0.004 | 0.395 | |
| SGA | 0.000 | 0.004 | 0.006 | |
| SGD.SL | 0.112 | 0.004 | 0.115 | |
| TFmat | 0.060 | 0.008 | 0.067 | |
| byComplex | 0.148 | 0.012 | 0.159 | |
| comemberIn | 0.496 | 0.024 | 0.517 | |
| compare | 8.724 | 0.072 | 8.801 | |
| congruence | 0.000 | 0.000 | 0.002 | |
| createSquareMatrix | 0.052 | 0.012 | 0.065 | |
| domainDist | 1.792 | 0.028 | 1.820 | |
| essglist | 0.008 | 0.000 | 0.008 | |
| getInteraction | 0.004 | 0.000 | 0.002 | |
| getSharedDomains | 0.012 | 0.000 | 0.011 | |
| getSharedInteraction | 0.004 | 0.000 | 0.001 | |
| getTestedPairs | 0.008 | 0.000 | 0.010 | |
| getUniquePairs | 0.008 | 0.004 | 0.014 | |
| gi2005 | 0.040 | 0.004 | 0.042 | |
| gi2007 | 0.228 | 0.004 | 0.232 | |
| gi2Interactome | 0.004 | 0.000 | 0.001 | |
| hyperG | 0.004 | 0.000 | 0.006 | |
| iSummary | 14.584 | 0.080 | 14.675 | |
| modelSLGI | 8.664 | 0.048 | 8.718 | |
| normInteraction | 3.996 | 0.000 | 3.999 | |
| plot | 7.772 | 0.000 | 7.781 | |
| seqMatcherAlign | 0.000 | 0.000 | 0.001 | |
| sharedBy | 1.764 | 0.028 | 1.794 | |
| sharedInt | 0.000 | 0.000 | 0.003 | |
| siResult-class | 9.664 | 0.056 | 9.727 | |
| test2Interact | 0.004 | 0.000 | 0.003 | |
| topInteraction | 4.304 | 0.004 | 4.312 | |
| twoWayTable | 2.616 | 0.028 | 2.642 | |
| withinComplex | 0.444 | 0.008 | 0.453 | |