| Back to Multiple platform build/check report for BioC 3.7 |
|
This page was generated on 2018-10-17 08:41:13 -0400 (Wed, 17 Oct 2018).
| Package 1384/1561 | Hostname | OS / Arch | INSTALL | BUILD | CHECK | BUILD BIN | ||||||
| SISPA 1.10.0 Bhakti Dwivedi
| malbec2 | Linux (Ubuntu 16.04.1 LTS) / x86_64 | OK | OK | WARNINGS | |||||||
| tokay2 | Windows Server 2012 R2 Standard / x64 | [ OK ] | OK | WARNINGS | OK | |||||||
| merida2 | OS X 10.11.6 El Capitan / x86_64 | OK | OK | WARNINGS | OK |
| Package: SISPA |
| Version: 1.10.0 |
| Command: C:\cygwin\bin\curl.exe -O https://malbec2.bioconductor.org/BBS/3.7/bioc/src/contrib/SISPA_1.10.0.tar.gz && rm -rf SISPA.buildbin-libdir && mkdir SISPA.buildbin-libdir && C:\Users\biocbuild\bbs-3.7-bioc\R\bin\R.exe CMD INSTALL --merge-multiarch --build --library=SISPA.buildbin-libdir SISPA_1.10.0.tar.gz && C:\Users\biocbuild\bbs-3.7-bioc\R\bin\R.exe CMD INSTALL SISPA_1.10.0.zip && rm SISPA_1.10.0.tar.gz SISPA_1.10.0.zip |
| StartedAt: 2018-10-16 19:12:35 -0400 (Tue, 16 Oct 2018) |
| EndedAt: 2018-10-16 19:13:16 -0400 (Tue, 16 Oct 2018) |
| EllapsedTime: 41.5 seconds |
| RetCode: 0 |
| Status: OK |
##############################################################################
##############################################################################
###
### Running command:
###
### C:\cygwin\bin\curl.exe -O https://malbec2.bioconductor.org/BBS/3.7/bioc/src/contrib/SISPA_1.10.0.tar.gz && rm -rf SISPA.buildbin-libdir && mkdir SISPA.buildbin-libdir && C:\Users\biocbuild\bbs-3.7-bioc\R\bin\R.exe CMD INSTALL --merge-multiarch --build --library=SISPA.buildbin-libdir SISPA_1.10.0.tar.gz && C:\Users\biocbuild\bbs-3.7-bioc\R\bin\R.exe CMD INSTALL SISPA_1.10.0.zip && rm SISPA_1.10.0.tar.gz SISPA_1.10.0.zip
###
##############################################################################
##############################################################################
% Total % Received % Xferd Average Speed Time Time Time Current
Dload Upload Total Spent Left Speed
0 0 0 0 0 0 0 0 --:--:-- --:--:-- --:--:-- 0
100 612k 100 612k 0 0 9282k 0 --:--:-- --:--:-- --:--:-- 10.3M
install for i386
* installing *source* package 'SISPA' ...
** R
** data
*** moving datasets to lazyload DB
** byte-compile and prepare package for lazy loading
** help
*** installing help indices
converting help for package 'SISPA'
finding HTML links ... done
SISPA html
callGSVA html
callZSCORE html
cptSamples html
expression_data html
filterVars html
freqplot html
sortData html
variant_data html
waterfallplot html
** building package indices
** installing vignettes
** testing if installed package can be loaded
In R CMD INSTALL
install for x64
* installing *source* package 'SISPA' ...
** testing if installed package can be loaded
* MD5 sums
packaged installation of 'SISPA' as SISPA_1.10.0.zip
* DONE (SISPA)
In R CMD INSTALL
In R CMD INSTALL
* installing to library 'C:/Users/biocbuild/bbs-3.7-bioc/R/library'
package 'SISPA' successfully unpacked and MD5 sums checked
In R CMD INSTALL