| Back to Multiple platform build/check report for BioC 3.7 |
|
This page was generated on 2018-10-17 08:40:43 -0400 (Wed, 17 Oct 2018).
| Package 1340/1561 | Hostname | OS / Arch | INSTALL | BUILD | CHECK | BUILD BIN | ||||||
| SEPA 1.10.0 Zhicheng Ji
| malbec2 | Linux (Ubuntu 16.04.1 LTS) / x86_64 | OK | OK | OK | |||||||
| tokay2 | Windows Server 2012 R2 Standard / x64 | OK | OK | OK | [ OK ] | |||||||
| merida2 | OS X 10.11.6 El Capitan / x86_64 | OK | OK | OK | OK |
| Package: SEPA |
| Version: 1.10.0 |
| Command: rm -rf SEPA.buildbin-libdir && mkdir SEPA.buildbin-libdir && C:\Users\biocbuild\bbs-3.7-bioc\R\bin\R.exe CMD INSTALL --merge-multiarch --build --library=SEPA.buildbin-libdir SEPA_1.10.0.tar.gz |
| StartedAt: 2018-10-17 06:58:33 -0400 (Wed, 17 Oct 2018) |
| EndedAt: 2018-10-17 06:58:49 -0400 (Wed, 17 Oct 2018) |
| EllapsedTime: 15.7 seconds |
| RetCode: 0 |
| Status: OK |
| PackageFile: SEPA_1.10.0.zip |
| PackageFileSize: 915.3 KiB |
##############################################################################
##############################################################################
###
### Running command:
###
### rm -rf SEPA.buildbin-libdir && mkdir SEPA.buildbin-libdir && C:\Users\biocbuild\bbs-3.7-bioc\R\bin\R.exe CMD INSTALL --merge-multiarch --build --library=SEPA.buildbin-libdir SEPA_1.10.0.tar.gz
###
##############################################################################
##############################################################################
install for i386
* installing *source* package 'SEPA' ...
** R
** data
** inst
** byte-compile and prepare package for lazy loading
** help
*** installing help indices
converting help for package 'SEPA'
finding HTML links ... done
HSMMdata html
SEPA html
SEPAui html
patternGOanalysis html
patternsummary html
pseudotime html
pseudotimepattern html
pseudotimevisualize html
truetime html
truetimepattern html
truetimevisualize html
windowGOanalysis html
windowGOvisualize html
** building package indices
** installing vignettes
** testing if installed package can be loaded
In R CMD INSTALL
install for x64
* installing *source* package 'SEPA' ...
** testing if installed package can be loaded
* MD5 sums
packaged installation of 'SEPA' as SEPA_1.10.0.zip
* DONE (SEPA)
In R CMD INSTALL
In R CMD INSTALL