| Back to Multiple platform build/check report for BioC 3.7 |
|
This page was generated on 2018-10-17 08:27:14 -0400 (Wed, 17 Oct 2018).
| Package 1337/1561 | Hostname | OS / Arch | INSTALL | BUILD | CHECK | BUILD BIN | ||||||
| SELEX 1.12.0 Harmen Bussemaker
| malbec2 | Linux (Ubuntu 16.04.1 LTS) / x86_64 | OK | OK | [ OK ] | |||||||
| tokay2 | Windows Server 2012 R2 Standard / x64 | OK | OK | OK | OK | |||||||
| merida2 | OS X 10.11.6 El Capitan / x86_64 | OK | OK | OK | OK |
| Package: SELEX |
| Version: 1.12.0 |
| Command: /home/biocbuild/bbs-3.7-bioc/R/bin/R CMD check --install=check:SELEX.install-out.txt --library=/home/biocbuild/bbs-3.7-bioc/R/library --no-vignettes --timings SELEX_1.12.0.tar.gz |
| StartedAt: 2018-10-16 03:38:18 -0400 (Tue, 16 Oct 2018) |
| EndedAt: 2018-10-16 03:39:41 -0400 (Tue, 16 Oct 2018) |
| EllapsedTime: 83.6 seconds |
| RetCode: 0 |
| Status: OK |
| CheckDir: SELEX.Rcheck |
| Warnings: 0 |
##############################################################################
##############################################################################
###
### Running command:
###
### /home/biocbuild/bbs-3.7-bioc/R/bin/R CMD check --install=check:SELEX.install-out.txt --library=/home/biocbuild/bbs-3.7-bioc/R/library --no-vignettes --timings SELEX_1.12.0.tar.gz
###
##############################################################################
##############################################################################
* using log directory ‘/home/biocbuild/bbs-3.7-bioc/meat/SELEX.Rcheck’
* using R version 3.5.1 Patched (2018-07-12 r74967)
* using platform: x86_64-pc-linux-gnu (64-bit)
* using session charset: UTF-8
* using option ‘--no-vignettes’
* checking for file ‘SELEX/DESCRIPTION’ ... OK
* this is package ‘SELEX’ version ‘1.12.0’
* checking package namespace information ... OK
* checking package dependencies ... OK
* checking if this is a source package ... OK
* checking if there is a namespace ... OK
* checking for hidden files and directories ... OK
* checking for portable file names ... OK
* checking for sufficient/correct file permissions ... OK
* checking whether package ‘SELEX’ can be installed ... OK
* checking installed package size ... OK
* checking package directory ... OK
* checking ‘build’ directory ... OK
* checking DESCRIPTION meta-information ... NOTE
Malformed Description field: should contain one or more complete sentences.
* checking top-level files ... OK
* checking for left-over files ... OK
* checking index information ... OK
* checking package subdirectories ... OK
* checking R files for non-ASCII characters ... OK
* checking R files for syntax errors ... OK
* checking whether the package can be loaded ... OK
* checking whether the package can be loaded with stated dependencies ... OK
* checking whether the package can be unloaded cleanly ... OK
* checking whether the namespace can be loaded with stated dependencies ... OK
* checking whether the namespace can be unloaded cleanly ... OK
* checking dependencies in R code ... OK
* checking S3 generic/method consistency ... OK
* checking replacement functions ... OK
* checking foreign function calls ... OK
* checking R code for possible problems ... NOTE
selex.config: no visible global function definition for ‘read.table’
selex.config: no visible global function definition for ‘write.table’
selex.counts: no visible global function definition for ‘flush.console’
selex.infogain: no visible global function definition for
‘flush.console’
selex.kmax: no visible global function definition for ‘flush.console’
selex.loadCountTable: no visible global function definition for
‘flush.console’
selex.mm: no visible global function definition for ‘flush.console’
selex.revcomp: no visible global function definition for
‘complete.cases’
Undefined global functions or variables:
complete.cases flush.console read.table write.table
Consider adding
importFrom("stats", "complete.cases")
importFrom("utils", "flush.console", "read.table", "write.table")
to your NAMESPACE file.
* checking Rd files ... OK
* checking Rd metadata ... OK
* checking Rd cross-references ... OK
* checking for missing documentation entries ... OK
* checking for code/documentation mismatches ... OK
* checking Rd \usage sections ... OK
* checking Rd contents ... OK
* checking for unstated dependencies in examples ... OK
* checking line endings in Makefiles ... OK
* checking for GNU extensions in Makefiles ... OK
* checking include directives in Makefiles ... OK
* checking files in ‘vignettes’ ... OK
* checking examples ... OK
Examples with CPU or elapsed time > 5s
user system elapsed
SELEX 28.704 2.788 10.669
selex.seqfilter 10.532 0.476 3.506
* checking for unstated dependencies in vignettes ... OK
* checking package vignettes in ‘inst/doc’ ... OK
* checking running R code from vignettes ... SKIPPED
* checking re-building of vignette outputs ... SKIPPED
* checking PDF version of manual ... OK
* DONE
Status: 2 NOTEs
See
‘/home/biocbuild/bbs-3.7-bioc/meat/SELEX.Rcheck/00check.log’
for details.
SELEX.Rcheck/00install.out
############################################################################## ############################################################################## ### ### Running command: ### ### /home/biocbuild/bbs-3.7-bioc/R/bin/R CMD INSTALL SELEX ### ############################################################################## ############################################################################## * installing to library ‘/home/biocbuild/bbs-3.7-bioc/R/library’ * installing *source* package ‘SELEX’ ... ** R ** inst ** byte-compile and prepare package for lazy loading ** help *** installing help indices ** building package indices ** installing vignettes ** testing if installed package can be loaded * DONE (SELEX)
SELEX.Rcheck/SELEX-Ex.timings
| name | user | system | elapsed | |
| SELEX | 28.704 | 2.788 | 10.669 | |
| selex.affinities | 0.956 | 0.180 | 0.624 | |
| selex.config | 0.212 | 0.048 | 0.115 | |
| selex.countSummary | 0.916 | 0.204 | 0.605 | |
| selex.counts | 1.300 | 0.216 | 0.756 | |
| selex.defineSample | 0.196 | 0.032 | 0.102 | |
| selex.exampledata | 0.212 | 0.032 | 0.098 | |
| selex.fastqPSFM | 1.180 | 0.052 | 0.531 | |
| selex.getAttributes | 0.488 | 0.052 | 0.152 | |
| selex.getRound0 | 0.136 | 0.068 | 0.167 | |
| selex.getSeqfilter | 0.252 | 0.032 | 0.090 | |
| selex.infogain | 2.264 | 0.444 | 1.222 | |
| selex.infogainSummary | 0.412 | 0.144 | 0.460 | |
| selex.jvmStatus | 0.064 | 0.040 | 0.096 | |
| selex.kmax | 0.916 | 0.372 | 1.019 | |
| selex.kmerPSFM | 0.804 | 0.136 | 0.455 | |
| selex.loadAnnotation | 0.496 | 0.076 | 0.265 | |
| selex.mm | 0.400 | 0.148 | 0.430 | |
| selex.mmProb | 0.420 | 0.140 | 0.446 | |
| selex.mmSummary | 0.412 | 0.120 | 0.468 | |
| selex.revcomp | 0.500 | 0.152 | 0.561 | |
| selex.run | 2.120 | 0.360 | 1.085 | |
| selex.sample | 0.276 | 0.052 | 0.161 | |
| selex.samplePSFM | 0.480 | 0.064 | 0.297 | |
| selex.sampleSummary | 0.236 | 0.044 | 0.160 | |
| selex.saveAnnotation | 0.056 | 0.068 | 0.123 | |
| selex.seqfilter | 10.532 | 0.476 | 3.506 | |
| selex.setwd | 0.072 | 0.040 | 0.082 | |
| selex.split | 0.776 | 0.144 | 0.476 | |
| selex.summary | 0.956 | 0.332 | 1.034 | |