| Back to Multiple platform build/check report for BioC 3.7 |
|
This page was generated on 2018-10-17 08:44:17 -0400 (Wed, 17 Oct 2018).
| Package 1328/1561 | Hostname | OS / Arch | INSTALL | BUILD | CHECK | BUILD BIN | ||||||
| SCnorm 1.2.1 Rhonda Bacher
| malbec2 | Linux (Ubuntu 16.04.1 LTS) / x86_64 | OK | OK | OK | |||||||
| tokay2 | Windows Server 2012 R2 Standard / x64 | [ OK ] | OK | OK | OK | |||||||
| merida2 | OS X 10.11.6 El Capitan / x86_64 | OK | OK | OK | OK |
| Package: SCnorm |
| Version: 1.2.1 |
| Command: C:\cygwin\bin\curl.exe -O https://malbec2.bioconductor.org/BBS/3.7/bioc/src/contrib/SCnorm_1.2.1.tar.gz && rm -rf SCnorm.buildbin-libdir && mkdir SCnorm.buildbin-libdir && C:\Users\biocbuild\bbs-3.7-bioc\R\bin\R.exe CMD INSTALL --merge-multiarch --build --library=SCnorm.buildbin-libdir SCnorm_1.2.1.tar.gz && C:\Users\biocbuild\bbs-3.7-bioc\R\bin\R.exe CMD INSTALL SCnorm_1.2.1.zip && rm SCnorm_1.2.1.tar.gz SCnorm_1.2.1.zip |
| StartedAt: 2018-10-16 19:37:52 -0400 (Tue, 16 Oct 2018) |
| EndedAt: 2018-10-16 19:38:34 -0400 (Tue, 16 Oct 2018) |
| EllapsedTime: 42.8 seconds |
| RetCode: 0 |
| Status: OK |
##############################################################################
##############################################################################
###
### Running command:
###
### C:\cygwin\bin\curl.exe -O https://malbec2.bioconductor.org/BBS/3.7/bioc/src/contrib/SCnorm_1.2.1.tar.gz && rm -rf SCnorm.buildbin-libdir && mkdir SCnorm.buildbin-libdir && C:\Users\biocbuild\bbs-3.7-bioc\R\bin\R.exe CMD INSTALL --merge-multiarch --build --library=SCnorm.buildbin-libdir SCnorm_1.2.1.tar.gz && C:\Users\biocbuild\bbs-3.7-bioc\R\bin\R.exe CMD INSTALL SCnorm_1.2.1.zip && rm SCnorm_1.2.1.tar.gz SCnorm_1.2.1.zip
###
##############################################################################
##############################################################################
% Total % Received % Xferd Average Speed Time Time Time Current
Dload Upload Total Spent Left Speed
0 0 0 0 0 0 0 0 --:--:-- --:--:-- --:--:-- 0
100 2712k 100 2712k 0 0 23.8M 0 --:--:-- --:--:-- --:--:-- 25.4M
install for i386
* installing *source* package 'SCnorm' ...
** R
** data
*** moving datasets to lazyload DB
** inst
** byte-compile and prepare package for lazy loading
** help
*** installing help indices
converting help for package 'SCnorm'
finding HTML links ... done
ExampleSimSCData html
GetTD html
SCnorm html
SCnormFit html
correctWithin html
evaluateK html
generateEvalPlot html
getCounts html
getDens html
getSlopes html
normWrapper html
plotCountDepth html
plotWithinFactor html
quickReg html
redoBox html
results html
scaleNormMultCont html
splitGroups html
** building package indices
** installing vignettes
** testing if installed package can be loaded
In R CMD INSTALL
install for x64
* installing *source* package 'SCnorm' ...
** testing if installed package can be loaded
* MD5 sums
packaged installation of 'SCnorm' as SCnorm_1.2.1.zip
* DONE (SCnorm)
In R CMD INSTALL
In R CMD INSTALL
* installing to library 'C:/Users/biocbuild/bbs-3.7-bioc/R/library'
package 'SCnorm' successfully unpacked and MD5 sums checked
In R CMD INSTALL