| Back to Multiple platform build/check report for BioC 3.7 |
|
This page was generated on 2018-10-17 08:24:58 -0400 (Wed, 17 Oct 2018).
| Package 1313/1561 | Hostname | OS / Arch | INSTALL | BUILD | CHECK | BUILD BIN | ||||||
| SANTA 2.18.0 Alex J. Cornish
| malbec2 | Linux (Ubuntu 16.04.1 LTS) / x86_64 | [ OK ] | OK | WARNINGS | |||||||
| tokay2 | Windows Server 2012 R2 Standard / x64 | OK | OK | WARNINGS | OK | |||||||
| merida2 | OS X 10.11.6 El Capitan / x86_64 | OK | OK | WARNINGS | OK |
| Package: SANTA |
| Version: 2.18.0 |
| Command: /home/biocbuild/bbs-3.7-bioc/R/bin/R CMD INSTALL SANTA |
| StartedAt: 2018-10-15 18:00:52 -0400 (Mon, 15 Oct 2018) |
| EndedAt: 2018-10-15 18:00:56 -0400 (Mon, 15 Oct 2018) |
| EllapsedTime: 4.3 seconds |
| RetCode: 0 |
| Status: OK |
##############################################################################
##############################################################################
###
### Running command:
###
### /home/biocbuild/bbs-3.7-bioc/R/bin/R CMD INSTALL SANTA
###
##############################################################################
##############################################################################
* installing to library ‘/home/biocbuild/bbs-3.7-bioc/R/library’
* installing *source* package ‘SANTA’ ...
** libs
gcc -I"/home/biocbuild/bbs-3.7-bioc/R/include" -DNDEBUG -I/usr/local/include -fpic -g -O2 -Wall -c computenetK_fewzeros.c -o computenetK_fewzeros.o
gcc -I"/home/biocbuild/bbs-3.7-bioc/R/include" -DNDEBUG -I/usr/local/include -fpic -g -O2 -Wall -c computenetK_manyzeros.c -o computenetK_manyzeros.o
computenetK_manyzeros.c: In function ‘computenetK_manyzeros’:
computenetK_manyzeros.c:29:24: warning: assignment from incompatible pointer type [-Wincompatible-pointer-types]
p_which_vw_nonzero = R_alloc(n_nonzero_vertices, sizeof(int));
^
gcc -I"/home/biocbuild/bbs-3.7-bioc/R/include" -DNDEBUG -I/usr/local/include -fpic -g -O2 -Wall -c computenodeAUK.c -o computenodeAUK.o
gcc -I"/home/biocbuild/bbs-3.7-bioc/R/include" -DNDEBUG -I/usr/local/include -fpic -g -O2 -Wall -c computeweights.c -o computeweights.o
gcc -shared -L/home/biocbuild/bbs-3.7-bioc/R/lib -L/usr/local/lib -o SANTA.so computenetK_fewzeros.o computenetK_manyzeros.o computenodeAUK.o computeweights.o -L/home/biocbuild/bbs-3.7-bioc/R/lib -lR
installing to /home/biocbuild/bbs-3.7-bioc/R/library/SANTA/libs
** R
** data
** inst
** byte-compile and prepare package for lazy loading
** help
*** installing help indices
** building package indices
** installing vignettes
** testing if installed package can be loaded
* DONE (SANTA)