| Back to Multiple platform build/check report for BioC 3.7 |
|
This page was generated on 2018-10-17 08:40:30 -0400 (Wed, 17 Oct 2018).
| Package 1263/1561 | Hostname | OS / Arch | INSTALL | BUILD | CHECK | BUILD BIN | ||||||
| RnBeads 1.12.1 Fabian Mueller
| malbec2 | Linux (Ubuntu 16.04.1 LTS) / x86_64 | OK | OK | OK | |||||||
| tokay2 | Windows Server 2012 R2 Standard / x64 | OK | [ OK ] | OK | OK | |||||||
| merida2 | OS X 10.11.6 El Capitan / x86_64 | OK | OK | OK | OK |
| Package: RnBeads |
| Version: 1.12.1 |
| Command: chmod a+r RnBeads -R && C:\Users\biocbuild\bbs-3.7-bioc\R\bin\R.exe CMD build --keep-empty-dirs --no-resave-data RnBeads |
| StartedAt: 2018-10-16 22:43:50 -0400 (Tue, 16 Oct 2018) |
| EndedAt: 2018-10-16 22:47:06 -0400 (Tue, 16 Oct 2018) |
| EllapsedTime: 195.9 seconds |
| RetCode: 0 |
| Status: OK |
| PackageFile: RnBeads_1.12.1.tar.gz |
| PackageFileSize: 6.226 MiB |
##############################################################################
##############################################################################
###
### Running command:
###
### chmod a+r RnBeads -R && C:\Users\biocbuild\bbs-3.7-bioc\R\bin\R.exe CMD build --keep-empty-dirs --no-resave-data RnBeads
###
##############################################################################
##############################################################################
* checking for file 'RnBeads/DESCRIPTION' ... OK
* preparing 'RnBeads':
* checking DESCRIPTION meta-information ... OK
* installing the package to build vignettes
* creating vignettes ... OK
Warning: 'inst/doc' file
'RnBeads_Annotations.R'
ignored as vignettes have been rebuilt.
Run R CMD build with --no-build-vignettes to prevent rebuilding.
* checking for LF line-endings in source and make files and shell scripts
* checking for empty or unneeded directories
* looking to see if a 'data/datalist' file should be added
* building 'RnBeads_1.12.1.tar.gz'