| Back to Multiple platform build/check report for BioC 3.7 |
|
This page was generated on 2018-10-17 08:50:51 -0400 (Wed, 17 Oct 2018).
| Package 1246/1561 | Hostname | OS / Arch | INSTALL | BUILD | CHECK | BUILD BIN | ||||||
| Risa 1.22.0 Alejandra Gonzalez-Beltran
| malbec2 | Linux (Ubuntu 16.04.1 LTS) / x86_64 | OK | OK | OK | |||||||
| tokay2 | Windows Server 2012 R2 Standard / x64 | OK | OK | OK | OK | |||||||
| merida2 | OS X 10.11.6 El Capitan / x86_64 | OK | OK | [ OK ] | OK |
| Package: Risa |
| Version: 1.22.0 |
| Command: /Library/Frameworks/R.framework/Versions/Current/Resources/bin/R CMD check --install=check:Risa.install-out.txt --library=/Library/Frameworks/R.framework/Versions/Current/Resources/library --no-vignettes --timings Risa_1.22.0.tar.gz |
| StartedAt: 2018-10-16 23:42:56 -0400 (Tue, 16 Oct 2018) |
| EndedAt: 2018-10-16 23:46:38 -0400 (Tue, 16 Oct 2018) |
| EllapsedTime: 221.4 seconds |
| RetCode: 0 |
| Status: OK |
| CheckDir: Risa.Rcheck |
| Warnings: 0 |
##############################################################################
##############################################################################
###
### Running command:
###
### /Library/Frameworks/R.framework/Versions/Current/Resources/bin/R CMD check --install=check:Risa.install-out.txt --library=/Library/Frameworks/R.framework/Versions/Current/Resources/library --no-vignettes --timings Risa_1.22.0.tar.gz
###
##############################################################################
##############################################################################
* using log directory ‘/Users/biocbuild/bbs-3.7-bioc/meat/Risa.Rcheck’
* using R version 3.5.1 Patched (2018-07-12 r74967)
* using platform: x86_64-apple-darwin15.6.0 (64-bit)
* using session charset: UTF-8
* using option ‘--no-vignettes’
* checking for file ‘Risa/DESCRIPTION’ ... OK
* this is package ‘Risa’ version ‘1.22.0’
* checking package namespace information ... OK
* checking package dependencies ... OK
* checking if this is a source package ... OK
* checking if there is a namespace ... OK
* checking for hidden files and directories ... OK
* checking for portable file names ... OK
* checking for sufficient/correct file permissions ... OK
* checking whether package ‘Risa’ can be installed ... OK
* checking installed package size ... OK
* checking package directory ... OK
* checking ‘build’ directory ... OK
* checking DESCRIPTION meta-information ... OK
* checking top-level files ... OK
* checking for left-over files ... OK
* checking index information ... OK
* checking package subdirectories ... OK
* checking R files for non-ASCII characters ... OK
* checking R files for syntax errors ... OK
* checking whether the package can be loaded ... OK
* checking whether the package can be loaded with stated dependencies ... OK
* checking whether the package can be unloaded cleanly ... OK
* checking whether the namespace can be loaded with stated dependencies ... OK
* checking whether the namespace can be unloaded cleanly ... OK
* checking dependencies in R code ... OK
* checking S3 generic/method consistency ... OK
* checking replacement functions ... OK
* checking foreign function calls ... OK
* checking R code for possible problems ... NOTE
getPackagesInBiocView: no visible global function definition for ‘data’
readISAtabZip: no visible global function definition for ‘unzip’
suggestBiocPackage: no visible global function definition for
‘read.csv’
write.assay.file: no visible global function definition for
‘write.table’
write.investigation.file: no visible global function definition for
‘write.table’
write.study.file: no visible global function definition for
‘write.table’
initialize,ISATab: no visible global function definition for
‘count.fields’
initialize,ISATab: no visible global function definition for
‘read.table’
initialize,ISATab : <anonymous>: no visible global function definition
for ‘read.table’
initialize,ISATab : <anonymous> : <anonymous>: no visible global
function definition for ‘read.table’
initialize,ISATab: no visible global function definition for ‘na.omit’
Undefined global functions or variables:
count.fields data na.omit read.csv read.table unzip write.table
Consider adding
importFrom("stats", "na.omit")
importFrom("utils", "count.fields", "data", "read.csv", "read.table",
"unzip", "write.table")
to your NAMESPACE file.
* checking Rd files ... OK
* checking Rd metadata ... OK
* checking Rd cross-references ... OK
* checking for missing documentation entries ... OK
* checking for code/documentation mismatches ... OK
* checking Rd \usage sections ... OK
* checking Rd contents ... OK
* checking for unstated dependencies in examples ... OK
* checking sizes of PDF files under ‘inst/doc’ ... OK
* checking files in ‘vignettes’ ... OK
* checking examples ... OK
Examples with CPU or elapsed time > 5s
user system elapsed
readISAtab 58.651 6.668 0.412
processAssayXcmsSet.1factor 53.598 6.984 15.618
processAssayXcmsSet 0.175 0.079 16.682
* checking for unstated dependencies in vignettes ... OK
* checking package vignettes in ‘inst/doc’ ... OK
* checking running R code from vignettes ... SKIPPED
* checking re-building of vignette outputs ... SKIPPED
* checking PDF version of manual ... OK
* DONE
Status: 1 NOTE
See
‘/Users/biocbuild/bbs-3.7-bioc/meat/Risa.Rcheck/00check.log’
for details.
Risa.Rcheck/00install.out
############################################################################## ############################################################################## ### ### Running command: ### ### /Library/Frameworks/R.framework/Versions/Current/Resources/bin/R CMD INSTALL Risa ### ############################################################################## ############################################################################## * installing to library ‘/Library/Frameworks/R.framework/Versions/3.5/Resources/library’ * installing *source* package ‘Risa’ ... ** R ** inst ** byte-compile and prepare package for lazy loading ** help *** installing help indices ** building package indices ** installing vignettes ** testing if installed package can be loaded * DONE (Risa)
Risa.Rcheck/Risa-Ex.timings
| name | user | system | elapsed | |
| AssayTab-class | 0.008 | 0.001 | 0.008 | |
| ISAtab-class | 0.003 | 0.000 | 0.003 | |
| Risa-package | 0.534 | 0.199 | 0.808 | |
| getAnnotatedDataFrameAssay | 0.182 | 0.029 | 0.217 | |
| getExpressionSet | 0.088 | 0.020 | 0.111 | |
| getMIAMEMetadata | 0.118 | 0.019 | 0.139 | |
| getMSAssayFilenames | 0.028 | 0.002 | 0.031 | |
| getMicroarrayAssayFilenames | 0.073 | 0.017 | 0.092 | |
| getStudyFilename | 0.026 | 0.001 | 0.027 | |
| isMSAssay | 0.033 | 0.001 | 0.034 | |
| isMicroarrayAssay | 0.082 | 0.017 | 0.102 | |
| processAssayXcmsSet.1factor | 53.598 | 6.984 | 15.618 | |
| processAssayXcmsSet | 0.175 | 0.079 | 16.682 | |
| readISAtab | 58.651 | 6.668 | 0.412 | |
| updateAssayMetadata | 0.129 | 0.026 | 0.159 | |
| write.assay.file | 0.047 | 0.006 | 0.053 | |
| write.investigation.file | 0.049 | 0.006 | 0.057 | |
| write.isatab | 0.055 | 0.007 | 0.061 | |
| write.study.file | 0.045 | 0.004 | 0.050 | |