| Back to Multiple platform build/check report for BioC 3.7 |
|
This page was generated on 2018-10-17 08:44:19 -0400 (Wed, 17 Oct 2018).
| Package 1303/1561 | Hostname | OS / Arch | INSTALL | BUILD | CHECK | BUILD BIN | ||||||
| RVS 1.2.1 Thomas Sherman
| malbec2 | Linux (Ubuntu 16.04.1 LTS) / x86_64 | OK | OK | OK | |||||||
| tokay2 | Windows Server 2012 R2 Standard / x64 | [ OK ] | OK | OK | OK | |||||||
| merida2 | OS X 10.11.6 El Capitan / x86_64 | OK | OK | OK | OK |
| Package: RVS |
| Version: 1.2.1 |
| Command: C:\cygwin\bin\curl.exe -O https://malbec2.bioconductor.org/BBS/3.7/bioc/src/contrib/RVS_1.2.1.tar.gz && rm -rf RVS.buildbin-libdir && mkdir RVS.buildbin-libdir && C:\Users\biocbuild\bbs-3.7-bioc\R\bin\R.exe CMD INSTALL --merge-multiarch --build --library=RVS.buildbin-libdir RVS_1.2.1.tar.gz && C:\Users\biocbuild\bbs-3.7-bioc\R\bin\R.exe CMD INSTALL RVS_1.2.1.zip && rm RVS_1.2.1.tar.gz RVS_1.2.1.zip |
| StartedAt: 2018-10-16 20:18:10 -0400 (Tue, 16 Oct 2018) |
| EndedAt: 2018-10-16 20:19:20 -0400 (Tue, 16 Oct 2018) |
| EllapsedTime: 69.9 seconds |
| RetCode: 0 |
| Status: OK |
##############################################################################
##############################################################################
###
### Running command:
###
### C:\cygwin\bin\curl.exe -O https://malbec2.bioconductor.org/BBS/3.7/bioc/src/contrib/RVS_1.2.1.tar.gz && rm -rf RVS.buildbin-libdir && mkdir RVS.buildbin-libdir && C:\Users\biocbuild\bbs-3.7-bioc\R\bin\R.exe CMD INSTALL --merge-multiarch --build --library=RVS.buildbin-libdir RVS_1.2.1.tar.gz && C:\Users\biocbuild\bbs-3.7-bioc\R\bin\R.exe CMD INSTALL RVS_1.2.1.zip && rm RVS_1.2.1.tar.gz RVS_1.2.1.zip
###
##############################################################################
##############################################################################
% Total % Received % Xferd Average Speed Time Time Time Current
Dload Upload Total Spent Left Speed
0 0 0 0 0 0 0 0 --:--:-- --:--:-- --:--:-- 0
5 298k 5 16384 0 0 224k 0 0:00:01 --:--:-- 0:00:01 250k
100 298k 100 298k 0 0 4002k 0 --:--:-- --:--:-- --:--:-- 4390k
install for i386
* installing *source* package 'RVS' ...
** R
** data
** inst
** byte-compile and prepare package for lazy loading
** help
*** installing help indices
converting help for package 'RVS'
finding HTML links ... done
ComputeKinshipPropCoef-methods html
GeneDrop html
RVS html
RVgene html
RVsharing-methods html
SnpMatrixToCount html
ancestorDistance html
areMating html
checkArgs html
computePFU html
computePhiVec html
convertMatrix html
createNetwork html
denomProb html
enrichmentPValue html
ex.ped.mat html
exactSharingProb html
extract_carriers html
fam15157.vcf html
fam28003.vcf html
get.psubset html
inferNumAlleles html
inferTheta html
isDescendant html
marginalProb html
monteCarloSharingProb html
multipleFamilyPValue html
multipleVariantPValue html
numerProb html
oldArgs html
oneFounderSharingProb html
ped2trio html
processPedigree-methods html
relatedFoundersCorrection html
runMonteCarlo html
samplePedigrees html
simulatePedigree html
snpMat html
twoFounderSharingProb html
** building package indices
** installing vignettes
** testing if installed package can be loaded
In R CMD INSTALL
install for x64
* installing *source* package 'RVS' ...
** testing if installed package can be loaded
* MD5 sums
packaged installation of 'RVS' as RVS_1.2.1.zip
* DONE (RVS)
In R CMD INSTALL
In R CMD INSTALL
* installing to library 'C:/Users/biocbuild/bbs-3.7-bioc/R/library'
package 'RVS' successfully unpacked and MD5 sums checked
In R CMD INSTALL