| Back to Multiple platform build/check report for BioC 3.7 |
|
This page was generated on 2018-10-17 08:37:32 -0400 (Wed, 17 Oct 2018).
| Package 1291/1561 | Hostname | OS / Arch | INSTALL | BUILD | CHECK | BUILD BIN | ||||||
| RTN 2.4.6 Mauro Castro
| malbec2 | Linux (Ubuntu 16.04.1 LTS) / x86_64 | OK | OK | OK | |||||||
| tokay2 | Windows Server 2012 R2 Standard / x64 | [ OK ] | OK | OK | OK | |||||||
| merida2 | OS X 10.11.6 El Capitan / x86_64 | OK | OK | OK | OK |
| Package: RTN |
| Version: 2.4.6 |
| Command: C:\cygwin\bin\curl.exe -O https://malbec2.bioconductor.org/BBS/3.7/bioc/src/contrib/RTN_2.4.6.tar.gz && rm -rf RTN.buildbin-libdir && mkdir RTN.buildbin-libdir && C:\Users\biocbuild\bbs-3.7-bioc\R\bin\R.exe CMD INSTALL --merge-multiarch --build --library=RTN.buildbin-libdir RTN_2.4.6.tar.gz && C:\Users\biocbuild\bbs-3.7-bioc\R\bin\R.exe CMD INSTALL RTN_2.4.6.zip && rm RTN_2.4.6.tar.gz RTN_2.4.6.zip |
| StartedAt: 2018-10-16 19:17:46 -0400 (Tue, 16 Oct 2018) |
| EndedAt: 2018-10-16 19:18:54 -0400 (Tue, 16 Oct 2018) |
| EllapsedTime: 68.4 seconds |
| RetCode: 0 |
| Status: OK |
##############################################################################
##############################################################################
###
### Running command:
###
### C:\cygwin\bin\curl.exe -O https://malbec2.bioconductor.org/BBS/3.7/bioc/src/contrib/RTN_2.4.6.tar.gz && rm -rf RTN.buildbin-libdir && mkdir RTN.buildbin-libdir && C:\Users\biocbuild\bbs-3.7-bioc\R\bin\R.exe CMD INSTALL --merge-multiarch --build --library=RTN.buildbin-libdir RTN_2.4.6.tar.gz && C:\Users\biocbuild\bbs-3.7-bioc\R\bin\R.exe CMD INSTALL RTN_2.4.6.zip && rm RTN_2.4.6.tar.gz RTN_2.4.6.zip
###
##############################################################################
##############################################################################
% Total % Received % Xferd Average Speed Time Time Time Current
Dload Upload Total Spent Left Speed
0 0 0 0 0 0 0 0 --:--:-- --:--:-- --:--:-- 0
100 8541k 100 8541k 0 0 50.2M 0 --:--:-- --:--:-- --:--:-- 52.4M
install for i386
* installing *source* package 'RTN' ...
** R
** data
** inst
** byte-compile and prepare package for lazy loading
** help
*** installing help indices
converting help for package 'RTN'
finding HTML links ... done
AVS-class html
RTN-package html
RTN.data html
TNA-class html
TNI-class html
TNI.data html
avs.evse html
avs.get html
avs.pevse html
avs.plot1 html
avs.plot2 html
avs.preprocess.LD1000gRel20130502 html
avs.preprocess.LDHapMapRel27 html
avs.vse html
tna.get html
tna.graph html
tna.gsea1 html
tna.gsea2 html
tna.mra html
tna.overlap html
tna.plot.gsea1 html
tna.plot.gsea2 html
tna.shadow html
tna.synergy html
tni.area3 html
finding level-2 HTML links ... done
tni.bootstrap html
tni.conditional html
tni.constructor html
tni.dpi.filter html
tni.get html
tni.graph html
tni.gsea2 html
tni.permutation html
tni.preprocess html
tni2tna.preprocess html
upgradeTNA html
upgradeTNI html
** building package indices
** installing vignettes
** testing if installed package can be loaded
In R CMD INSTALL
install for x64
* installing *source* package 'RTN' ...
** testing if installed package can be loaded
* MD5 sums
packaged installation of 'RTN' as RTN_2.4.6.zip
* DONE (RTN)
In R CMD INSTALL
In R CMD INSTALL
* installing to library 'C:/Users/biocbuild/bbs-3.7-bioc/R/library'
package 'RTN' successfully unpacked and MD5 sums checked
In R CMD INSTALL