| Back to Multiple platform build/check report for BioC 3.7 |
|
This page was generated on 2018-10-17 08:31:38 -0400 (Wed, 17 Oct 2018).
| Package 1255/1561 | Hostname | OS / Arch | INSTALL | BUILD | CHECK | BUILD BIN | ||||||
| RNAdecay 1.0.2 Reed Sorenson
| malbec2 | Linux (Ubuntu 16.04.1 LTS) / x86_64 | [ OK ] | OK | OK | |||||||
| tokay2 | Windows Server 2012 R2 Standard / x64 | OK | OK | OK | OK | |||||||
| merida2 | OS X 10.11.6 El Capitan / x86_64 | OK | OK | OK | OK |
| Package: RNAdecay |
| Version: 1.0.2 |
| Command: /home/biocbuild/bbs-3.7-bioc/R/bin/R CMD INSTALL RNAdecay |
| StartedAt: 2018-10-15 18:06:24 -0400 (Mon, 15 Oct 2018) |
| EndedAt: 2018-10-15 18:10:11 -0400 (Mon, 15 Oct 2018) |
| EllapsedTime: 227.1 seconds |
| RetCode: 0 |
| Status: OK |
##############################################################################
##############################################################################
###
### Running command:
###
### /home/biocbuild/bbs-3.7-bioc/R/bin/R CMD INSTALL RNAdecay
###
##############################################################################
##############################################################################
* installing to library ‘/home/biocbuild/bbs-3.7-bioc/R/library’
* installing *source* package ‘RNAdecay’ ...
** libs
** arch -
/home/biocbuild/bbs-3.7-bioc/R/bin/Rscript --vanilla -e "TMB::compile('general_dExp_1sse.cpp',safebounds=FALSE,safeunload=FALSE)"
make[1]: Entering directory '/home/biocbuild/bbs-3.7-bioc/meat/RNAdecay/src'
g++ -I"/home/biocbuild/bbs-3.7-bioc/R/include" -DNDEBUG -I/home/biocbuild/bbs-3.7-bioc/R/library/TMB/include -I/home/biocbuild/bbs-3.7-bioc/R/library/RcppEigen/include -DTMB_LIB_INIT=R_init_general_dExp_1sse -I/usr/local/include -fpic -g -O2 -Wall -c general_dExp_1sse.cpp -o general_dExp_1sse.o
g++ -shared -L/home/biocbuild/bbs-3.7-bioc/R/lib -L/usr/local/lib -o general_dExp_1sse.so general_dExp_1sse.o -L/home/biocbuild/bbs-3.7-bioc/R/lib -lR
make[1]: Leaving directory '/home/biocbuild/bbs-3.7-bioc/meat/RNAdecay/src'
[1] 0
/home/biocbuild/bbs-3.7-bioc/R/bin/Rscript --vanilla -e "TMB::compile('general_Exp_1sse.cpp',safebounds=FALSE,safeunload=FALSE)"
make[1]: Entering directory '/home/biocbuild/bbs-3.7-bioc/meat/RNAdecay/src'
g++ -I"/home/biocbuild/bbs-3.7-bioc/R/include" -DNDEBUG -I/home/biocbuild/bbs-3.7-bioc/R/library/TMB/include -I/home/biocbuild/bbs-3.7-bioc/R/library/RcppEigen/include -DTMB_LIB_INIT=R_init_general_Exp_1sse -I/usr/local/include -fpic -g -O2 -Wall -c general_Exp_1sse.cpp -o general_Exp_1sse.o
g++ -shared -L/home/biocbuild/bbs-3.7-bioc/R/lib -L/usr/local/lib -o general_Exp_1sse.so general_Exp_1sse.o -L/home/biocbuild/bbs-3.7-bioc/R/lib -lR
make[1]: Leaving directory '/home/biocbuild/bbs-3.7-bioc/meat/RNAdecay/src'
[1] 0
/home/biocbuild/bbs-3.7-bioc/R/bin/Rscript --vanilla -e "TMB::compile('general_dExp_2sse.cpp',safebounds=FALSE,safeunload=FALSE)"
make[1]: Entering directory '/home/biocbuild/bbs-3.7-bioc/meat/RNAdecay/src'
g++ -I"/home/biocbuild/bbs-3.7-bioc/R/include" -DNDEBUG -I/home/biocbuild/bbs-3.7-bioc/R/library/TMB/include -I/home/biocbuild/bbs-3.7-bioc/R/library/RcppEigen/include -DTMB_LIB_INIT=R_init_general_dExp_2sse -I/usr/local/include -fpic -g -O2 -Wall -c general_dExp_2sse.cpp -o general_dExp_2sse.o
g++ -shared -L/home/biocbuild/bbs-3.7-bioc/R/lib -L/usr/local/lib -o general_dExp_2sse.so general_dExp_2sse.o -L/home/biocbuild/bbs-3.7-bioc/R/lib -lR
make[1]: Leaving directory '/home/biocbuild/bbs-3.7-bioc/meat/RNAdecay/src'
[1] 0
/home/biocbuild/bbs-3.7-bioc/R/bin/Rscript --vanilla -e "TMB::compile('general_Exp_2sse.cpp',safebounds=FALSE,safeunload=FALSE)"
make[1]: Entering directory '/home/biocbuild/bbs-3.7-bioc/meat/RNAdecay/src'
g++ -I"/home/biocbuild/bbs-3.7-bioc/R/include" -DNDEBUG -I/home/biocbuild/bbs-3.7-bioc/R/library/TMB/include -I/home/biocbuild/bbs-3.7-bioc/R/library/RcppEigen/include -DTMB_LIB_INIT=R_init_general_Exp_2sse -I/usr/local/include -fpic -g -O2 -Wall -c general_Exp_2sse.cpp -o general_Exp_2sse.o
g++ -shared -L/home/biocbuild/bbs-3.7-bioc/R/lib -L/usr/local/lib -o general_Exp_2sse.so general_Exp_2sse.o -L/home/biocbuild/bbs-3.7-bioc/R/lib -lR
make[1]: Leaving directory '/home/biocbuild/bbs-3.7-bioc/meat/RNAdecay/src'
[1] 0
/home/biocbuild/bbs-3.7-bioc/R/bin/Rscript --vanilla -e "TMB::compile('general_dExp_3sse.cpp',safebounds=FALSE,safeunload=FALSE)"
make[1]: Entering directory '/home/biocbuild/bbs-3.7-bioc/meat/RNAdecay/src'
g++ -I"/home/biocbuild/bbs-3.7-bioc/R/include" -DNDEBUG -I/home/biocbuild/bbs-3.7-bioc/R/library/TMB/include -I/home/biocbuild/bbs-3.7-bioc/R/library/RcppEigen/include -DTMB_LIB_INIT=R_init_general_dExp_3sse -I/usr/local/include -fpic -g -O2 -Wall -c general_dExp_3sse.cpp -o general_dExp_3sse.o
g++ -shared -L/home/biocbuild/bbs-3.7-bioc/R/lib -L/usr/local/lib -o general_dExp_3sse.so general_dExp_3sse.o -L/home/biocbuild/bbs-3.7-bioc/R/lib -lR
make[1]: Leaving directory '/home/biocbuild/bbs-3.7-bioc/meat/RNAdecay/src'
[1] 0
/home/biocbuild/bbs-3.7-bioc/R/bin/Rscript --vanilla -e "TMB::compile('general_Exp_3sse.cpp',safebounds=FALSE,safeunload=FALSE)"
make[1]: Entering directory '/home/biocbuild/bbs-3.7-bioc/meat/RNAdecay/src'
g++ -I"/home/biocbuild/bbs-3.7-bioc/R/include" -DNDEBUG -I/home/biocbuild/bbs-3.7-bioc/R/library/TMB/include -I/home/biocbuild/bbs-3.7-bioc/R/library/RcppEigen/include -DTMB_LIB_INIT=R_init_general_Exp_3sse -I/usr/local/include -fpic -g -O2 -Wall -c general_Exp_3sse.cpp -o general_Exp_3sse.o
g++ -shared -L/home/biocbuild/bbs-3.7-bioc/R/lib -L/usr/local/lib -o general_Exp_3sse.so general_Exp_3sse.o -L/home/biocbuild/bbs-3.7-bioc/R/lib -lR
make[1]: Leaving directory '/home/biocbuild/bbs-3.7-bioc/meat/RNAdecay/src'
[1] 0
/home/biocbuild/bbs-3.7-bioc/R/bin/Rscript --vanilla -e "TMB::compile('general_dExp_4sse.cpp',safebounds=FALSE,safeunload=FALSE)"
make[1]: Entering directory '/home/biocbuild/bbs-3.7-bioc/meat/RNAdecay/src'
g++ -I"/home/biocbuild/bbs-3.7-bioc/R/include" -DNDEBUG -I/home/biocbuild/bbs-3.7-bioc/R/library/TMB/include -I/home/biocbuild/bbs-3.7-bioc/R/library/RcppEigen/include -DTMB_LIB_INIT=R_init_general_dExp_4sse -I/usr/local/include -fpic -g -O2 -Wall -c general_dExp_4sse.cpp -o general_dExp_4sse.o
g++ -shared -L/home/biocbuild/bbs-3.7-bioc/R/lib -L/usr/local/lib -o general_dExp_4sse.so general_dExp_4sse.o -L/home/biocbuild/bbs-3.7-bioc/R/lib -lR
make[1]: Leaving directory '/home/biocbuild/bbs-3.7-bioc/meat/RNAdecay/src'
[1] 0
/home/biocbuild/bbs-3.7-bioc/R/bin/Rscript --vanilla -e "TMB::compile('general_Exp_4sse.cpp',safebounds=FALSE,safeunload=FALSE)"
make[1]: Entering directory '/home/biocbuild/bbs-3.7-bioc/meat/RNAdecay/src'
g++ -I"/home/biocbuild/bbs-3.7-bioc/R/include" -DNDEBUG -I/home/biocbuild/bbs-3.7-bioc/R/library/TMB/include -I/home/biocbuild/bbs-3.7-bioc/R/library/RcppEigen/include -DTMB_LIB_INIT=R_init_general_Exp_4sse -I/usr/local/include -fpic -g -O2 -Wall -c general_Exp_4sse.cpp -o general_Exp_4sse.o
g++ -shared -L/home/biocbuild/bbs-3.7-bioc/R/lib -L/usr/local/lib -o general_Exp_4sse.so general_Exp_4sse.o -L/home/biocbuild/bbs-3.7-bioc/R/lib -lR
make[1]: Leaving directory '/home/biocbuild/bbs-3.7-bioc/meat/RNAdecay/src'
[1] 0
installing to /home/biocbuild/bbs-3.7-bioc/R/library/RNAdecay/libs
** R
** data
*** moving datasets to lazyload DB
** inst
** byte-compile and prepare package for lazy loading
** help
*** installing help indices
** building package indices
** installing vignettes
** testing if installed package can be loaded
* DONE (RNAdecay)