| Back to Multiple platform build/check report for BioC 3.7 |
|
This page was generated on 2018-10-17 08:37:03 -0400 (Wed, 17 Oct 2018).
| Package 1261/1561 | Hostname | OS / Arch | INSTALL | BUILD | CHECK | BUILD BIN | ||||||
| RNASeqPower 1.20.0 Terry M Therneau
| malbec2 | Linux (Ubuntu 16.04.1 LTS) / x86_64 | OK | OK | OK | |||||||
| tokay2 | Windows Server 2012 R2 Standard / x64 | OK | OK | [ OK ] | OK | |||||||
| merida2 | OS X 10.11.6 El Capitan / x86_64 | OK | OK | OK | OK |
| Package: RNASeqPower |
| Version: 1.20.0 |
| Command: C:\Users\biocbuild\bbs-3.7-bioc\R\bin\R.exe CMD check --force-multiarch --install=check:RNASeqPower.install-out.txt --library=C:\Users\biocbuild\bbs-3.7-bioc\R\library --no-vignettes --timings RNASeqPower_1.20.0.tar.gz |
| StartedAt: 2018-10-17 04:29:42 -0400 (Wed, 17 Oct 2018) |
| EndedAt: 2018-10-17 04:30:05 -0400 (Wed, 17 Oct 2018) |
| EllapsedTime: 22.7 seconds |
| RetCode: 0 |
| Status: OK |
| CheckDir: RNASeqPower.Rcheck |
| Warnings: 0 |
##############################################################################
##############################################################################
###
### Running command:
###
### C:\Users\biocbuild\bbs-3.7-bioc\R\bin\R.exe CMD check --force-multiarch --install=check:RNASeqPower.install-out.txt --library=C:\Users\biocbuild\bbs-3.7-bioc\R\library --no-vignettes --timings RNASeqPower_1.20.0.tar.gz
###
##############################################################################
##############################################################################
* using log directory 'C:/Users/biocbuild/bbs-3.7-bioc/meat/RNASeqPower.Rcheck'
* using R version 3.5.1 Patched (2018-07-24 r75005)
* using platform: x86_64-w64-mingw32 (64-bit)
* using session charset: ISO8859-1
* using option '--no-vignettes'
* checking for file 'RNASeqPower/DESCRIPTION' ... OK
* this is package 'RNASeqPower' version '1.20.0'
* checking package namespace information ... OK
* checking package dependencies ... OK
* checking if this is a source package ... OK
* checking if there is a namespace ... OK
* checking for hidden files and directories ... OK
* checking for portable file names ... OK
* checking whether package 'RNASeqPower' can be installed ... OK
* checking installed package size ... OK
* checking package directory ... OK
* checking 'build' directory ... OK
* checking DESCRIPTION meta-information ... NOTE
Malformed Description field: should contain one or more complete sentences.
* checking top-level files ... OK
* checking for left-over files ... OK
* checking index information ... OK
* checking package subdirectories ... OK
* checking R files for non-ASCII characters ... OK
* checking R files for syntax errors ... OK
* loading checks for arch 'i386'
** checking whether the package can be loaded ... OK
** checking whether the package can be loaded with stated dependencies ... OK
** checking whether the package can be unloaded cleanly ... OK
** checking whether the namespace can be loaded with stated dependencies ... OK
** checking whether the namespace can be unloaded cleanly ... OK
* loading checks for arch 'x64'
** checking whether the package can be loaded ... OK
** checking whether the package can be loaded with stated dependencies ... OK
** checking whether the package can be unloaded cleanly ... OK
** checking whether the namespace can be loaded with stated dependencies ... OK
** checking whether the namespace can be unloaded cleanly ... OK
* checking dependencies in R code ... OK
* checking S3 generic/method consistency ... OK
* checking replacement functions ... OK
* checking foreign function calls ... OK
* checking R code for possible problems ... NOTE
rnapower: no visible global function definition for 'qnorm'
rnapower: no visible global function definition for 'pnorm'
Undefined global functions or variables:
pnorm qnorm
Consider adding
importFrom("stats", "pnorm", "qnorm")
to your NAMESPACE file.
* checking Rd files ... OK
* checking Rd metadata ... OK
* checking Rd cross-references ... OK
* checking for missing documentation entries ... OK
* checking for code/documentation mismatches ... OK
* checking Rd \usage sections ... OK
* checking Rd contents ... OK
* checking for unstated dependencies in examples ... OK
* checking installed files from 'inst/doc' ... OK
* checking files in 'vignettes' ... OK
* checking examples ...
** running examples for arch 'i386' ... OK
** running examples for arch 'x64' ... OK
* checking for unstated dependencies in 'tests' ... OK
* checking tests ...
** running tests for arch 'i386' ...
Running 'test1.R'
Comparing 'test1.Rout' to 'test1.Rout.save' ... OK
OK
** running tests for arch 'x64' ...
Running 'test1.R'
Comparing 'test1.Rout' to 'test1.Rout.save' ... OK
OK
* checking for unstated dependencies in vignettes ... OK
* checking package vignettes in 'inst/doc' ... OK
* checking running R code from vignettes ... SKIPPED
* checking re-building of vignette outputs ... SKIPPED
* checking PDF version of manual ... OK
* DONE
Status: 2 NOTEs
See
'C:/Users/biocbuild/bbs-3.7-bioc/meat/RNASeqPower.Rcheck/00check.log'
for details.
RNASeqPower.Rcheck/00install.out
##############################################################################
##############################################################################
###
### Running command:
###
### C:\cygwin\bin\curl.exe -O https://malbec2.bioconductor.org/BBS/3.7/bioc/src/contrib/RNASeqPower_1.20.0.tar.gz && rm -rf RNASeqPower.buildbin-libdir && mkdir RNASeqPower.buildbin-libdir && C:\Users\biocbuild\bbs-3.7-bioc\R\bin\R.exe CMD INSTALL --merge-multiarch --build --library=RNASeqPower.buildbin-libdir RNASeqPower_1.20.0.tar.gz && C:\Users\biocbuild\bbs-3.7-bioc\R\bin\R.exe CMD INSTALL RNASeqPower_1.20.0.zip && rm RNASeqPower_1.20.0.tar.gz RNASeqPower_1.20.0.zip
###
##############################################################################
##############################################################################
% Total % Received % Xferd Average Speed Time Time Time Current
Dload Upload Total Spent Left Speed
0 0 0 0 0 0 0 0 --:--:-- --:--:-- --:--:-- 0
100 8151 100 8151 0 0 141k 0 --:--:-- --:--:-- --:--:-- 159k
install for i386
* installing *source* package 'RNASeqPower' ...
** R
** inst
** byte-compile and prepare package for lazy loading
** help
*** installing help indices
converting help for package 'RNASeqPower'
finding HTML links ... done
rnapower html
** building package indices
** installing vignettes
'samplesize.Rnw'
** testing if installed package can be loaded
In R CMD INSTALL
install for x64
* installing *source* package 'RNASeqPower' ...
** testing if installed package can be loaded
* MD5 sums
packaged installation of 'RNASeqPower' as RNASeqPower_1.20.0.zip
* DONE (RNASeqPower)
In R CMD INSTALL
In R CMD INSTALL
* installing to library 'C:/Users/biocbuild/bbs-3.7-bioc/R/library'
package 'RNASeqPower' successfully unpacked and MD5 sums checked
In R CMD INSTALL
|
RNASeqPower.Rcheck/tests_i386/test1.Rout.save
R version 2.15.0 (2012-03-30)
Copyright (C) 2012 The R Foundation for Statistical Computing
ISBN 3-900051-07-0
Platform: x86_64-unknown-linux-gnu (64-bit)
R is free software and comes with ABSOLUTELY NO WARRANTY.
You are welcome to redistribute it under certain conditions.
Type 'license()' or 'licence()' for distribution details.
R is a collaborative project with many contributors.
Type 'contributors()' for more information and
'citation()' on how to cite R or R packages in publications.
Type 'demo()' for some demos, 'help()' for on-line help, or
'help.start()' for an HTML browser interface to help.
Type 'q()' to quit R.
> library(RNASeqPower)
>
> # Error message: "missing depth"
> #rnapower(n=10, cv=.1, effect=2, alpha=.05, power=.9)
>
> rnapower(10, cv=.5, effect=c(1.5, 1.75, 2), alpha=.05, power=c(.8, .9))
0.8 0.9
1.5 33.41941 44.73910
1.75 17.54389 23.48629
2 11.43549 15.30888
> rnapower(10, n=20 , effect=c(1.5, 1.75, 2), alpha=.05, power=c(.8, .9))
0.8 0.9
1.5 0.3308461 0.2376188
1.75 0.5468084 0.4450239
2 0.7156322 0.5977048
> rnapower(10, n= c(10,20), cv=.5, alpha=.05, power=c(.8, .9))
0.8 0.9
10 2.098515 2.357553
20 1.688986 1.833876
> rnapower(10, n= c(10,20), cv=.5, effect=1.5, power=c(.8, .9))
0.8 0.9
10 0.4896329 0.8018431
20 0.1849454 0.3757519
> rnapower(10, n= c(10,20), cv=.5, effect=c(1.5,2), alpha=.05)
1.5 2
10 0.3345258 0.7453365
20 0.5821271 0.9595131
>
>
> # More formal tests: cv and n
> t1 <- rnapower(15, n=20, effect=1.5, alpha=.05, power=.8)
> t2 <- rnapower(15, effect=1.5, alpha=.05, power=.8, cv=t1)
> all.equal(t2, 20)
[1] TRUE
>
>
> # effect and n
> t3 <- rnapower(15, n=20, cv=.5, alpha=.05, power=.8)
> t4 <- rnapower(15, cv=.5, alpha=.05, power=.8, effect=t3)
> all.equal(t4, 20)
[1] TRUE
>
> # power and n
> t5 <- rnapower(15, n=20, effect=1.5, cv=.5, alpha=.05)
> t6 <- rnapower(15, effect=1.5, cv=.5, alpha=.05, power=t5)
> all.equal(t6, 20)
[1] TRUE
>
> # alpha and n
> t7 <- rnapower(15, n=20, effect=1.5, cv=.5, power=.8)
> t8 <- rnapower(15, effect=1.5, cv=.5, power=.8, alpha=t7)
> all.equal(t8, 20)
[1] TRUE
>
>
> proc.time()
user system elapsed
0.220 0.051 0.297
|
RNASeqPower.Rcheck/tests_x64/test1.Rout.save
R version 2.15.0 (2012-03-30)
Copyright (C) 2012 The R Foundation for Statistical Computing
ISBN 3-900051-07-0
Platform: x86_64-unknown-linux-gnu (64-bit)
R is free software and comes with ABSOLUTELY NO WARRANTY.
You are welcome to redistribute it under certain conditions.
Type 'license()' or 'licence()' for distribution details.
R is a collaborative project with many contributors.
Type 'contributors()' for more information and
'citation()' on how to cite R or R packages in publications.
Type 'demo()' for some demos, 'help()' for on-line help, or
'help.start()' for an HTML browser interface to help.
Type 'q()' to quit R.
> library(RNASeqPower)
>
> # Error message: "missing depth"
> #rnapower(n=10, cv=.1, effect=2, alpha=.05, power=.9)
>
> rnapower(10, cv=.5, effect=c(1.5, 1.75, 2), alpha=.05, power=c(.8, .9))
0.8 0.9
1.5 33.41941 44.73910
1.75 17.54389 23.48629
2 11.43549 15.30888
> rnapower(10, n=20 , effect=c(1.5, 1.75, 2), alpha=.05, power=c(.8, .9))
0.8 0.9
1.5 0.3308461 0.2376188
1.75 0.5468084 0.4450239
2 0.7156322 0.5977048
> rnapower(10, n= c(10,20), cv=.5, alpha=.05, power=c(.8, .9))
0.8 0.9
10 2.098515 2.357553
20 1.688986 1.833876
> rnapower(10, n= c(10,20), cv=.5, effect=1.5, power=c(.8, .9))
0.8 0.9
10 0.4896329 0.8018431
20 0.1849454 0.3757519
> rnapower(10, n= c(10,20), cv=.5, effect=c(1.5,2), alpha=.05)
1.5 2
10 0.3345258 0.7453365
20 0.5821271 0.9595131
>
>
> # More formal tests: cv and n
> t1 <- rnapower(15, n=20, effect=1.5, alpha=.05, power=.8)
> t2 <- rnapower(15, effect=1.5, alpha=.05, power=.8, cv=t1)
> all.equal(t2, 20)
[1] TRUE
>
>
> # effect and n
> t3 <- rnapower(15, n=20, cv=.5, alpha=.05, power=.8)
> t4 <- rnapower(15, cv=.5, alpha=.05, power=.8, effect=t3)
> all.equal(t4, 20)
[1] TRUE
>
> # power and n
> t5 <- rnapower(15, n=20, effect=1.5, cv=.5, alpha=.05)
> t6 <- rnapower(15, effect=1.5, cv=.5, alpha=.05, power=t5)
> all.equal(t6, 20)
[1] TRUE
>
> # alpha and n
> t7 <- rnapower(15, n=20, effect=1.5, cv=.5, power=.8)
> t8 <- rnapower(15, effect=1.5, cv=.5, power=.8, alpha=t7)
> all.equal(t8, 20)
[1] TRUE
>
>
> proc.time()
user system elapsed
0.220 0.051 0.297
|
|
RNASeqPower.Rcheck/tests_i386/test1.Rout
R version 3.5.1 Patched (2018-07-24 r75005) -- "Feather Spray"
Copyright (C) 2018 The R Foundation for Statistical Computing
Platform: i386-w64-mingw32/i386 (32-bit)
R is free software and comes with ABSOLUTELY NO WARRANTY.
You are welcome to redistribute it under certain conditions.
Type 'license()' or 'licence()' for distribution details.
R is a collaborative project with many contributors.
Type 'contributors()' for more information and
'citation()' on how to cite R or R packages in publications.
Type 'demo()' for some demos, 'help()' for on-line help, or
'help.start()' for an HTML browser interface to help.
Type 'q()' to quit R.
> library(RNASeqPower)
>
> # Error message: "missing depth"
> #rnapower(n=10, cv=.1, effect=2, alpha=.05, power=.9)
>
> rnapower(10, cv=.5, effect=c(1.5, 1.75, 2), alpha=.05, power=c(.8, .9))
0.8 0.9
1.5 33.41941 44.73910
1.75 17.54389 23.48629
2 11.43549 15.30888
> rnapower(10, n=20 , effect=c(1.5, 1.75, 2), alpha=.05, power=c(.8, .9))
0.8 0.9
1.5 0.3308461 0.2376188
1.75 0.5468084 0.4450239
2 0.7156322 0.5977048
> rnapower(10, n= c(10,20), cv=.5, alpha=.05, power=c(.8, .9))
0.8 0.9
10 2.098515 2.357553
20 1.688986 1.833876
> rnapower(10, n= c(10,20), cv=.5, effect=1.5, power=c(.8, .9))
0.8 0.9
10 0.4896329 0.8018431
20 0.1849454 0.3757519
> rnapower(10, n= c(10,20), cv=.5, effect=c(1.5,2), alpha=.05)
1.5 2
10 0.3345258 0.7453365
20 0.5821271 0.9595131
>
>
> # More formal tests: cv and n
> t1 <- rnapower(15, n=20, effect=1.5, alpha=.05, power=.8)
> t2 <- rnapower(15, effect=1.5, alpha=.05, power=.8, cv=t1)
> all.equal(t2, 20)
[1] TRUE
>
>
> # effect and n
> t3 <- rnapower(15, n=20, cv=.5, alpha=.05, power=.8)
> t4 <- rnapower(15, cv=.5, alpha=.05, power=.8, effect=t3)
> all.equal(t4, 20)
[1] TRUE
>
> # power and n
> t5 <- rnapower(15, n=20, effect=1.5, cv=.5, alpha=.05)
> t6 <- rnapower(15, effect=1.5, cv=.5, alpha=.05, power=t5)
> all.equal(t6, 20)
[1] TRUE
>
> # alpha and n
> t7 <- rnapower(15, n=20, effect=1.5, cv=.5, power=.8)
> t8 <- rnapower(15, effect=1.5, cv=.5, power=.8, alpha=t7)
> all.equal(t8, 20)
[1] TRUE
>
>
> proc.time()
user system elapsed
0.28 0.00 0.26
|
|
|
RNASeqPower.Rcheck/tests_x64/test1.Rout
R version 3.5.1 Patched (2018-07-24 r75005) -- "Feather Spray"
Copyright (C) 2018 The R Foundation for Statistical Computing
Platform: x86_64-w64-mingw32/x64 (64-bit)
R is free software and comes with ABSOLUTELY NO WARRANTY.
You are welcome to redistribute it under certain conditions.
Type 'license()' or 'licence()' for distribution details.
R is a collaborative project with many contributors.
Type 'contributors()' for more information and
'citation()' on how to cite R or R packages in publications.
Type 'demo()' for some demos, 'help()' for on-line help, or
'help.start()' for an HTML browser interface to help.
Type 'q()' to quit R.
> library(RNASeqPower)
>
> # Error message: "missing depth"
> #rnapower(n=10, cv=.1, effect=2, alpha=.05, power=.9)
>
> rnapower(10, cv=.5, effect=c(1.5, 1.75, 2), alpha=.05, power=c(.8, .9))
0.8 0.9
1.5 33.41941 44.73910
1.75 17.54389 23.48629
2 11.43549 15.30888
> rnapower(10, n=20 , effect=c(1.5, 1.75, 2), alpha=.05, power=c(.8, .9))
0.8 0.9
1.5 0.3308461 0.2376188
1.75 0.5468084 0.4450239
2 0.7156322 0.5977048
> rnapower(10, n= c(10,20), cv=.5, alpha=.05, power=c(.8, .9))
0.8 0.9
10 2.098515 2.357553
20 1.688986 1.833876
> rnapower(10, n= c(10,20), cv=.5, effect=1.5, power=c(.8, .9))
0.8 0.9
10 0.4896329 0.8018431
20 0.1849454 0.3757519
> rnapower(10, n= c(10,20), cv=.5, effect=c(1.5,2), alpha=.05)
1.5 2
10 0.3345258 0.7453365
20 0.5821271 0.9595131
>
>
> # More formal tests: cv and n
> t1 <- rnapower(15, n=20, effect=1.5, alpha=.05, power=.8)
> t2 <- rnapower(15, effect=1.5, alpha=.05, power=.8, cv=t1)
> all.equal(t2, 20)
[1] TRUE
>
>
> # effect and n
> t3 <- rnapower(15, n=20, cv=.5, alpha=.05, power=.8)
> t4 <- rnapower(15, cv=.5, alpha=.05, power=.8, effect=t3)
> all.equal(t4, 20)
[1] TRUE
>
> # power and n
> t5 <- rnapower(15, n=20, effect=1.5, cv=.5, alpha=.05)
> t6 <- rnapower(15, effect=1.5, cv=.5, alpha=.05, power=t5)
> all.equal(t6, 20)
[1] TRUE
>
> # alpha and n
> t7 <- rnapower(15, n=20, effect=1.5, cv=.5, power=.8)
> t8 <- rnapower(15, effect=1.5, cv=.5, power=.8, alpha=t7)
> all.equal(t8, 20)
[1] TRUE
>
>
> proc.time()
user system elapsed
0.29 0.01 0.29
|
|
RNASeqPower.Rcheck/examples_i386/RNASeqPower-Ex.timings
|
RNASeqPower.Rcheck/examples_x64/RNASeqPower-Ex.timings
|