| Back to Multiple platform build/check report for BioC 3.7 |
|
This page was generated on 2018-10-17 08:41:44 -0400 (Wed, 17 Oct 2018).
| Package 1243/1561 | Hostname | OS / Arch | INSTALL | BUILD | CHECK | BUILD BIN | ||||||
| RImmPort 1.8.0 Zicheng Hu
| malbec2 | Linux (Ubuntu 16.04.1 LTS) / x86_64 | OK | OK | OK | |||||||
| tokay2 | Windows Server 2012 R2 Standard / x64 | OK | OK | OK | [ OK ] | |||||||
| merida2 | OS X 10.11.6 El Capitan / x86_64 | OK | OK | OK | OK |
| Package: RImmPort |
| Version: 1.8.0 |
| Command: rm -rf RImmPort.buildbin-libdir && mkdir RImmPort.buildbin-libdir && C:\Users\biocbuild\bbs-3.7-bioc\R\bin\R.exe CMD INSTALL --merge-multiarch --build --library=RImmPort.buildbin-libdir RImmPort_1.8.0.tar.gz |
| StartedAt: 2018-10-17 06:54:10 -0400 (Wed, 17 Oct 2018) |
| EndedAt: 2018-10-17 06:54:29 -0400 (Wed, 17 Oct 2018) |
| EllapsedTime: 18.7 seconds |
| RetCode: 0 |
| Status: OK |
| PackageFile: RImmPort_1.8.0.zip |
| PackageFileSize: 2.509 MiB |
##############################################################################
##############################################################################
###
### Running command:
###
### rm -rf RImmPort.buildbin-libdir && mkdir RImmPort.buildbin-libdir && C:\Users\biocbuild\bbs-3.7-bioc\R\bin\R.exe CMD INSTALL --merge-multiarch --build --library=RImmPort.buildbin-libdir RImmPort_1.8.0.tar.gz
###
##############################################################################
##############################################################################
install for i386
* installing *source* package 'RImmPort' ...
** R
** inst
** byte-compile and prepare package for lazy loading
** help
*** installing help indices
converting help for package 'RImmPort'
finding HTML links ... done
AE html
APMH html
Adverse-Events-Domain html
Associated-Persons-Medical-History-Domain
html
CM html
Cellular-Quantification-Domain html
Concomitant-Medications-Domain html
DM html
DV html
Demographics-Domain html
EX html
Events-class html
Exposure-Domain html
FA html
Findings-About-Domain html
Findings-class html
Genetics-Findings-Domain html
Interventions-class html
LB html
Laboratory-Test-Results-Domain html
MH html
Medical-History-Domain html
Nucleic-Acid-Quantification-Domain html
PE html
PF html
Physical-Examination-Domain html
Protein-Quantification-Domain html
Protocol-Deviations-Domain html
QS html
Questionnaires-Domain html
RImmPort html
SR html
SU html
SUPP html
SUPPDV html
SUPPFA html
SUPPLB html
SUPPMH html
SUPPPE html
SUPPPF html
SUPPVS html
SUPPZA html
SUPPZB html
SUPPZC html
SUPPZD html
SV html
Skin-Response-Domain html
SpecialPurpose-class html
Study-class html
Subject-Visits-Domain html
Substance-Use-Domain html
TA html
TI html
TS html
TV html
Titer-Assay-Results-Domain html
Trial-Arms-Domain html
Trial-Inclusion-Exclusion-Criteria-Domain
html
Trial-Summary-Domain html
Trial-Visits-Domain html
TrialDesign-class html
VS html
Vital-Signs-Domain html
ZA html
ZB html
ZC html
ZD html
buildNewSqliteDb html
getAssayDataOfStudies html
getDomainCode html
getDomainDataOfStudies html
getListOfAssayTypes html
getListOfDomains html
getListOfStudies html
getStudiesWithSpecificAssayData html
getStudiesWithSpecificDomainData html
getStudy html
loadSerializedStudyData html
mergeDomainAndSupplemental html
serialzeStudyData html
setImmPortDataSource html
** building package indices
** installing vignettes
** testing if installed package can be loaded
In R CMD INSTALL
install for x64
* installing *source* package 'RImmPort' ...
** testing if installed package can be loaded
* MD5 sums
packaged installation of 'RImmPort' as RImmPort_1.8.0.zip
* DONE (RImmPort)
In R CMD INSTALL
In R CMD INSTALL