| Back to Multiple platform build/check report for BioC 3.7 |
|
This page was generated on 2018-10-17 08:37:23 -0400 (Wed, 17 Oct 2018).
| Package 1203/1561 | Hostname | OS / Arch | INSTALL | BUILD | CHECK | BUILD BIN | ||||||
| RDAVIDWebService 1.18.0 Cristobal Fresno
| malbec2 | Linux (Ubuntu 16.04.1 LTS) / x86_64 | OK | OK | WARNINGS | |||||||
| tokay2 | Windows Server 2012 R2 Standard / x64 | OK | OK | WARNINGS | [ OK ] | |||||||
| merida2 | OS X 10.11.6 El Capitan / x86_64 | OK | OK | WARNINGS | OK |
| Package: RDAVIDWebService |
| Version: 1.18.0 |
| Command: rm -rf RDAVIDWebService.buildbin-libdir && mkdir RDAVIDWebService.buildbin-libdir && C:\Users\biocbuild\bbs-3.7-bioc\R\bin\R.exe CMD INSTALL --merge-multiarch --build --library=RDAVIDWebService.buildbin-libdir RDAVIDWebService_1.18.0.tar.gz |
| StartedAt: 2018-10-17 06:52:14 -0400 (Wed, 17 Oct 2018) |
| EndedAt: 2018-10-17 06:52:58 -0400 (Wed, 17 Oct 2018) |
| EllapsedTime: 43.2 seconds |
| RetCode: 0 |
| Status: OK |
| PackageFile: RDAVIDWebService_1.18.0.zip |
| PackageFileSize: 21.35 MiB |
##############################################################################
##############################################################################
###
### Running command:
###
### rm -rf RDAVIDWebService.buildbin-libdir && mkdir RDAVIDWebService.buildbin-libdir && C:\Users\biocbuild\bbs-3.7-bioc\R\bin\R.exe CMD INSTALL --merge-multiarch --build --library=RDAVIDWebService.buildbin-libdir RDAVIDWebService_1.18.0.tar.gz
###
##############################################################################
##############################################################################
install for i386
* installing *source* package 'RDAVIDWebService' ...
** R
** data
** inst
** byte-compile and prepare package for lazy loading
** help
*** installing help indices
converting help for package 'RDAVIDWebService'
finding HTML links ... done
DAVIDClasses-categories html
DAVIDClasses-constructor html
DAVIDClasses-genes html
DAVIDClasses-ids html
DAVIDClasses-plot2D html
DAVIDClasses-show html
DAVIDClasses-summary html
DAVIDCluster-class html
DAVIDCluster-methods html
DAVIDFunctionalAnnotationChart-class html
DAVIDFunctionalAnnotationTable-class html
DAVIDFunctionalAnnotationTable-methods
html
DAVIDGODag-class html
DAVIDGODag-methods html
DAVIDGeneCluster-class html
DAVIDGenes-class html
DAVIDGenes-methods html
DAVIDResult-class html
DAVIDResult-getters html
DAVIDTermCluster-class html
DAVIDWebService-accessors html
DAVIDWebService-class html
DAVIDWebService-methods html
DAVIDWebService-package html
DAVIDWebService-reports html
DAVIDdemo-annotationSummary html
DAVIDdemo-annotationTable html
DAVIDdemo-clusterReport html
DAVIDdemo-functionalAnnotationChart html
DAVIDdemo-geneList html
DAVIDdemo-ids html
** building package indices
** installing vignettes
** testing if installed package can be loaded
In R CMD INSTALL
install for x64
* installing *source* package 'RDAVIDWebService' ...
** testing if installed package can be loaded
* MD5 sums
packaged installation of 'RDAVIDWebService' as RDAVIDWebService_1.18.0.zip
* DONE (RDAVIDWebService)
In R CMD INSTALL
In R CMD INSTALL