| Back to Multiple platform build/check report for BioC 3.7 |
|
This page was generated on 2018-10-17 08:27:31 -0400 (Wed, 17 Oct 2018).
| Package 1202/1561 | Hostname | OS / Arch | INSTALL | BUILD | CHECK | BUILD BIN | ||||||
| RCyjs 2.2.2 Paul Shannon
| malbec2 | Linux (Ubuntu 16.04.1 LTS) / x86_64 | OK | OK | [ OK ] | |||||||
| tokay2 | Windows Server 2012 R2 Standard / x64 | OK | OK | OK | OK | |||||||
| merida2 | OS X 10.11.6 El Capitan / x86_64 | OK | OK | OK | OK |
| Package: RCyjs |
| Version: 2.2.2 |
| Command: /home/biocbuild/bbs-3.7-bioc/R/bin/R CMD check --install=check:RCyjs.install-out.txt --library=/home/biocbuild/bbs-3.7-bioc/R/library --no-vignettes --timings RCyjs_2.2.2.tar.gz |
| StartedAt: 2018-10-16 03:07:41 -0400 (Tue, 16 Oct 2018) |
| EndedAt: 2018-10-16 03:08:14 -0400 (Tue, 16 Oct 2018) |
| EllapsedTime: 32.3 seconds |
| RetCode: 0 |
| Status: OK |
| CheckDir: RCyjs.Rcheck |
| Warnings: 0 |
############################################################################## ############################################################################## ### ### Running command: ### ### /home/biocbuild/bbs-3.7-bioc/R/bin/R CMD check --install=check:RCyjs.install-out.txt --library=/home/biocbuild/bbs-3.7-bioc/R/library --no-vignettes --timings RCyjs_2.2.2.tar.gz ### ############################################################################## ############################################################################## * using log directory ‘/home/biocbuild/bbs-3.7-bioc/meat/RCyjs.Rcheck’ * using R version 3.5.1 Patched (2018-07-12 r74967) * using platform: x86_64-pc-linux-gnu (64-bit) * using session charset: UTF-8 * using option ‘--no-vignettes’ * checking for file ‘RCyjs/DESCRIPTION’ ... OK * checking extension type ... Package * this is package ‘RCyjs’ version ‘2.2.2’ * checking package namespace information ... OK * checking package dependencies ... OK * checking if this is a source package ... OK * checking if there is a namespace ... OK * checking for hidden files and directories ... OK * checking for portable file names ... OK * checking for sufficient/correct file permissions ... OK * checking whether package ‘RCyjs’ can be installed ... OK * checking installed package size ... OK * checking package directory ... OK * checking ‘build’ directory ... OK * checking DESCRIPTION meta-information ... OK * checking top-level files ... OK * checking for left-over files ... OK * checking index information ... OK * checking package subdirectories ... OK * checking R files for non-ASCII characters ... OK * checking R files for syntax errors ... OK * checking whether the package can be loaded ... OK * checking whether the package can be loaded with stated dependencies ... OK * checking whether the package can be unloaded cleanly ... OK * checking whether the namespace can be loaded with stated dependencies ... OK * checking whether the namespace can be unloaded cleanly ... OK * checking dependencies in R code ... OK * checking S3 generic/method consistency ... OK * checking replacement functions ... OK * checking foreign function calls ... OK * checking R code for possible problems ... OK * checking Rd files ... OK * checking Rd metadata ... OK * checking Rd cross-references ... OK * checking for missing documentation entries ... OK * checking for code/documentation mismatches ... OK * checking Rd \usage sections ... OK * checking Rd contents ... OK * checking for unstated dependencies in examples ... OK * checking include directives in Makefiles ... OK * checking installed files from ‘inst/doc’ ... OK * checking files in ‘vignettes’ ... OK * checking examples ... OK * checking for unstated dependencies in ‘tests’ ... OK * checking tests ... Running ‘runTests.R’ OK * checking for unstated dependencies in vignettes ... OK * checking package vignettes in ‘inst/doc’ ... OK * checking running R code from vignettes ... SKIPPED * checking re-building of vignette outputs ... SKIPPED * checking PDF version of manual ... OK * DONE Status: OK
RCyjs.Rcheck/00install.out
############################################################################## ############################################################################## ### ### Running command: ### ### /home/biocbuild/bbs-3.7-bioc/R/bin/R CMD INSTALL RCyjs ### ############################################################################## ############################################################################## * installing to library ‘/home/biocbuild/bbs-3.7-bioc/R/library’ * installing *source* package ‘RCyjs’ ... ** R ** inst ** byte-compile and prepare package for lazy loading Creating a new generic function for ‘layout’ in package ‘RCyjs’ ** help *** installing help indices ** building package indices ** installing vignettes ** testing if installed package can be loaded * DONE (RCyjs)
RCyjs.Rcheck/tests/runTests.Rout
R version 3.5.1 Patched (2018-07-12 r74967) -- "Feather Spray"
Copyright (C) 2018 The R Foundation for Statistical Computing
Platform: x86_64-pc-linux-gnu (64-bit)
R is free software and comes with ABSOLUTELY NO WARRANTY.
You are welcome to redistribute it under certain conditions.
Type 'license()' or 'licence()' for distribution details.
R is a collaborative project with many contributors.
Type 'contributors()' for more information and
'citation()' on how to cite R or R packages in publications.
Type 'demo()' for some demos, 'help()' for on-line help, or
'help.start()' for an HTML browser interface to help.
Type 'q()' to quit R.
> # disabled: the bioc build system no longer supports browser use.
> # BiocGenerics:::testPackage("RCyjs")
>
> proc.time()
user system elapsed
0.192 0.024 0.211
RCyjs.Rcheck/RCyjs-Ex.timings
| name | user | system | elapsed | |
| RCyjs-class | 0.000 | 0.000 | 0.001 | |
| addGraph | 0.000 | 0.000 | 0.001 | |
| addGraphFromFile | 0 | 0 | 0 | |
| clearSelection | 0.000 | 0.000 | 0.001 | |
| createTestGaph | 0.004 | 0.000 | 0.005 | |
| deleteGraph | 0.000 | 0.000 | 0.001 | |
| deleteSelectedNodes | 0 | 0 | 0 | |
| eda | 0.004 | 0.000 | 0.001 | |
| edaNames | 0 | 0 | 0 | |
| fit | 0 | 0 | 0 | |
| fitSelection | 0.000 | 0.004 | 0.001 | |
| getEdgeCount | 0 | 0 | 0 | |
| getJSON | 0.000 | 0.000 | 0.001 | |
| getLayoutStrategies | 0.004 | 0.000 | 0.000 | |
| getNodeCount | 0 | 0 | 0 | |
| getNodes | 0.000 | 0.000 | 0.001 | |
| getPosition | 0.004 | 0.000 | 0.000 | |
| getSelectedNodes | 0.000 | 0.000 | 0.001 | |
| getSupportedEdgeDecoratorShapes | 0.000 | 0.000 | 0.001 | |
| getSupportedNodeShapes | 0.000 | 0.000 | 0.001 | |
| getZoom | 0.000 | 0.000 | 0.001 | |
| hAlign | 0.000 | 0.000 | 0.001 | |
| hideAllEdges | 0.000 | 0.000 | 0.001 | |
| hideEdges | 0 | 0 | 0 | |
| hideSelectedNodes | 0.004 | 0.000 | 0.001 | |
| invertNodeSelection | 0.000 | 0.000 | 0.001 | |
| layout | 0.000 | 0.000 | 0.001 | |
| layoutSelectionInGrid | 0.000 | 0.000 | 0.001 | |
| layoutSelectionInGridInferAnchorm | 0.000 | 0.000 | 0.001 | |
| loadStyleFile | 0.004 | 0.000 | 0.000 | |
| noa | 0.000 | 0.000 | 0.001 | |
| noaNames | 0.000 | 0.000 | 0.001 | |
| redraw | 0.004 | 0.000 | 0.000 | |
| restoreLayout | 0.000 | 0.000 | 0.001 | |
| saveJPG | 0.000 | 0.000 | 0.001 | |
| saveLayout | 0.000 | 0.000 | 0.001 | |
| savePNG | 0.000 | 0.000 | 0.001 | |
| selectFirstNeighborsOfSelectedNodes | 0 | 0 | 0 | |
| selectNodes | 0.000 | 0.000 | 0.001 | |
| setBackgroundColor | 0 | 0 | 0 | |
| setDefaultEdgeColor | 0 | 0 | 0 | |
| setDefaultEdgeLineColor | 0.000 | 0.000 | 0.001 | |
| setDefaultEdgeLineStyle | 0 | 0 | 0 | |
| setDefaultEdgeSourceArrowColor | 0.000 | 0.000 | 0.001 | |
| setDefaultEdgeSourceArrowShape | 0 | 0 | 0 | |
| setDefaultEdgeTargetArrowColor | 0.004 | 0.000 | 0.001 | |
| setDefaultEdgeTargetArrowShape | 0.000 | 0.000 | 0.001 | |
| setDefaultEdgeWidth | 0.000 | 0.000 | 0.001 | |
| setDefaultNodeBorderColor | 0.004 | 0.000 | 0.001 | |
| setDefaultNodeBorderWidth | 0 | 0 | 0 | |
| setDefaultNodeColor | 0.000 | 0.000 | 0.001 | |
| setDefaultNodeFontColor | 0.004 | 0.000 | 0.000 | |
| setDefaultNodeFontSize | 0.000 | 0.000 | 0.001 | |
| setDefaultNodeHeight | 0 | 0 | 0 | |
| setDefaultNodeShape | 0.000 | 0.000 | 0.001 | |
| setDefaultNodeSize | 0 | 0 | 0 | |
| setDefaultNodeWidth | 0.000 | 0.000 | 0.001 | |
| setDefaultStyle | 0.000 | 0.000 | 0.001 | |
| setEdgeStyle | 0.000 | 0.000 | 0.001 | |
| setGraph | 0.004 | 0.000 | 0.001 | |
| setNodeAttributes | 0.000 | 0.000 | 0.001 | |
| setNodeBorderColor | 0 | 0 | 0 | |
| setNodeBorderWidth | 0.000 | 0.000 | 0.001 | |
| setNodeColor | 0.000 | 0.000 | 0.001 | |
| setNodeColorRule | 0.000 | 0.000 | 0.001 | |
| setNodeFontColor | 0.000 | 0.000 | 0.001 | |
| setNodeFontSize | 0 | 0 | 0 | |
| setNodeHeight | 0.004 | 0.000 | 0.001 | |
| setNodeLabelRule | 0 | 0 | 0 | |
| setNodeShape | 0.000 | 0.000 | 0.001 | |
| setNodeSize | 0.004 | 0.000 | 0.000 | |
| setNodeSizeRule | 0.000 | 0.000 | 0.001 | |
| setNodeWidth | 0 | 0 | 0 | |
| setPosition | 0.000 | 0.000 | 0.001 | |
| setZoom | 0 | 0 | 0 | |
| sfn | 0.004 | 0.000 | 0.001 | |
| showAll | 0.000 | 0.000 | 0.001 | |
| showEdges | 0.000 | 0.000 | 0.001 | |
| simpleDemoGraph | 0.048 | 0.000 | 0.045 | |
| vAlign | 0.000 | 0.000 | 0.001 | |