| Back to Multiple platform build/check report for BioC 3.7 |
|
This page was generated on 2018-10-17 08:56:52 -0400 (Wed, 17 Oct 2018).
| Package 1193/1561 | Hostname | OS / Arch | INSTALL | BUILD | CHECK | BUILD BIN | ||||||
| RCAS 1.6.0 Bora Uyar
| malbec2 | Linux (Ubuntu 16.04.1 LTS) / x86_64 | OK | OK | OK | |||||||
| tokay2 | Windows Server 2012 R2 Standard / x64 | OK | OK | OK | OK | |||||||
| merida2 | OS X 10.11.6 El Capitan / x86_64 | OK | OK | OK | [ OK ] |
| Package: RCAS |
| Version: 1.6.0 |
| Command: rm -rf RCAS.buildbin-libdir && mkdir RCAS.buildbin-libdir && /Users/biocbuild/BBS/utils/build-universal.sh RCAS_1.6.0.tar.gz /Library/Frameworks/R.framework/Versions/Current/Resources/bin/R RCAS.buildbin-libdir |
| StartedAt: 2018-10-17 01:57:03 -0400 (Wed, 17 Oct 2018) |
| EndedAt: 2018-10-17 01:59:00 -0400 (Wed, 17 Oct 2018) |
| EllapsedTime: 116.3 seconds |
| RetCode: 0 |
| Status: OK |
| PackageFile: RCAS_1.6.0.tgz |
| PackageFileSize: 2.199 MiB |
############################################################################## ############################################################################## ### ### Running command: ### ### rm -rf RCAS.buildbin-libdir && mkdir RCAS.buildbin-libdir && /Users/biocbuild/BBS/utils/build-universal.sh RCAS_1.6.0.tar.gz /Library/Frameworks/R.framework/Versions/Current/Resources/bin/R RCAS.buildbin-libdir ### ############################################################################## ############################################################################## >>>>>>> >>>>>>> INSTALLATION WITH 'R CMD INSTALL --preclean --no-multiarch --library=RCAS.buildbin-libdir RCAS_1.6.0.tar.gz' >>>>>>> * installing *source* package ‘RCAS’ ... ** R ** data *** moving datasets to lazyload DB ** inst ** byte-compile and prepare package for lazy loading groupGOTerms: GOBPTerm, GOMFTerm, GOCCTerm environments built. ** help *** installing help indices ** building package indices ** installing vignettes ** testing if installed package can be loaded groupGOTerms: GOBPTerm, GOMFTerm, GOCCTerm environments built. * DONE (RCAS)