| Back to Multiple platform build/check report for BioC 3.7 |
|
This page was generated on 2018-10-17 08:36:06 -0400 (Wed, 17 Oct 2018).
| Package 1161/1561 | Hostname | OS / Arch | INSTALL | BUILD | CHECK | BUILD BIN | ||||||
| QUALIFIER 1.24.1 Mike Jiang
| malbec2 | Linux (Ubuntu 16.04.1 LTS) / x86_64 | OK | OK | OK | |||||||
| tokay2 | Windows Server 2012 R2 Standard / x64 | OK | OK | WARNINGS | [ OK ] | |||||||
| merida2 | OS X 10.11.6 El Capitan / x86_64 | OK | OK | OK | OK |
| Package: QUALIFIER |
| Version: 1.24.1 |
| Command: rm -rf QUALIFIER.buildbin-libdir && mkdir QUALIFIER.buildbin-libdir && C:\Users\biocbuild\bbs-3.7-bioc\R\bin\R.exe CMD INSTALL --merge-multiarch --build --library=QUALIFIER.buildbin-libdir QUALIFIER_1.24.1.tar.gz |
| StartedAt: 2018-10-17 06:49:56 -0400 (Wed, 17 Oct 2018) |
| EndedAt: 2018-10-17 06:50:15 -0400 (Wed, 17 Oct 2018) |
| EllapsedTime: 18.9 seconds |
| RetCode: 0 |
| Status: OK |
| PackageFile: QUALIFIER_1.24.1.zip |
| PackageFileSize: 1.184 MiB |
##############################################################################
##############################################################################
###
### Running command:
###
### rm -rf QUALIFIER.buildbin-libdir && mkdir QUALIFIER.buildbin-libdir && C:\Users\biocbuild\bbs-3.7-bioc\R\bin\R.exe CMD INSTALL --merge-multiarch --build --library=QUALIFIER.buildbin-libdir QUALIFIER_1.24.1.tar.gz
###
##############################################################################
##############################################################################
install for i386
* installing *source* package 'QUALIFIER' ...
** R
** data
** inst
** byte-compile and prepare package for lazy loading
** help
*** installing help indices
converting help for package 'QUALIFIER'
finding HTML links ... done
ITNQASTUDY html
QUALIFIER-package html
getQAStats html
finding level-2 HTML links ... done
initDB html
outlierFunctions html
plot-methods html
qaCheck-methods html
Rd warning: C:/Users/biocbuild/bbs-3.7-bioc/tmpdir/Rtmp2Zjdoz/R.INSTALL1a9c26f425a3/QUALIFIER/man/qaCheck-methods.Rd:40: file link 'plot' in package 'QUALIFIER' does not exist and so has been treated as a topic
Rd warning: C:/Users/biocbuild/bbs-3.7-bioc/tmpdir/Rtmp2Zjdoz/R.INSTALL1a9c26f425a3/QUALIFIER/man/qaCheck-methods.Rd:131: file link 'plot' in package 'QUALIFIER' does not exist and so has been treated as a topic
qaPreprocess html
qaReport html
Rd warning: C:/Users/biocbuild/bbs-3.7-bioc/tmpdir/Rtmp2Zjdoz/R.INSTALL1a9c26f425a3/QUALIFIER/man/qaReport.Rd:20: file link 'plot' in package 'QUALIFIER' does not exist and so has been treated as a topic
Rd warning: C:/Users/biocbuild/bbs-3.7-bioc/tmpdir/Rtmp2Zjdoz/R.INSTALL1a9c26f425a3/QUALIFIER/man/qaReport.Rd:63: file link 'plot' in package 'QUALIFIER' does not exist and so has been treated as a topic
qaTask-class html
read.qaTask html
saveToDB html
save_db html
** building package indices
** installing vignettes
** testing if installed package can be loaded
In R CMD INSTALL
install for x64
* installing *source* package 'QUALIFIER' ...
** testing if installed package can be loaded
* MD5 sums
packaged installation of 'QUALIFIER' as QUALIFIER_1.24.1.zip
* DONE (QUALIFIER)
In R CMD INSTALL
In R CMD INSTALL