| Back to Multiple platform build/check report for BioC 3.7 |
|
This page was generated on 2018-10-17 08:25:45 -0400 (Wed, 17 Oct 2018).
| Package 1089/1561 | Hostname | OS / Arch | INSTALL | BUILD | CHECK | BUILD BIN | ||||||
| PhenStat 2.17.0 Hamed Haselimashhadi
| malbec2 | Linux (Ubuntu 16.04.1 LTS) / x86_64 | OK | OK | [ OK ] | |||||||
| tokay2 | Windows Server 2012 R2 Standard / x64 | OK | OK | OK | OK | |||||||
| merida2 | OS X 10.11.6 El Capitan / x86_64 | OK | OK | OK | OK |
| Package: PhenStat |
| Version: 2.17.0 |
| Command: /home/biocbuild/bbs-3.7-bioc/R/bin/R CMD check --install=check:PhenStat.install-out.txt --library=/home/biocbuild/bbs-3.7-bioc/R/library --no-vignettes --timings PhenStat_2.17.0.tar.gz |
| StartedAt: 2018-10-16 02:40:32 -0400 (Tue, 16 Oct 2018) |
| EndedAt: 2018-10-16 02:42:14 -0400 (Tue, 16 Oct 2018) |
| EllapsedTime: 101.9 seconds |
| RetCode: 0 |
| Status: OK |
| CheckDir: PhenStat.Rcheck |
| Warnings: 0 |
############################################################################## ############################################################################## ### ### Running command: ### ### /home/biocbuild/bbs-3.7-bioc/R/bin/R CMD check --install=check:PhenStat.install-out.txt --library=/home/biocbuild/bbs-3.7-bioc/R/library --no-vignettes --timings PhenStat_2.17.0.tar.gz ### ############################################################################## ############################################################################## * using log directory ‘/home/biocbuild/bbs-3.7-bioc/meat/PhenStat.Rcheck’ * using R version 3.5.1 Patched (2018-07-12 r74967) * using platform: x86_64-pc-linux-gnu (64-bit) * using session charset: UTF-8 * using option ‘--no-vignettes’ * checking for file ‘PhenStat/DESCRIPTION’ ... OK * checking extension type ... Package * this is package ‘PhenStat’ version ‘2.17.0’ * checking package namespace information ... OK * checking package dependencies ... OK * checking if this is a source package ... OK * checking if there is a namespace ... OK * checking for hidden files and directories ... OK * checking for portable file names ... OK * checking for sufficient/correct file permissions ... OK * checking whether package ‘PhenStat’ can be installed ... OK * checking installed package size ... OK * checking package directory ... OK * checking ‘build’ directory ... OK * checking DESCRIPTION meta-information ... OK * checking top-level files ... OK * checking for left-over files ... OK * checking index information ... OK * checking package subdirectories ... OK * checking R files for non-ASCII characters ... OK * checking R files for syntax errors ... OK * checking whether the package can be loaded ... OK * checking whether the package can be loaded with stated dependencies ... OK * checking whether the package can be unloaded cleanly ... OK * checking whether the namespace can be loaded with stated dependencies ... OK * checking whether the namespace can be unloaded cleanly ... OK * checking dependencies in R code ... NOTE Namespace in Imports field not imported from: ‘SmoothWin’ All declared Imports should be used. * checking S3 generic/method consistency ... OK * checking replacement functions ... OK * checking foreign function calls ... OK * checking R code for possible problems ... OK * checking Rd files ... OK * checking Rd metadata ... OK * checking Rd cross-references ... OK * checking for missing documentation entries ... OK * checking for code/documentation mismatches ... OK * checking Rd \usage sections ... OK * checking Rd contents ... OK * checking for unstated dependencies in examples ... OK * checking installed files from ‘inst/doc’ ... OK * checking files in ‘vignettes’ ... OK * checking examples ... OK * checking for unstated dependencies in ‘tests’ ... OK * checking tests ... Running ‘runTests.R’ OK * checking for unstated dependencies in vignettes ... OK * checking package vignettes in ‘inst/doc’ ... OK * checking running R code from vignettes ... SKIPPED * checking re-building of vignette outputs ... SKIPPED * checking PDF version of manual ... OK * DONE Status: 1 NOTE See ‘/home/biocbuild/bbs-3.7-bioc/meat/PhenStat.Rcheck/00check.log’ for details.
PhenStat.Rcheck/00install.out
############################################################################## ############################################################################## ### ### Running command: ### ### /home/biocbuild/bbs-3.7-bioc/R/bin/R CMD INSTALL PhenStat ### ############################################################################## ############################################################################## * installing to library ‘/home/biocbuild/bbs-3.7-bioc/R/library’ * installing *source* package ‘PhenStat’ ... ** R ** inst ** byte-compile and prepare package for lazy loading ** help *** installing help indices ** building package indices ** installing vignettes ** testing if installed package can be loaded * DONE (PhenStat)
PhenStat.Rcheck/tests/runTests.Rout
R version 3.5.1 Patched (2018-07-12 r74967) -- "Feather Spray"
Copyright (C) 2018 The R Foundation for Statistical Computing
Platform: x86_64-pc-linux-gnu (64-bit)
R is free software and comes with ABSOLUTELY NO WARRANTY.
You are welcome to redistribute it under certain conditions.
Type 'license()' or 'licence()' for distribution details.
R is a collaborative project with many contributors.
Type 'contributors()' for more information and
'citation()' on how to cite R or R packages in publications.
Type 'demo()' for some demos, 'help()' for on-line help, or
'help.start()' for an HTML browser interface to help.
Type 'q()' to quit R.
> BiocGenerics:::testPackage("PhenStat")
>=========================================================================<
This version of PhenStat includes *FEWER* functions than the previous ones
You *still* can use the previous functions by using `:::`. For example :
PhenStat:::boxplotSexGenotype or PhenStat:::FisherExactTest
*** Want to know what is new in this version? run PhenStat:::WhatIsNew()
>=========================================================================<
RUNIT TEST PROTOCOL -- Tue Oct 16 02:42:09 2018
***********************************************
Number of test functions: 0
Number of errors: 0
Number of failures: 0
1 Test Suite :
PhenStat RUnit Tests - 0 test functions, 0 errors, 0 failures
Number of test functions: 0
Number of errors: 0
Number of failures: 0
>
> proc.time()
user system elapsed
2.576 0.120 2.700
PhenStat.Rcheck/PhenStat-Ex.timings
| name | user | system | elapsed | |
| FisherExactTest | 0.168 | 0.024 | 0.213 | |
| JSONOutput | 0.848 | 0.004 | 0.874 | |
| LRDataset | 0.052 | 0.004 | 0.096 | |
| PhenList-class | 0.184 | 0.000 | 0.182 | |
| PhenList | 0.200 | 0.000 | 0.215 | |
| PhenStatReport | 0.040 | 0.000 | 0.041 | |
| PhenTestResult-class | 0.608 | 0.008 | 0.618 | |
| PhenTestResult | 0.460 | 0.004 | 0.462 | |
| RRTest | 0.080 | 0.004 | 0.083 | |
| TFDataset | 0.252 | 0.004 | 0.257 | |
| analysedDataset | 0.588 | 0.004 | 0.592 | |
| analysisResults | 0.580 | 0.008 | 0.590 | |
| boxplotResidualBatch | 0.620 | 0.004 | 0.622 | |
| boxplotSexGenotype | 0.072 | 0.000 | 0.072 | |
| boxplotSexGenotypeBatch | 0.160 | 0.000 | 0.162 | |
| boxplotSexGenotypeBatchAdjusted | 0.104 | 0.000 | 0.103 | |
| boxplotSexGenotypeResult | 0.816 | 0.004 | 0.823 | |
| boxplotSexGenotypeWeightBatchAdjusted | 0.064 | 0.000 | 0.064 | |
| categoricalBarplot | 0.160 | 0.008 | 0.167 | |
| checkDataset | 0.036 | 0.000 | 0.038 | |
| classificationTag | 0.584 | 0.000 | 0.585 | |
| determiningLambda | 0.532 | 0.016 | 0.547 | |
| dim | 0.044 | 0.000 | 0.045 | |
| finalLRModel | 0.764 | 0.004 | 0.769 | |
| finalModel | 0.484 | 0.000 | 0.487 | |
| finalTFModel | 0.656 | 0.000 | 0.683 | |
| htestPhenStat-class | 0.140 | 0.000 | 0.141 | |
| modelFormula | 0.000 | 0.000 | 0.001 | |
| modelFormulaLR | 0 | 0 | 0 | |
| parserOutputSummary | 0.588 | 0.004 | 0.591 | |
| parserOutputSummaryLR | 0.652 | 0.000 | 0.649 | |
| parserOutputTFSummary | 0.164 | 0.000 | 0.175 | |
| performReverseTransformation | 0 | 0 | 0 | |
| performTransformation | 0.004 | 0.000 | 0.001 | |
| plot.PhenList | 2.004 | 0.012 | 2.029 | |
| plot.PhenTestResult | 1.780 | 0.008 | 1.791 | |
| plotResidualPredicted | 0.568 | 0.000 | 0.567 | |
| printLROutput | 0.492 | 0.000 | 0.494 | |
| printTabStyle | 0.000 | 0.000 | 0.001 | |
| qqplotGenotype | 0.592 | 0.004 | 0.597 | |
| qqplotRandomEffects | 0.580 | 0.008 | 0.590 | |
| qqplotRotatedResiduals | 3.164 | 0.016 | 3.181 | |
| recommendMethod | 0.232 | 0.004 | 0.236 | |
| scatterplotGenotypeWeight | 0.1 | 0.0 | 0.1 | |
| scatterplotGenotypeWeightResult | 0.776 | 0.000 | 0.778 | |
| scatterplotSexGenotypeBatch | 0.076 | 0.004 | 0.084 | |
| scatterplotSexGenotypeBatchResult | 0.760 | 0.004 | 0.767 | |
| startLRModel | 0.448 | 0.000 | 0.448 | |
| startModel | 0.440 | 0.000 | 0.438 | |
| startTFModel | 0.432 | 0.000 | 0.434 | |
| summaryOutput | 0.968 | 0.000 | 0.968 | |
| summaryPhenListResult | 0.712 | 0.004 | 0.719 | |
| testDataset | 1.796 | 0.020 | 1.818 | |
| testFinalLRModel | 0.480 | 0.000 | 0.483 | |
| testFinalModel | 0.708 | 0.004 | 0.716 | |
| vectorOutput | 0.792 | 0.004 | 0.796 | |
| vectorOutputMatrices | 0.136 | 0.000 | 0.134 | |