| Back to Multiple platform build/check report for BioC 3.7 |
|
This page was generated on 2018-10-17 08:29:19 -0400 (Wed, 17 Oct 2018).
| Package 1085/1561 | Hostname | OS / Arch | INSTALL | BUILD | CHECK | BUILD BIN | ||||||
| PharmacoGx 1.10.3 Benjamin Haibe-Kains
| malbec2 | Linux (Ubuntu 16.04.1 LTS) / x86_64 | OK | OK | [ OK ] | |||||||
| tokay2 | Windows Server 2012 R2 Standard / x64 | OK | OK | OK | OK | |||||||
| merida2 | OS X 10.11.6 El Capitan / x86_64 | OK | OK | OK | OK |
| Package: PharmacoGx |
| Version: 1.10.3 |
| Command: /home/biocbuild/bbs-3.7-bioc/R/bin/R CMD check --install=check:PharmacoGx.install-out.txt --library=/home/biocbuild/bbs-3.7-bioc/R/library --no-vignettes --timings PharmacoGx_1.10.3.tar.gz |
| StartedAt: 2018-10-16 02:40:08 -0400 (Tue, 16 Oct 2018) |
| EndedAt: 2018-10-16 02:50:48 -0400 (Tue, 16 Oct 2018) |
| EllapsedTime: 640.5 seconds |
| RetCode: 0 |
| Status: OK |
| CheckDir: PharmacoGx.Rcheck |
| Warnings: 0 |
##############################################################################
##############################################################################
###
### Running command:
###
### /home/biocbuild/bbs-3.7-bioc/R/bin/R CMD check --install=check:PharmacoGx.install-out.txt --library=/home/biocbuild/bbs-3.7-bioc/R/library --no-vignettes --timings PharmacoGx_1.10.3.tar.gz
###
##############################################################################
##############################################################################
* using log directory ‘/home/biocbuild/bbs-3.7-bioc/meat/PharmacoGx.Rcheck’
* using R version 3.5.1 Patched (2018-07-12 r74967)
* using platform: x86_64-pc-linux-gnu (64-bit)
* using session charset: UTF-8
* using option ‘--no-vignettes’
* checking for file ‘PharmacoGx/DESCRIPTION’ ... OK
* checking extension type ... Package
* this is package ‘PharmacoGx’ version ‘1.10.3’
* package encoding: UTF-8
* checking package namespace information ... OK
* checking package dependencies ... OK
* checking if this is a source package ... OK
* checking if there is a namespace ... OK
* checking for hidden files and directories ... OK
* checking for portable file names ... OK
* checking for sufficient/correct file permissions ... OK
* checking whether package ‘PharmacoGx’ can be installed ... OK
* checking installed package size ... OK
* checking package directory ... OK
* checking ‘build’ directory ... OK
* checking DESCRIPTION meta-information ... OK
* checking top-level files ... OK
* checking for left-over files ... OK
* checking index information ... OK
* checking package subdirectories ... OK
* checking R files for non-ASCII characters ... OK
* checking R files for syntax errors ... OK
* checking whether the package can be loaded ... OK
* checking whether the package can be loaded with stated dependencies ... OK
* checking whether the package can be unloaded cleanly ... OK
* checking whether the namespace can be loaded with stated dependencies ... OK
* checking whether the namespace can be unloaded cleanly ... OK
* checking dependencies in R code ... OK
* checking S3 generic/method consistency ... OK
* checking replacement functions ... OK
* checking foreign function calls ... OK
* checking R code for possible problems ... OK
* checking Rd files ... OK
* checking Rd metadata ... OK
* checking Rd cross-references ... OK
* checking for missing documentation entries ... OK
* checking for code/documentation mismatches ... OK
* checking Rd \usage sections ... OK
* checking Rd contents ... OK
* checking for unstated dependencies in examples ... OK
* checking contents of ‘data’ directory ... OK
* checking data for non-ASCII characters ... NOTE
Note: found 2251 marked UTF-8 strings
* checking data for ASCII and uncompressed saves ... OK
* checking files in ‘vignettes’ ... OK
* checking examples ... OK
Examples with CPU or elapsed time > 5s
user system elapsed
intersectPSet 2.304 0.904 128.643
* checking for unstated dependencies in ‘tests’ ... OK
* checking tests ...
Running ‘testthat.R’
OK
* checking for unstated dependencies in vignettes ... OK
* checking package vignettes in ‘inst/doc’ ... OK
* checking running R code from vignettes ... SKIPPED
* checking re-building of vignette outputs ... SKIPPED
* checking PDF version of manual ... OK
* DONE
Status: 1 NOTE
See
‘/home/biocbuild/bbs-3.7-bioc/meat/PharmacoGx.Rcheck/00check.log’
for details.
PharmacoGx.Rcheck/00install.out
############################################################################## ############################################################################## ### ### Running command: ### ### /home/biocbuild/bbs-3.7-bioc/R/bin/R CMD INSTALL PharmacoGx ### ############################################################################## ############################################################################## * installing to library ‘/home/biocbuild/bbs-3.7-bioc/R/library’ * installing *source* package ‘PharmacoGx’ ... ** R ** data ** inst ** byte-compile and prepare package for lazy loading ** help *** installing help indices ** building package indices ** installing vignettes ** testing if installed package can be loaded * DONE (PharmacoGx)
PharmacoGx.Rcheck/tests/testthat.Rout
R version 3.5.1 Patched (2018-07-12 r74967) -- "Feather Spray"
Copyright (C) 2018 The R Foundation for Statistical Computing
Platform: x86_64-pc-linux-gnu (64-bit)
R is free software and comes with ABSOLUTELY NO WARRANTY.
You are welcome to redistribute it under certain conditions.
Type 'license()' or 'licence()' for distribution details.
R is a collaborative project with many contributors.
Type 'contributors()' for more information and
'citation()' on how to cite R or R packages in publications.
Type 'demo()' for some demos, 'help()' for on-line help, or
'help.start()' for an HTML browser interface to help.
Type 'q()' to quit R.
> Sys.unsetenv("R_TESTS")
>
> library(testthat)
> library(PharmacoGx)
>
> test_check("PharmacoGx")
[1] NA 3
[1] 1 2 Inf
[1] NA 3
[1] 1 2 Inf
|
| | 0%
|
|======================================================================| 100%
|
| | 0%
|
|======================================================================| 100%
[1] "Model did not converge"
0 1
8 1
[1] "Model did not converge"
0 1
8 1
[1] "Model did not converge"
0 1
8 1
[1] "Model did not converge"
0 1
8 1
[1] "Model did not converge"
0 1
8 1
[1] "Model did not converge"
0 1
8 1
[1] "Model did not converge"
0 1
8 1
[1] "Model did not converge"
0 1
8 1
[1] "Model did not converge"
0 1
8 1
[1] "Model did not converge"
0 1
8 1
[1] "Model did not converge"
0 1
8 1
[1] "Model did not converge"
0 1
8 1
[1] "Model did not converge"
0 1
8 1
[1] "Model did not converge"
0 1
8 1
[1] "Model did not converge"
0 1
8 1
[1] "Model did not converge"
0 1
8 1
[1] "Model did not converge"
0 1
8 1
[1] "Model did not converge"
0 1
8 1
[1] "Model did not converge"
0 1
8 1
[1] "Model did not converge"
0 1
8 1
[1] "Model did not converge"
0 1
8 1
[1] "Model did not converge"
0 1
8 1
[1] "Model did not converge"
0 1
8 1
[1] "Model did not converge"
0 1
8 1
[1] "Model did not converge"
0 1
8 1
[1] "Model did not converge"
0 1
8 1
[1] "Model did not converge"
0 1
8 1
[1] "Model did not converge"
0 1
8 1
[1] "Model did not converge"
0 1
8 1
[1] "Model did not converge"
0 1
8 1
[1] "Model did not converge"
0 1
8 1
[1] "Model did not converge"
0 1
8 1
[1] "Model did not converge"
0 1
8 1
[1] "Model did not converge"
0 1
8 1
[1] "Model did not converge"
0 1
8 1
[1] "Model did not converge"
0 1
8 1
[1] "Model did not converge"
0 1
8 1
[1] "Model did not converge"
0 1
8 1
[1] "Model did not converge"
0 1
8 1
[1] "Model did not converge"
0 1
8 1
[1] "Model did not converge"
0 1
8 1
[1] "Model did not converge"
0 1
8 1
[1] "Model did not converge"
0 1
8 1
[1] "Model did not converge"
0 1
8 1
[1] "Model did not converge"
0 1
8 1
[1] "Model did not converge"
0 1
8 1
[1] "Model did not converge"
0 1
8 1
[1] "Model did not converge"
0 1
8 1
[1] "Model did not converge"
0 1
8 1
[1] "Model did not converge"
0 1
8 1
[1] "Model did not converge"
0 1
2 7
[1] "Model did not converge"
0 1
2 7
[1] "Model did not converge"
0 1
2 7
[1] "Model did not converge"
0 1
2 7
[1] "Model did not converge"
0 1
2 7
[1] "Model did not converge"
0 1
2 7
[1] "Model did not converge"
0 1
2 7
[1] "Model did not converge"
0 1
2 7
[1] "Model did not converge"
0 1
2 7
[1] "Model did not converge"
0 1
2 7
[1] "Model did not converge"
0 1
2 7
[1] "Model did not converge"
0 1
2 7
[1] "Model did not converge"
0 1
2 7
[1] "Model did not converge"
0 1
2 7
[1] "Model did not converge"
0 1
2 7
[1] "Model did not converge"
0 1
2 7
[1] "Model did not converge"
0 1
2 7
[1] "Model did not converge"
0 1
2 7
[1] "Model did not converge"
0 1
2 7
[1] "Model did not converge"
0 1
2 7
[1] "Model did not converge"
0 1
2 7
[1] "Model did not converge"
0 1
2 7
[1] "Model did not converge"
0 1
2 7
[1] "Model did not converge"
0 1
2 7
[1] "Model did not converge"
0 1
2 7
[1] "Model did not converge"
0 1
2 7
[1] "Model did not converge"
0 1
2 7
[1] "Model did not converge"
0 1
2 7
[1] "Model did not converge"
0 1
6 3
[1] "Model did not converge"
0 1
6 3
[1] "Model did not converge"
0 1
6 3
[1] "Model did not converge"
0 1
6 3
[1] "Model did not converge"
0 1
6 3
[1] "Model did not converge"
0 1
6 3
[1] "Model did not converge"
0 1
6 3
[1] "Model did not converge"
0 1
6 3
[1] "Model did not converge"
0 1
6 3
[1] "Model did not converge"
0 1
6 3
[1] "Model did not converge"
0 1
6 3
[1] "Model did not converge"
0 1
6 3
[1] "Model did not converge"
0 1
6 3
[1] "Model did not converge"
0 1
6 3
[1] "Model did not converge"
0 1
6 3
[1] "Model did not converge"
0 1
6 3
[1] "Model did not converge"
0 1
6 3
[1] "Model did not converge"
0 1
6 3
[1] "Model did not converge"
0 1
6 3
[1] "Model did not converge"
0 1
6 3
[1] "Model did not converge"
0 1
6 3
[1] "Model did not converge"
0 1
6 3
[1] "Model did not converge"
0 1
6 3
[1] "Model did not converge"
0 1
6 3
[1] "Model did not converge"
0 1
6 3
[1] "Model did not converge"
0 1
6 3
[1] "Model did not converge"
0 1
6 3
[1] "Model did not converge"
0 1
6 3
[1] "Model did not converge"
0 1
6 3
[1] "Model did not converge"
0 1
6 3
[1] "Model did not converge"
0 1
6 3
[1] "Model did not converge"
0 1
6 3
[1] "Model did not converge"
0 1
6 3
[1] "Model did not converge"
0 1
6 3
[1] "Model did not converge"
0 1
6 3
[1] "Model did not converge"
0 1
6 3
[1] "Model did not converge"
0 1
6 3
[1] "Model did not converge"
0 1
6 3
[1] "Model did not converge"
0 1
6 3
[1] "Model did not converge"
0 1
6 3
[1] "Model did not converge"
0 1
6 3
[1] "Model did not converge"
0 1
6 3
[1] "Model did not converge"
0 1
6 3
[1] "Model did not converge"
0 1
6 3
[1] "Model did not converge"
0 1
6 3
[1] "Model did not converge"
0 1
6 3
[1] "Model did not converge"
0 1
6 3
[1] "Model did not converge"
0 1
6 3
[1] "Model did not converge"
0 1
6 3
[1] "Model did not converge"
0 1
6 3
[1] "Model did not converge"
0 1
8 1
[1] "Model did not converge"
0 1
8 1
[1] "Model did not converge"
0 1
8 1
[1] "Model did not converge"
0 1
8 1
[1] "Model did not converge"
0 1
8 1
[1] "Model did not converge"
0 1
8 1
[1] "Model did not converge"
0 1
8 1
[1] "Model did not converge"
0 1
8 1
[1] "Model did not converge"
0 1
8 1
[1] "Model did not converge"
0 1
8 1
[1] "Model did not converge"
0 1
8 1
[1] "Model did not converge"
0 1
8 1
[1] "Model did not converge"
0 1
8 1
[1] "Model did not converge"
0 1
8 1
[1] "Model did not converge"
0 1
8 1
[1] "Model did not converge"
0 1
8 1
[1] "Model did not converge"
0 1
8 1
[1] "Model did not converge"
0 1
8 1
[1] "Model did not converge"
0 1
8 1
[1] "Model did not converge"
0 1
8 1
[1] "Model did not converge"
0 1
8 1
[1] "Model did not converge"
0 1
8 1
[1] "Model did not converge"
0 1
8 1
[1] "Model did not converge"
0 1
8 1
[1] "Model did not converge"
0 1
8 1
[1] "Model did not converge"
0 1
8 1
[1] "Model did not converge"
0 1
8 1
[1] "Model did not converge"
0 1
8 1
[1] "Model did not converge"
0 1
8 1
[1] "Model did not converge"
0 1
8 1
[1] "Model did not converge"
0 1
8 1
[1] "Model did not converge"
0 1
8 1
[1] "Model did not converge"
0 1
8 1
[1] "Model did not converge"
0 1
8 1
[1] "Model did not converge"
0 1
8 1
[1] "Model did not converge"
0 1
8 1
[1] "Model did not converge"
0 1
8 1
[1] "Model did not converge"
0 1
8 1
[1] "Model did not converge"
0 1
8 1
[1] "Model did not converge"
0 1
8 1
[1] "Model did not converge"
0 1
8 1
[1] "Model did not converge"
0 1
8 1
[1] "Model did not converge"
0 1
8 1
[1] "Model did not converge"
0 1
8 1
[1] "Model did not converge"
0 1
8 1
[1] "Model did not converge"
0 1
8 1
[1] "Model did not converge"
0 1
8 1
[1] "Model did not converge"
0 1
8 1
[1] "Model did not converge"
0 1
8 1
[1] "Model did not converge"
0 1
8 1
[1] "Model did not converge"
0 1
3 6
[1] "Model did not converge"
0 1
3 6
[1] "Model did not converge"
0 1
3 6
[1] "Model did not converge"
0 1
3 6
[1] "Model did not converge"
0 1
3 6
[1] "Model did not converge"
0 1
3 6
[1] "Model did not converge"
0 1
3 6
[1] "Model did not converge"
0 1
3 6
[1] "Model did not converge"
0 1
3 6
[1] "Model did not converge"
0 1
3 6
[1] "Model did not converge"
0 1
3 6
[1] "Model did not converge"
0 1
3 6
[1] "Model did not converge"
0 1
3 6
[1] "Model did not converge"
0 1
3 6
[1] "Model did not converge"
0 1
3 6
[1] "Model did not converge"
0 1
3 6
[1] "Model did not converge"
0 1
3 6
[1] "Model did not converge"
0 1
3 6
[1] "Model did not converge"
0 1
3 6
[1] "Model did not converge"
0 1
1 8
[1] "Model did not converge"
0 1
1 8
[1] "Model did not converge"
0 1
1 8
[1] "Model did not converge"
0 1
1 8
[1] "Model did not converge"
0 1
1 8
[1] "Model did not converge"
0 1
1 8
[1] "Model did not converge"
0 1
1 8
[1] "Model did not converge"
0 1
1 8
[1] "Model did not converge"
0 1
1 8
[1] "Model did not converge"
0 1
1 8
[1] "Model did not converge"
0 1
1 8
[1] "Model did not converge"
0 1
1 8
[1] "Model did not converge"
0 1
1 8
[1] "Model did not converge"
0 1
1 8
[1] "Model did not converge"
0 1
1 8
[1] "Model did not converge"
0 1
1 8
[1] "Model did not converge"
0 1
1 8
[1] "Model did not converge"
0 1
1 8
[1] "Model did not converge"
0 1
1 8
[1] "Model did not converge"
0 1
1 8
[1] "Model did not converge"
0 1
1 8
[1] "Model did not converge"
0 1
1 8
[1] "Model did not converge"
0 1
1 8
[1] "Model did not converge"
0 1
1 8
[1] "Model did not converge"
0 1
1 8
[1] "Model did not converge"
0 1
1 8
[1] "Model did not converge"
0 1
1 8
[1] "Model did not converge"
0 1
1 8
[1] "Model did not converge"
0 1
1 8
[1] "Model did not converge"
0 1
1 8
[1] "Model did not converge"
0 1
1 8
[1] "Model did not converge"
0 1
1 8
[1] "Model did not converge"
0 1
1 8
[1] "Model did not converge"
0 1
1 8
[1] "Model did not converge"
0 1
1 8
[1] "Model did not converge"
0 1
1 8
[1] "Model did not converge"
0 1
1 8
[1] "Model did not converge"
0 1
8 1
[1] "Model did not converge"
0 1
8 1
[1] "Model did not converge"
0 1
8 1
[1] "Model did not converge"
0 1
8 1
[1] "Model did not converge"
0 1
8 1
[1] "Model did not converge"
0 1
8 1
[1] "Model did not converge"
0 1
8 1
[1] "Model did not converge"
0 1
8 1
[1] "Model did not converge"
0 1
8 1
[1] "Model did not converge"
0 1
8 1
[1] "Model did not converge"
0 1
8 1
[1] "Model did not converge"
0 1
8 1
[1] "Model did not converge"
0 1
8 1
[1] "Model did not converge"
0 1
8 1
[1] "Model did not converge"
0 1
8 1
[1] "Model did not converge"
0 1
8 1
[1] "Model did not converge"
0 1
8 1
[1] "Model did not converge"
0 1
8 1
[1] "Model did not converge"
0 1
8 1
[1] "Model did not converge"
0 1
8 1
[1] "Model did not converge"
0 1
8 1
[1] "Model did not converge"
0 1
8 1
[1] "Model did not converge"
0 1
8 1
[1] "Model did not converge"
0 1
8 1
[1] "Model did not converge"
0 1
8 1
[1] "Model did not converge"
0 1
8 1
[1] "Model did not converge"
0 1
8 1
[1] "Model did not converge"
0 1
8 1
[1] "Model did not converge"
0 1
8 1
[1] "Model did not converge"
0 1
8 1
[1] "Model did not converge"
0 1
8 1
[1] "Model did not converge"
0 1
8 1
[1] "Model did not converge"
0 1
8 1
[1] "Model did not converge"
0 1
8 1
[1] "Model did not converge"
0 1
8 1
[1] "Model did not converge"
0 1
8 1
[1] "Model did not converge"
0 1
8 1
[1] "Model did not converge"
0 1
1 8
[1] "Model did not converge"
0 1
1 8
[1] "Model did not converge"
0 1
1 8
[1] "Model did not converge"
0 1
1 8
[1] "Model did not converge"
0 1
1 8
[1] "Model did not converge"
0 1
1 8
[1] "Model did not converge"
0 1
1 8
[1] "Model did not converge"
0 1
1 8
[1] "Model did not converge"
0 1
1 8
[1] "Model did not converge"
0 1
1 8
[1] "Model did not converge"
0 1
1 8
[1] "Model did not converge"
0 1
1 8
[1] "Model did not converge"
0 1
1 8
[1] "Model did not converge"
0 1
1 8
[1] "Model did not converge"
0 1
1 8
[1] "Model did not converge"
0 1
1 8
[1] "Model did not converge"
0 1
1 8
[1] "Model did not converge"
0 1
1 8
[1] "Model did not converge"
0 1
1 8
[1] "Model did not converge"
0 1
1 8
[1] "Model did not converge"
0 1
1 8
[1] "Model did not converge"
0 1
1 8
[1] "Model did not converge"
0 1
1 8
[1] "Model did not converge"
0 1
1 8
[1] "Model did not converge"
0 1
1 8
[1] "Model did not converge"
0 1
1 8
[1] "Model did not converge"
0 1
1 8
[1] "Model did not converge"
0 1
1 8
[1] "Model did not converge"
0 1
1 8
[1] "Model did not converge"
0 1
1 8
[1] "Model did not converge"
0 1
1 8
[1] "Model did not converge"
0 1
1 8
[1] "Model did not converge"
0 1
1 8
[1] "Model did not converge"
0 1
1 8
[1] "Model did not converge"
0 1
1 8
[1] "Model did not converge"
0 1
1 8
[1] "Model did not converge"
0 1
1 8
[1] "Model did not converge"
0 1
7 2
[1] "Model did not converge"
0 1
7 2
[1] "Model did not converge"
0 1
7 2
[1] "Model did not converge"
0 1
7 2
[1] "Model did not converge"
0 1
7 2
[1] "Model did not converge"
0 1
7 2
[1] "Model did not converge"
0 1
7 2
[1] "Model did not converge"
0 1
7 2
[1] "Model did not converge"
0 1
7 2
[1] "Model did not converge"
0 1
7 2
[1] "Model did not converge"
0 1
7 2
[1] "Model did not converge"
0 1
7 2
[1] "Model did not converge"
0 1
7 2
[1] "Model did not converge"
0 1
7 2
[1] "Model did not converge"
0 1
7 2
[1] "Model did not converge"
0 1
7 2
[1] "Model did not converge"
0 1
7 2
[1] "Model did not converge"
0 1
7 2
[1] "Model did not converge"
0 1
7 2
[1] "Model did not converge"
0 1
7 2
[1] "Model did not converge"
0 1
7 2
[1] "Model did not converge"
0 1
7 2
[1] "Model did not converge"
0 1
7 2
[1] "Model did not converge"
0 1
7 2
[1] "Model did not converge"
0 1
7 2
[1] "Model did not converge"
0 1
7 2
[1] "Model did not converge"
0 1
7 2
[1] "Model did not converge"
0 1
7 2
[1] "Model did not converge"
0 1
7 2
[1] "Model did not converge"
0 1
7 2
[1] "Model did not converge"
0 1
7 2
[1] "Model did not converge"
0 1
7 2
[1] "Model did not converge"
0 1
7 2
[1] "Model did not converge"
0 1
7 2
[1] "Model did not converge"
0 1
7 2
[1] "Model did not converge"
0 1
7 2
[1] "Model did not converge"
0 1
7 2
[1] "Model did not converge"
0 1
7 2
[1] "Model did not converge"
0 1
7 2
[1] "Model did not converge"
0 1
7 2
[1] "Model did not converge"
0 1
7 2
[1] "Model did not converge"
0 1
7 2
[1] "Model did not converge"
0 1
7 2
[1] "Model did not converge"
0 1
7 2
[1] "Model did not converge"
0 1
7 2
[1] "Model did not converge"
0 1
7 2
[1] "Model did not converge"
0 1
7 2
[1] "Model did not converge"
0 1
7 2
[1] "Model did not converge"
0 1
7 2
[1] "Model did not converge"
0 1
7 2
[1] "Model did not converge"
0 1
7 2
[1] "Model did not converge"
0 1
7 2
[1] "Model did not converge"
0 1
7 2
[1] "Model did not converge"
0 1
7 2
[1] "Model did not converge"
0 1
7 2
[1] "Model did not converge"
0 1
7 2
[1] "Model did not converge"
0 1
7 2
[1] "Model did not converge"
0 1
7 2
[1] "Model did not converge"
0 1
7 2
[1] "Model did not converge"
0 1
7 2
[1] "Model did not converge"
0 1
7 2
[1] "Model did not converge"
0 1
7 2
[1] "Model did not converge"
0 1
7 2
[1] "Model did not converge"
0 1
7 2
[1] "Model did not converge"
0 1
7 2
[1] "Model did not converge"
0 1
7 2
[1] "Model did not converge"
0 1
7 2
[1] "Model did not converge"
0 1
7 2
[1] "Model did not converge"
0 1
7 2
[1] "Model did not converge"
0 1
7 2
[1] "Model did not converge"
0 1
7 2
[1] "Model did not converge"
0 1
7 2
[1] "Model did not converge"
0 1
7 2
[1] "Model did not converge"
0 1
7 2
[1] "Model did not converge"
0 1
7 2
[1] "Model did not converge"
0 1
7 2
[1] "Model did not converge"
0 1
7 2
[1] "Model did not converge"
0 1
7 2
[1] "Model did not converge"
0 1
7 2
[1] "Model did not converge"
0 1
7 2
[1] "Model did not converge"
0 1
7 2
[1] "Model did not converge"
0 1
7 2
[1] "Model did not converge"
0 1
7 2
[1] "Model did not converge"
0 1
7 2
[1] "Model did not converge"
0 1
7 2
[1] "Model did not converge"
0 1
7 2
[1] "Model did not converge"
0 1
7 2
[1] "Model did not converge"
0 1
7 2
[1] "Model did not converge"
0 1
7 2
[1] "Model did not converge"
0 1
7 2
[1] "Model did not converge"
0 1
7 2
[1] "Model did not converge"
0 1
7 2
[1] "Model did not converge"
0 1
7 2
[1] "Model did not converge"
0 1
7 2
[1] "Model did not converge"
0 1
7 2
[1] "Model did not converge"
0 1
7 2
[1] "Model did not converge"
0 1
7 2
[1] "Model did not converge"
0 1
7 2
[1] "Model did not converge"
0 1
7 2
[1] "Model did not converge"
0 1
7 2
[1] "Model did not converge"
0 1
6 3
[1] "Model did not converge"
0 1
6 3
[1] "Model did not converge"
0 1
6 3
[1] "Model did not converge"
0 1
6 3
[1] "Model did not converge"
0 1
6 3
[1] "Model did not converge"
0 1
6 3
[1] "Model did not converge"
0 1
6 3
[1] "Model did not converge"
0 1
6 3
[1] "Model did not converge"
0 1
6 3
[1] "Model did not converge"
0 1
6 3
[1] "Model did not converge"
0 1
6 3
[1] "Model did not converge"
0 1
6 3
[1] "Model did not converge"
0 1
6 3
[1] "Model did not converge"
0 1
6 3
[1] "Model did not converge"
0 1
6 3
[1] "Model did not converge"
0 1
6 3
[1] "Model did not converge"
0 1
6 3
[1] "Model did not converge"
0 1
6 3
[1] "Model did not converge"
0 1
6 3
[1] "Model did not converge"
0 1
6 3
[1] "Model did not converge"
0 1
6 3
[1] "Model did not converge"
0 1
6 3
[1] "Model did not converge"
0 1
3 6
[1] "Model did not converge"
0 1
3 6
[1] "Model did not converge"
0 1
3 6
[1] "Model did not converge"
0 1
3 6
[1] "Model did not converge"
0 1
3 6
[1] "Model did not converge"
0 1
3 6
[1] "Model did not converge"
0 1
3 6
[1] "Model did not converge"
0 1
3 6
[1] "Model did not converge"
0 1
3 6
[1] "Model did not converge"
0 1
3 6
[1] "Model did not converge"
0 1
3 6
[1] "Model did not converge"
0 1
3 6
[1] "Model did not converge"
0 1
3 6
[1] "Model did not converge"
0 1
3 6
[1] "Model did not converge"
0 1
3 6
[1] "Model did not converge"
0 1
3 6
[1] "Model did not converge"
0 1
3 6
[1] "Model did not converge"
0 1
3 6
[1] "Model did not converge"
0 1
3 6
[1] "Model did not converge"
0 1
3 6
[1] "Model did not converge"
0 1
3 6
[1] "Model did not converge"
0 1
3 6
[1] "Model did not converge"
0 1
3 6
[1] "Model did not converge"
0 1
3 6
[1] "Model did not converge"
0 1
3 6
[1] "Model did not converge"
0 1
3 6
[1] "Model did not converge"
0 1
3 6
[1] "Model did not converge"
0 1
3 6
[1] "Model did not converge"
0 1
4 5
[1] "Model did not converge"
0 1
4 5
[1] "Model did not converge"
0 1
4 5
[1] "Model did not converge"
0 1
4 5
[1] "Model did not converge"
0 1
4 5
[1] "Model did not converge"
0 1
4 5
[1] "Model did not converge"
0 1
4 5
[1] "Model did not converge"
0 1
4 5
[1] "Model did not converge"
0 1
4 5
[1] "Model did not converge"
0 1
4 5
[1] "Model did not converge"
0 1
4 5
[1] "Model did not converge"
0 1
4 5
[1] "Model did not converge"
0 1
4 5
[1] "Model did not converge"
0 1
4 5
[1] "Model did not converge"
0 1
4 5
[1] "Model did not converge"
0 1
4 5
[1] "Model did not converge"
0 1
4 5
[1] "Model did not converge"
0 1
4 5
[1] "Model did not converge"
0 1
4 5
[1] "Model did not converge"
0 1
4 5
[1] "Model did not converge"
0 1
4 5
[1] "Model did not converge"
0 1
4 5
[1] "Model did not converge"
0 1
4 5
[1] "Model did not converge"
0 1
4 5
[1] "Model did not converge"
0 1
4 5
[1] "Model did not converge"
0 1
4 5
[1] "Model did not converge"
0 1
4 5
[1] "Model did not converge"
0 1
4 5
[1] "Model did not converge"
0 1
4 5
[1] "Model did not converge"
0 1
4 5
[1] "Model did not converge"
0 1
4 5
[1] "Model did not converge"
0 1
4 5
[1] "Model did not converge"
0 1
4 5
[1] "Model did not converge"
0 1
4 5
[1] "Model did not converge"
0 1
4 5
[1] "Model did not converge"
0 1
4 5
[1] "Model did not converge"
0 1
4 5
[1] "Model did not converge"
0 1
5 4
[1] "Model did not converge"
0 1
5 4
[1] "Model did not converge"
0 1
5 4
[1] "Model did not converge"
0 1
5 4
[1] "Model did not converge"
0 1
5 4
[1] "Model did not converge"
0 1
5 4
[1] "Model did not converge"
0 1
5 4
[1] "Model did not converge"
0 1
5 4
[1] "Model did not converge"
0 1
5 4
[1] "Model did not converge"
0 1
5 4
[1] "Model did not converge"
0 1
5 4
[1] "Model did not converge"
0 1
5 4
[1] "Model did not converge"
0 1
5 4
[1] "Model did not converge"
0 1
5 4
[1] "Model did not converge"
0 1
5 4
[1] "Model did not converge"
0 1
5 4
[1] "Model did not converge"
0 1
5 4
[1] "Model did not converge"
0 1
5 4
[1] "Model did not converge"
0 1
5 4
[1] "Model did not converge"
0 1
5 4
[1] "Model did not converge"
0 1
5 4
[1] "Model did not converge"
0 1
5 4
[1] "Model did not converge"
0 1
5 4
[1] "Model did not converge"
0 1
5 4
[1] "Model did not converge"
0 1
5 4
[1] "Model did not converge"
0 1
5 4
[1] "Model did not converge"
0 1
5 4
[1] "Model did not converge"
0 1
5 4
[1] "Model did not converge"
0 1
8 1
[1] "Model did not converge"
0 1
8 1
[1] "Model did not converge"
0 1
8 1
[1] "Model did not converge"
0 1
8 1
[1] "Model did not converge"
0 1
8 1
[1] "Model did not converge"
0 1
8 1
[1] "Model did not converge"
0 1
8 1
[1] "Model did not converge"
0 1
8 1
[1] "Model did not converge"
0 1
8 1
[1] "Model did not converge"
0 1
8 1
[1] "Model did not converge"
0 1
8 1
[1] "Model did not converge"
0 1
8 1
[1] "Model did not converge"
0 1
8 1
[1] "Model did not converge"
0 1
8 1
[1] "Model did not converge"
0 1
8 1
[1] "Model did not converge"
0 1
8 1
[1] "Model did not converge"
0 1
8 1
[1] "Model did not converge"
0 1
8 1
[1] "Model did not converge"
0 1
8 1
[1] "Model did not converge"
0 1
8 1
[1] "Model did not converge"
0 1
8 1
[1] "Model did not converge"
0 1
8 1
[1] "Model did not converge"
0 1
8 1
[1] "Model did not converge"
0 1
8 1
[1] "Model did not converge"
0 1
8 1
[1] "Model did not converge"
0 1
8 1
[1] "Model did not converge"
0 1
8 1
[1] "Model did not converge"
0 1
8 1
[1] "Model did not converge"
0 1
8 1
[1] "Model did not converge"
0 1
8 1
[1] "Model did not converge"
0 1
8 1
[1] "Model did not converge"
0 1
8 1
[1] "Model did not converge"
0 1
8 1
[1] "Model did not converge"
0 1
8 1
[1] "Model did not converge"
0 1
8 1
[1] "Model did not converge"
0 1
8 1
[1] "Model did not converge"
0 1
8 1
[1] "Model did not converge"
0 1
8 1
[1] "Model did not converge"
0 1
8 1
[1] "Model did not converge"
0 1
8 1
[1] "Model did not converge"
0 1
8 1
[1] "Model did not converge"
0 1
8 1
[1] "Model did not converge"
0 1
8 1
[1] "Model did not converge"
0 1
8 1
[1] "Model did not converge"
0 1
8 1
[1] "Model did not converge"
0 1
8 1
[1] "Model did not converge"
0 1
8 1
[1] "Model did not converge"
0 1
8 1
[1] "Model did not converge"
0 1
8 1
[1] "Model did not converge"
0 1
8 1
[1] "Model did not converge"
0 1
8 1
[1] "Model did not converge"
0 1
8 1
[1] "Model did not converge"
0 1
8 1
[1] "Model did not converge"
0 1
8 1
[1] "Model did not converge"
0 1
8 1
[1] "Model did not converge"
0 1
8 1
[1] "Model did not converge"
0 1
8 1
[1] "Model did not converge"
0 1
8 1
[1] "Model did not converge"
0 1
8 1
[1] "Model did not converge"
0 1
8 1
[1] "Model did not converge"
0 1
8 1
[1] "Model did not converge"
0 1
8 1
[1] "Model did not converge"
0 1
8 1
[1] "Model did not converge"
0 1
8 1
[1] "Model did not converge"
0 1
8 1
[1] "Model did not converge"
0 1
8 1
[1] "Model did not converge"
0 1
8 1
[1] "Model did not converge"
0 1
8 1
[1] "Model did not converge"
0 1
8 1
[1] "Model did not converge"
0 1
8 1
[1] "Model did not converge"
0 1
8 1
[1] "Model did not converge"
0 1
8 1
[1] "Model did not converge"
0 1
8 1
[1] "Model did not converge"
0 1
8 1
[1] "Model did not converge"
0 1
8 1
[1] "Model did not converge"
0 1
8 1
[1] "Model did not converge"
0 1
8 1
[1] "Model did not converge"
0 1
8 1
[1] "Model did not converge"
0 1
8 1
[1] "Model did not converge"
0 1
8 1
[1] "Model did not converge"
0 1
8 1
[1] "Model did not converge"
0 1
8 1
[1] "Model did not converge"
0 1
8 1
[1] "Model did not converge"
0 1
8 1
[1] "Model did not converge"
0 1
8 1
[1] "Model did not converge"
0 1
8 1
[1] "Model did not converge"
0 1
8 1
[1] "Model did not converge"
0 1
7 2
[1] "Model did not converge"
0 1
7 2
[1] "Model did not converge"
0 1
7 2
[1] "Model did not converge"
0 1
7 2
[1] "Model did not converge"
0 1
7 2
[1] "Model did not converge"
0 1
7 2
[1] "Model did not converge"
0 1
7 2
[1] "Model did not converge"
0 1
7 2
[1] "Model did not converge"
0 1
7 2
[1] "Model did not converge"
0 1
7 2
[1] "Model did not converge"
0 1
7 2
[1] "Model did not converge"
0 1
7 2
[1] "Model did not converge"
0 1
7 2
[1] "Model did not converge"
0 1
7 2
[1] "Model did not converge"
0 1
7 2
[1] "Model did not converge"
0 1
7 2
[1] "Model did not converge"
0 1
7 2
[1] "Model did not converge"
0 1
7 2
[1] "Model did not converge"
0 1
7 2
[1] "Model did not converge"
0 1
7 2
[1] "Model did not converge"
0 1
7 2
[1] "Model did not converge"
0 1
7 2
[1] "Model did not converge"
0 1
2 7
[1] "Model did not converge"
0 1
2 7
[1] "Model did not converge"
0 1
2 7
[1] "Model did not converge"
0 1
2 7
[1] "Model did not converge"
0 1
2 7
[1] "Model did not converge"
0 1
2 7
[1] "Model did not converge"
0 1
2 7
[1] "Model did not converge"
0 1
2 7
[1] "Model did not converge"
0 1
2 7
[1] "Model did not converge"
0 1
2 7
[1] "Model did not converge"
0 1
2 7
[1] "Model did not converge"
0 1
2 7
[1] "Model did not converge"
0 1
2 7
[1] "Model did not converge"
0 1
2 7
[1] "Model did not converge"
0 1
2 7
[1] "Model did not converge"
0 1
2 7
[1] "Model did not converge"
0 1
2 7
[1] "Model did not converge"
0 1
2 7
[1] "Model did not converge"
0 1
2 7
[1] "Model did not converge"
0 1
2 7
[1] "Model did not converge"
0 1
2 7
[1] "Model did not converge"
0 1
2 7
[1] "Model did not converge"
0 1
2 7
[1] "Model did not converge"
0 1
2 7
[1] "Model did not converge"
0 1
2 7
[1] "Model did not converge"
0 1
2 7
[1] "Model did not converge"
0 1
2 7
[1] "Model did not converge"
0 1
2 7
[1] "Model did not converge"
0 1
2 7
[1] "Model did not converge"
0 1
2 7
[1] "Model did not converge"
0 1
2 7
[1] "Model did not converge"
0 1
2 7
[1] "Model did not converge"
0 1
2 7
[1] "Model did not converge"
0 1
2 7
[1] "Model did not converge"
0 1
2 7
[1] "Model did not converge"
0 1
2 7
[1] "Model did not converge"
0 1
2 7
[1] "Model did not converge"
0 1
7 2
[1] "Model did not converge"
0 1
7 2
[1] "Model did not converge"
0 1
7 2
[1] "Model did not converge"
0 1
7 2
[1] "Model did not converge"
0 1
7 2
[1] "Model did not converge"
0 1
7 2
[1] "Model did not converge"
0 1
7 2
[1] "Model did not converge"
0 1
7 2
[1] "Model did not converge"
0 1
7 2
[1] "Model did not converge"
0 1
7 2
[1] "Model did not converge"
0 1
7 2
[1] "Model did not converge"
0 1
7 2
[1] "Model did not converge"
0 1
7 2
[1] "Model did not converge"
0 1
7 2
[1] "Model did not converge"
0 1
7 2
[1] "Model did not converge"
0 1
7 2
[1] "Model did not converge"
0 1
7 2
[1] "Model did not converge"
0 1
7 2
[1] "Model did not converge"
0 1
7 2
[1] "Model did not converge"
0 1
7 2
[1] "Model did not converge"
0 1
7 2
[1] "Model did not converge"
0 1
7 2
[1] "Model did not converge"
0 1
7 2
[1] "Model did not converge"
0 1
7 2
[1] "Model did not converge"
0 1
7 2
[1] "Model did not converge"
0 1
7 2
[1] "Model did not converge"
0 1
7 2
[1] "Model did not converge"
0 1
7 2
[1] "Model did not converge"
0 1
7 2
[1] "Model did not converge"
0 1
7 2
[1] "Model did not converge"
0 1
7 2
[1] "Model did not converge"
0 1
7 2
[1] "Model did not converge"
0 1
7 2
[1] "Model did not converge"
0 1
7 2
[1] "Model did not converge"
0 1
7 2
[1] "Model did not converge"
0 1
7 2
[1] "Model did not converge"
0 1
7 2
[1] "Model did not converge"
0 1
7 2
[1] "Model did not converge"
0 1
7 2
[1] "Model did not converge"
0 1
7 2
[1] "Model did not converge"
0 1
7 2
[1] "Model did not converge"
0 1
7 2
[1] "Model did not converge"
0 1
7 2
[1] "Model did not converge"
0 1
7 2
[1] "Model did not converge"
0 1
7 2
[1] "Model did not converge"
0 1
7 2
[1] "Model did not converge"
0 1
7 2
[1] "Model did not converge"
0 1
7 2
[1] "Model did not converge"
0 1
7 2
[1] "Model did not converge"
0 1
7 2
[1] "Model did not converge"
0 1
2 7
[1] "Model did not converge"
0 1
2 7
[1] "Model did not converge"
0 1
2 7
[1] "Model did not converge"
0 1
2 7
[1] "Model did not converge"
0 1
2 7
[1] "Model did not converge"
0 1
2 7
[1] "Model did not converge"
0 1
2 7
[1] "Model did not converge"
0 1
2 7
[1] "Model did not converge"
0 1
2 7
[1] "Model did not converge"
0 1
2 7
[1] "Model did not converge"
0 1
2 7
[1] "Model did not converge"
0 1
2 7
[1] "Model did not converge"
0 1
2 7
[1] "Model did not converge"
0 1
2 7
[1] "Model did not converge"
0 1
2 7
[1] "Model did not converge"
0 1
2 7
[1] "Model did not converge"
0 1
4 5
[1] "Model did not converge"
0 1
4 5
[1] "Model did not converge"
0 1
4 5
[1] "Model did not converge"
0 1
4 5
[1] "Model did not converge"
0 1
4 5
[1] "Model did not converge"
0 1
4 5
[1] "Model did not converge"
0 1
4 5
[1] "Model did not converge"
0 1
4 5
[1] "Model did not converge"
0 1
4 5
[1] "Model did not converge"
0 1
4 5
[1] "Model did not converge"
0 1
4 5
[1] "Model did not converge"
0 1
4 5
[1] "Model did not converge"
0 1
4 5
[1] "Model did not converge"
0 1
4 5
[1] "Model did not converge"
0 1
4 5
[1] "Model did not converge"
0 1
4 5
[1] "Model did not converge"
0 1
4 5
[1] "Model did not converge"
0 1
4 5
[1] "Model did not converge"
0 1
4 5
[1] "Model did not converge"
0 1
4 5
[1] "Model did not converge"
0 1
4 5
[1] "Model did not converge"
0 1
4 5
[1] "Model did not converge"
0 1
4 5
[1] "Model did not converge"
0 1
4 5
[1] "Model did not converge"
0 1
4 5
[1] "Model did not converge"
0 1
4 5
[1] "Model did not converge"
0 1
4 5
[1] "Model did not converge"
0 1
4 5
[1] "Model did not converge"
0 1
4 5
[1] "Model did not converge"
0 1
4 5
[1] "Model did not converge"
0 1
4 5
[1] "Model did not converge"
0 1
4 5
[1] "Model did not converge"
0 1
4 5
[1] "Model did not converge"
0 1
4 5
[1] "Model did not converge"
0 1
4 5
[1] "Model did not converge"
0 1
4 5
[1] "Model did not converge"
0 1
4 5
[1] "Model did not converge"
0 1
5 4
[1] "Model did not converge"
0 1
5 4
[1] "Model did not converge"
0 1
5 4
[1] "Model did not converge"
0 1
5 4
[1] "Model did not converge"
0 1
5 4
[1] "Model did not converge"
0 1
5 4
[1] "Model did not converge"
0 1
5 4
[1] "Model did not converge"
0 1
5 4
[1] "Model did not converge"
0 1
5 4
[1] "Model did not converge"
0 1
5 4
[1] "Model did not converge"
0 1
5 4
[1] "Model did not converge"
0 1
5 4
[1] "Model did not converge"
0 1
5 4
[1] "Model did not converge"
0 1
5 4
[1] "Model did not converge"
0 1
5 4
[1] "Model did not converge"
0 1
5 4
[1] "Model did not converge"
0 1
5 4
[1] "Model did not converge"
0 1
5 4
[1] "Model did not converge"
0 1
5 4
[1] "Model did not converge"
0 1
5 4
[1] "Model did not converge"
0 1
5 4
[1] "Model did not converge"
0 1
5 4
[1] "Model did not converge"
0 1
5 4
[1] "Model did not converge"
0 1
5 4
[1] "Model did not converge"
0 1
5 4
[1] "Model did not converge"
0 1
5 4
[1] "Model did not converge"
0 1
5 4
[1] "Model did not converge"
0 1
5 4
[1] "Model did not converge"
0 1
5 4
[1] "Model did not converge"
0 1
5 4
[1] "Model did not converge"
0 1
5 4
[1] "Model did not converge"
0 1
5 4
[1] "Model did not converge"
0 1
5 4
[1] "Model did not converge"
0 1
5 4
[1] "Model did not converge"
0 1
5 4
[1] "Model did not converge"
0 1
5 4
[1] "Model did not converge"
0 1
5 4
[1] "Model did not converge"
0 1
8 1
[1] "Model did not converge"
0 1
8 1
[1] "Model did not converge"
0 1
8 1
[1] "Model did not converge"
0 1
8 1
[1] "Model did not converge"
0 1
8 1
[1] "Model did not converge"
0 1
8 1
[1] "Model did not converge"
0 1
8 1
[1] "Model did not converge"
0 1
8 1
[1] "Model did not converge"
0 1
8 1
[1] "Model did not converge"
0 1
8 1
[1] "Model did not converge"
0 1
8 1
[1] "Model did not converge"
0 1
8 1
[1] "Model did not converge"
0 1
8 1
[1] "Model did not converge"
0 1
8 1
[1] "Model did not converge"
0 1
8 1
[1] "Model did not converge"
0 1
8 1
[1] "Model did not converge"
0 1
8 1
[1] "Model did not converge"
0 1
8 1
[1] "Model did not converge"
0 1
8 1
[1] "Model did not converge"
0 1
8 1
[1] "Model did not converge"
0 1
8 1
[1] "Model did not converge"
0 1
8 1
[1] "Model did not converge"
0 1
8 1
[1] "Model did not converge"
0 1
8 1
[1] "Model did not converge"
0 1
8 1
[1] "Model did not converge"
0 1
8 1
[1] "Model did not converge"
0 1
8 1
[1] "Model did not converge"
0 1
8 1
[1] "Model did not converge"
0 1
8 1
[1] "Model did not converge"
0 1
8 1
[1] "Model did not converge"
0 1
8 1
[1] "Model did not converge"
0 1
8 1
[1] "Model did not converge"
0 1
8 1
[1] "Model did not converge"
0 1
8 1
[1] "Model did not converge"
0 1
8 1
[1] "Model did not converge"
0 1
8 1
[1] "Model did not converge"
0 1
8 1
[1] "Model did not converge"
0 1
1 8
[1] "Model did not converge"
0 1
1 8
[1] "Model did not converge"
0 1
1 8
[1] "Model did not converge"
0 1
1 8
[1] "Model did not converge"
0 1
1 8
[1] "Model did not converge"
0 1
1 8
[1] "Model did not converge"
0 1
1 8
[1] "Model did not converge"
0 1
1 8
[1] "Model did not converge"
0 1
1 8
[1] "Model did not converge"
0 1
1 8
[1] "Model did not converge"
0 1
1 8
[1] "Model did not converge"
0 1
1 8
[1] "Model did not converge"
0 1
1 8
[1] "Model did not converge"
0 1
1 8
[1] "Model did not converge"
0 1
1 8
[1] "Model did not converge"
0 1
1 8
[1] "Model did not converge"
0 1
1 8
[1] "Model did not converge"
0 1
1 8
[1] "Model did not converge"
0 1
1 8
[1] "Model did not converge"
0 1
1 8
[1] "Model did not converge"
0 1
1 8
[1] "Model did not converge"
0 1
1 8
[1] "Model did not converge"
0 1
1 8
[1] "Model did not converge"
0 1
1 8
[1] "Model did not converge"
0 1
1 8
[1] "Model did not converge"
0 1
1 8
[1] "Model did not converge"
0 1
1 8
[1] "Model did not converge"
0 1
1 8
[1] "Model did not converge"
0 1
1 8
[1] "Model did not converge"
0 1
1 8
[1] "Model did not converge"
0 1
1 8
[1] "Model did not converge"
0 1
1 8
[1] "Model did not converge"
0 1
1 8
[1] "Model did not converge"
0 1
1 8
[1] "Model did not converge"
0 1
1 8
[1] "Model did not converge"
0 1
1 8
[1] "Model did not converge"
0 1
1 8
[1] "Model did not converge"
0 1
3 6
[1] "Model did not converge"
0 1
3 6
[1] "Model did not converge"
0 1
3 6
[1] "Model did not converge"
0 1
3 6
[1] "Model did not converge"
0 1
3 6
[1] "Model did not converge"
0 1
3 6
[1] "Model did not converge"
0 1
3 6
[1] "Model did not converge"
0 1
3 6
[1] "Model did not converge"
0 1
3 6
[1] "Model did not converge"
0 1
3 6
[1] "Model did not converge"
0 1
3 6
[1] "Model did not converge"
0 1
3 6
[1] "Model did not converge"
0 1
3 6
[1] "Model did not converge"
0 1
3 6
[1] "Model did not converge"
0 1
3 6
[1] "Model did not converge"
0 1
3 6
[1] "Model did not converge"
0 1
3 6
[1] "Model did not converge"
0 1
3 6
[1] "Model did not converge"
0 1
3 6
[1] "Model did not converge"
0 1
3 6
[1] "Model did not converge"
0 1
3 6
[1] "Model did not converge"
0 1
3 6
[1] "Model did not converge"
0 1
3 6
[1] "Model did not converge"
0 1
3 6
[1] "Model did not converge"
0 1
3 6
[1] "Model did not converge"
0 1
3 6
[1] "Model did not converge"
0 1
3 6
[1] "Model did not converge"
0 1
3 6
[1] "Model did not converge"
0 1
8 1
[1] "Model did not converge"
0 1
8 1
[1] "Model did not converge"
0 1
8 1
[1] "Model did not converge"
0 1
8 1
[1] "Model did not converge"
0 1
8 1
[1] "Model did not converge"
0 1
8 1
[1] "Model did not converge"
0 1
8 1
[1] "Model did not converge"
0 1
8 1
[1] "Model did not converge"
0 1
8 1
[1] "Model did not converge"
0 1
8 1
[1] "Model did not converge"
0 1
8 1
[1] "Model did not converge"
0 1
8 1
[1] "Model did not converge"
0 1
8 1
[1] "Model did not converge"
0 1
8 1
[1] "Model did not converge"
0 1
8 1
[1] "Model did not converge"
0 1
8 1
[1] "Model did not converge"
0 1
8 1
[1] "Model did not converge"
0 1
8 1
[1] "Model did not converge"
0 1
8 1
[1] "Model did not converge"
0 1
8 1
[1] "Model did not converge"
0 1
8 1
[1] "Model did not converge"
0 1
8 1
[1] "Model did not converge"
0 1
8 1
[1] "Model did not converge"
0 1
8 1
[1] "Model did not converge"
0 1
8 1
[1] "Model did not converge"
0 1
8 1
[1] "Model did not converge"
0 1
8 1
[1] "Model did not converge"
0 1
8 1
[1] "Model did not converge"
0 1
8 1
[1] "Model did not converge"
0 1
8 1
[1] "Model did not converge"
0 1
8 1
[1] "Model did not converge"
0 1
8 1
[1] "Model did not converge"
0 1
8 1
[1] "Model did not converge"
0 1
8 1
[1] "Model did not converge"
0 1
8 1
[1] "Model did not converge"
0 1
8 1
[1] "Model did not converge"
0 1
8 1
[1] "Model did not converge"
0 1
6 3
[1] "Model did not converge"
0 1
6 3
[1] "Model did not converge"
0 1
6 3
[1] "Model did not converge"
0 1
6 3
[1] "Model did not converge"
0 1
6 3
[1] "Model did not converge"
0 1
6 3
[1] "Model did not converge"
0 1
6 3
[1] "Model did not converge"
0 1
6 3
[1] "Model did not converge"
0 1
6 3
[1] "Model did not converge"
0 1
6 3
[1] "Model did not converge"
0 1
6 3
[1] "Model did not converge"
0 1
6 3
[1] "Model did not converge"
0 1
6 3
[1] "Model did not converge"
0 1
6 3
[1] "Model did not converge"
0 1
6 3
[1] "Model did not converge"
0 1
6 3
[1] "Model did not converge"
0 1
6 3
[1] "Model did not converge"
0 1
6 3
[1] "Model did not converge"
0 1
6 3
[1] "Model did not converge"
0 1
6 3
[1] "Model did not converge"
0 1
6 3
[1] "Model did not converge"
0 1
6 3
[1] "Model did not converge"
0 1
6 3
[1] "Model did not converge"
0 1
6 3
[1] "Model did not converge"
0 1
6 3
[1] "Model did not converge"
0 1
6 3
[1] "Model did not converge"
0 1
6 3
[1] "Model did not converge"
0 1
6 3
[1] "Model did not converge"
0 1
6 3
[1] "Model did not converge"
0 1
6 3
[1] "Model did not converge"
0 1
6 3
[1] "Model did not converge"
0 1
6 3
[1] "Model did not converge"
0 1
6 3
[1] "Model did not converge"
0 1
6 3
[1] "Model did not converge"
0 1
6 3
[1] "Model did not converge"
0 1
6 3
[1] "Model did not converge"
0 1
6 3
[1] "Model did not converge"
0 1
4 5
[1] "Model did not converge"
0 1
4 5
[1] "Model did not converge"
0 1
4 5
[1] "Model did not converge"
0 1
4 5
[1] "Model did not converge"
0 1
4 5
[1] "Model did not converge"
0 1
4 5
[1] "Model did not converge"
0 1
4 5
[1] "Model did not converge"
0 1
4 5
[1] "Model did not converge"
0 1
4 5
[1] "Model did not converge"
0 1
4 5
[1] "Model did not converge"
0 1
4 5
[1] "Model did not converge"
0 1
4 5
[1] "Model did not converge"
0 1
5 4
[1] "Model did not converge"
0 1
5 4
[1] "Model did not converge"
0 1
5 4
[1] "Model did not converge"
0 1
5 4
[1] "Model did not converge"
0 1
5 4
[1] "Model did not converge"
0 1
5 4
[1] "Model did not converge"
0 1
5 4
[1] "Model did not converge"
0 1
5 4
[1] "Model did not converge"
0 1
5 4
[1] "Model did not converge"
0 1
5 4
[1] "Model did not converge"
0 1
5 4
[1] "Model did not converge"
0 1
5 4
[1] "Model did not converge"
0 1
5 4
[1] "Model did not converge"
0 1
5 4
[1] "Model did not converge"
0 1
5 4
[1] "Model did not converge"
0 1
5 4
[1] "Model did not converge"
0 1
5 4
[1] "Model did not converge"
0 1
5 4
[1] "Model did not converge"
0 1
5 4
[1] "Model did not converge"
0 1
5 4
[1] "Model did not converge"
0 1
5 4
[1] "Model did not converge"
0 1
5 4
[1] "Model did not converge"
0 1
5 4
[1] "Model did not converge"
0 1
5 4
[1] "Model did not converge"
0 1
5 4
[1] "Model did not converge"
0 1
5 4
[1] "Model did not converge"
0 1
5 4
[1] "Model did not converge"
0 1
5 4
[1] "Model did not converge"
0 1
5 4
[1] "Model did not converge"
0 1
5 4
[1] "Model did not converge"
0 1
5 4
[1] "Model did not converge"
0 1
5 4
[1] "Model did not converge"
0 1
5 4
[1] "Model did not converge"
0 1
5 4
[1] "Model did not converge"
0 1
5 4
[1] "Model did not converge"
0 1
5 4
[1] "Model did not converge"
0 1
5 4
[1] "Model did not converge"
0 1
5 4
[1] "Model did not converge"
0 1
5 4
[1] "Model did not converge"
0 1
5 4
[1] "Model did not converge"
0 1
5 4
[1] "Model did not converge"
0 1
5 4
[1] "Model did not converge"
0 1
5 4
[1] "Model did not converge"
0 1
5 4
[1] "Model did not converge"
0 1
5 4
[1] "Model did not converge"
0 1
5 4
[1] "Model did not converge"
0 1
5 4
[1] "Model did not converge"
0 1
5 4
[1] "Model did not converge"
0 1
5 4
[1] "Model did not converge"
0 1
5 4
[1] "Model did not converge"
0 1
5 4
[1] "Model did not converge"
0 1
5 4
[1] "Model did not converge"
0 1
5 4
[1] "Model did not converge"
0 1
5 4
[1] "Model did not converge"
0 1
5 4
[1] "Model did not converge"
0 1
5 4
[1] "Model did not converge"
0 1
5 4
[1] "Model did not converge"
0 1
5 4
[1] "Model did not converge"
0 1
5 4
[1] "Model did not converge"
0 1
5 4
[1] "Model did not converge"
0 1
5 4
[1] "Model did not converge"
0 1
5 4
[1] "Model did not converge"
0 1
5 4
[1] "Model did not converge"
0 1
5 4
[1] "Model did not converge"
0 1
5 4
[1] "Model did not converge"
0 1
8 1
[1] "Model did not converge"
0 1
8 1
[1] "Model did not converge"
0 1
8 1
[1] "Model did not converge"
0 1
8 1
[1] "Model did not converge"
0 1
8 1
[1] "Model did not converge"
0 1
8 1
[1] "Model did not converge"
0 1
8 1
[1] "Model did not converge"
0 1
8 1
[1] "Model did not converge"
0 1
8 1
[1] "Model did not converge"
0 1
8 1
[1] "Model did not converge"
0 1
8 1
[1] "Model did not converge"
0 1
8 1
[1] "Model did not converge"
0 1
8 1
[1] "Model did not converge"
0 1
8 1
[1] "Model did not converge"
0 1
8 1
[1] "Model did not converge"
0 1
8 1
[1] "Model did not converge"
0 1
8 1
[1] "Model did not converge"
0 1
8 1
[1] "Model did not converge"
0 1
8 1
[1] "Model did not converge"
0 1
8 1
[1] "Model did not converge"
0 1
8 1
[1] "Model did not converge"
0 1
8 1
[1] "Model did not converge"
0 1
8 1
[1] "Model did not converge"
0 1
8 1
[1] "Model did not converge"
0 1
8 1
[1] "Model did not converge"
0 1
8 1
[1] "Model did not converge"
0 1
8 1
[1] "Model did not converge"
0 1
8 1
[1] "Model did not converge"
0 1
8 1
[1] "Model did not converge"
0 1
8 1
[1] "Model did not converge"
0 1
8 1
[1] "Model did not converge"
0 1
8 1
[1] "Model did not converge"
0 1
8 1
[1] "Model did not converge"
0 1
8 1
[1] "Model did not converge"
0 1
8 1
[1] "Model did not converge"
0 1
8 1
[1] "Model did not converge"
0 1
8 1
[1] "Model did not converge"
0 1
8 1
[1] "Model did not converge"
0 1
8 1
[1] "Model did not converge"
0 1
8 1
[1] "Model did not converge"
0 1
8 1
[1] "Model did not converge"
0 1
8 1
[1] "Model did not converge"
0 1
8 1
[1] "Model did not converge"
0 1
8 1
[1] "Model did not converge"
0 1
8 1
[1] "Model did not converge"
0 1
8 1
[1] "Model did not converge"
0 1
8 1
[1] "Model did not converge"
0 1
8 1
[1] "Model did not converge"
0 1
8 1
[1] "Model did not converge"
0 1
8 1
[1] "Model did not converge"
0 1
8 1
[1] "Model did not converge"
0 1
8 1
[1] "Model did not converge"
0 1
8 1
[1] "Model did not converge"
0 1
8 1
[1] "Model did not converge"
0 1
8 1
[1] "Model did not converge"
0 1
8 1
[1] "Model did not converge"
0 1
8 1
[1] "Model did not converge"
0 1
8 1
[1] "Model did not converge"
0 1
8 1
[1] "Model did not converge"
0 1
8 1
[1] "Model did not converge"
0 1
8 1
[1] "Model did not converge"
0 1
8 1
[1] "Model did not converge"
0 1
8 1
[1] "Model did not converge"
0 1
8 1
[1] "Model did not converge"
0 1
8 1
[1] "Model did not converge"
0 1
8 1
[1] "Model did not converge"
0 1
8 1
[1] "Model did not converge"
0 1
8 1
[1] "Model did not converge"
0 1
8 1
[1] "Model did not converge"
0 1
8 1
[1] "Model did not converge"
0 1
8 1
[1] "Model did not converge"
0 1
8 1
[1] "Model did not converge"
0 1
8 1
[1] "Model did not converge"
0 1
8 1
[1] "Model did not converge"
0 1
8 1
[1] "Model did not converge"
0 1
8 1
[1] "Model did not converge"
0 1
8 1
[1] "Model did not converge"
0 1
8 1
[1] "Model did not converge"
0 1
8 1
[1] "Model did not converge"
0 1
8 1
[1] "Model did not converge"
0 1
8 1
[1] "Model did not converge"
0 1
8 1
[1] "Model did not converge"
0 1
8 1
[1] "Model did not converge"
0 1
8 1
[1] "Model did not converge"
0 1
8 1
[1] "Model did not converge"
0 1
8 1
[1] "Model did not converge"
0 1
8 1
[1] "Model did not converge"
0 1
8 1
[1] "Model did not converge"
0 1
8 1
[1] "Model did not converge"
0 1
8 1
[1] "Model did not converge"
0 1
8 1
[1] "Model did not converge"
0 1
8 1
[1] "Model did not converge"
0 1
8 1
[1] "Model did not converge"
0 1
8 1
[1] "Model did not converge"
0 1
8 1
[1] "Model did not converge"
0 1
8 1
[1] "Model did not converge"
0 1
8 1
[1] "Model did not converge"
0 1
8 1
[1] "Model did not converge"
0 1
8 1
[1] "Model did not converge"
0 1
8 1
[1] "Model did not converge"
0 1
7 2
[1] "Model did not converge"
0 1
7 2
[1] "Model did not converge"
0 1
7 2
[1] "Model did not converge"
0 1
7 2
[1] "Model did not converge"
0 1
7 2
[1] "Model did not converge"
0 1
7 2
[1] "Model did not converge"
0 1
7 2
[1] "Model did not converge"
0 1
7 2
[1] "Model did not converge"
0 1
7 2
[1] "Model did not converge"
0 1
7 2
[1] "Model did not converge"
0 1
7 2
[1] "Model did not converge"
0 1
7 2
[1] "Model did not converge"
0 1
7 2
[1] "Model did not converge"
0 1
7 2
[1] "Model did not converge"
0 1
7 2
[1] "Model did not converge"
0 1
7 2
[1] "Model did not converge"
0 1
7 2
[1] "Model did not converge"
0 1
7 2
[1] "Model did not converge"
0 1
7 2
[1] "Model did not converge"
0 1
7 2
[1] "Model did not converge"
0 1
7 2
[1] "Model did not converge"
0 1
7 2
[1] "Model did not converge"
0 1
7 2
[1] "Model did not converge"
0 1
7 2
[1] "Model did not converge"
0 1
7 2
[1] "Model did not converge"
0 1
7 2
[1] "Model did not converge"
0 1
7 2
[1] "Model did not converge"
0 1
7 2
[1] "Model did not converge"
0 1
7 2
[1] "Model did not converge"
0 1
7 2
[1] "Model did not converge"
0 1
7 2
[1] "Model did not converge"
0 1
7 2
[1] "Model did not converge"
0 1
7 2
[1] "Model did not converge"
0 1
7 2
[1] "Model did not converge"
0 1
7 2
[1] "Model did not converge"
0 1
7 2
[1] "Model did not converge"
0 1
7 2
[1] "Model did not converge"
0 1
7 2
[1] "Model did not converge"
0 1
7 2
[1] "Model did not converge"
0 1
7 2
[1] "Model did not converge"
0 1
7 2
[1] "Model did not converge"
0 1
7 2
[1] "Model did not converge"
0 1
7 2
[1] "Model did not converge"
0 1
7 2
[1] "Model did not converge"
0 1
7 2
[1] "Model did not converge"
0 1
7 2
[1] "Model did not converge"
0 1
7 2
[1] "Model did not converge"
0 1
7 2
[1] "Model did not converge"
0 1
7 2
[1] "Model did not converge"
0 1
7 2
[1] "Model did not converge"
0 1
5 4
[1] "Model did not converge"
0 1
5 4
[1] "Model did not converge"
0 1
5 4
[1] "Model did not converge"
0 1
5 4
[1] "Model did not converge"
0 1
5 4
[1] "Model did not converge"
0 1
5 4
[1] "Model did not converge"
0 1
5 4
[1] "Model did not converge"
0 1
5 4
[1] "Model did not converge"
0 1
5 4
[1] "Model did not converge"
0 1
5 4
[1] "Model did not converge"
0 1
5 4
[1] "Model did not converge"
0 1
5 4
[1] "Model did not converge"
0 1
5 4
[1] "Model did not converge"
0 1
5 4
[1] "Model did not converge"
0 1
5 4
[1] "Model did not converge"
0 1
5 4
[1] "Model did not converge"
0 1
5 4
[1] "Model did not converge"
0 1
5 4
[1] "Model did not converge"
0 1
5 4
[1] "Model did not converge"
0 1
5 4
[1] "Model did not converge"
0 1
5 4
[1] "Model did not converge"
0 1
5 4
[1] "Model did not converge"
0 1
5 4
[1] "Model did not converge"
0 1
5 4
[1] "Model did not converge"
0 1
5 4
[1] "Model did not converge"
0 1
5 4
[1] "Model did not converge"
0 1
5 4
[1] "Model did not converge"
0 1
5 4
[1] "Model did not converge"
0 1
5 4
[1] "Model did not converge"
0 1
5 4
[1] "Model did not converge"
0 1
5 4
[1] "Model did not converge"
0 1
5 4
[1] "Model did not converge"
0 1
5 4
[1] "Model did not converge"
0 1
5 4
[1] "Model did not converge"
0 1
5 4
[1] "Model did not converge"
0 1
5 4
[1] "Model did not converge"
0 1
5 4
[1] "Model did not converge"
0 1
8 1
[1] "Model did not converge"
0 1
8 1
[1] "Model did not converge"
0 1
8 1
[1] "Model did not converge"
0 1
8 1
[1] "Model did not converge"
0 1
8 1
[1] "Model did not converge"
0 1
8 1
[1] "Model did not converge"
0 1
8 1
[1] "Model did not converge"
0 1
8 1
[1] "Model did not converge"
0 1
8 1
[1] "Model did not converge"
0 1
8 1
[1] "Model did not converge"
0 1
8 1
[1] "Model did not converge"
0 1
8 1
[1] "Model did not converge"
0 1
8 1
[1] "Model did not converge"
0 1
8 1
[1] "Model did not converge"
0 1
8 1
[1] "Model did not converge"
0 1
8 1
[1] "Model did not converge"
0 1
8 1
[1] "Model did not converge"
0 1
8 1
[1] "Model did not converge"
0 1
8 1
[1] "Model did not converge"
0 1
8 1
[1] "Model did not converge"
0 1
8 1
[1] "Model did not converge"
0 1
8 1
[1] "Model did not converge"
0 1
8 1
[1] "Model did not converge"
0 1
8 1
[1] "Model did not converge"
0 1
8 1
[1] "Model did not converge"
0 1
8 1
[1] "Model did not converge"
0 1
8 1
[1] "Model did not converge"
0 1
8 1
[1] "Model did not converge"
0 1
8 1
[1] "Model did not converge"
0 1
8 1
[1] "Model did not converge"
0 1
8 1
[1] "Model did not converge"
0 1
8 1
[1] "Model did not converge"
0 1
8 1
[1] "Model did not converge"
0 1
8 1
[1] "Model did not converge"
0 1
8 1
[1] "Model did not converge"
0 1
8 1
[1] "Model did not converge"
0 1
8 1
[1] "Model did not converge"
0 1
8 1
[1] "Model did not converge"
0 1
8 1
[1] "Model did not converge"
0 1
8 1
[1] "Model did not converge"
0 1
8 1
[1] "Model did not converge"
0 1
8 1
[1] "Model did not converge"
0 1
8 1
[1] "Model did not converge"
0 1
8 1
[1] "Model did not converge"
0 1
8 1
[1] "Model did not converge"
0 1
8 1
[1] "Model did not converge"
0 1
8 1
[1] "Model did not converge"
0 1
8 1
[1] "Model did not converge"
0 1
8 1
[1] "Model did not converge"
0 1
8 1
[1] "Model did not converge"
0 1
7 2
[1] "Model did not converge"
0 1
7 2
[1] "Model did not converge"
0 1
7 2
[1] "Model did not converge"
0 1
7 2
[1] "Model did not converge"
0 1
7 2
[1] "Model did not converge"
0 1
7 2
[1] "Model did not converge"
0 1
7 2
[1] "Model did not converge"
0 1
7 2
[1] "Model did not converge"
0 1
7 2
[1] "Model did not converge"
0 1
7 2
[1] "Model did not converge"
0 1
7 2
[1] "Model did not converge"
0 1
7 2
[1] "Model did not converge"
0 1
7 2
[1] "Model did not converge"
0 1
7 2
[1] "Model did not converge"
0 1
7 2
[1] "Model did not converge"
0 1
7 2
[1] "Model did not converge"
0 1
7 2
[1] "Model did not converge"
0 1
7 2
[1] "Model did not converge"
0 1
7 2
[1] "Model did not converge"
0 1
7 2
[1] "Model did not converge"
0 1
7 2
[1] "Model did not converge"
0 1
7 2
[1] "Model did not converge"
0 1
7 2
[1] "Model did not converge"
0 1
7 2
[1] "Model did not converge"
0 1
7 2
[1] "Model did not converge"
0 1
7 2
[1] "Model did not converge"
0 1
7 2
[1] "Model did not converge"
0 1
7 2
[1] "Model did not converge"
0 1
7 2
[1] "Model did not converge"
0 1
7 2
[1] "Model did not converge"
0 1
7 2
[1] "Model did not converge"
0 1
7 2
[1] "Model did not converge"
0 1
7 2
[1] "Model did not converge"
0 1
7 2
[1] "Model did not converge"
0 1
7 2
[1] "Model did not converge"
0 1
7 2
[1] "Model did not converge"
0 1
7 2
[1] "Model did not converge"
0 1
7 2
[1] "Model did not converge"
0 1
7 2
[1] "Model did not converge"
0 1
7 2
[1] "Model did not converge"
0 1
7 2
[1] "Model did not converge"
0 1
7 2
[1] "Model did not converge"
0 1
7 2
[1] "Model did not converge"
0 1
7 2
[1] "Model did not converge"
0 1
7 2
[1] "Model did not converge"
0 1
7 2
[1] "Model did not converge"
0 1
7 2
[1] "Model did not converge"
0 1
7 2
[1] "Model did not converge"
0 1
7 2
[1] "Model did not converge"
0 1
7 2
|
| | 0%
|
|======================================================================| 100%
[1] 1 1 -1
[1] 0
[1] 0
[,1] [,2] [,3]
lower_bounds 0 0 0
upper_bounds 1 1 -1
|
| | 0%
|
|======================================================================| 100%
|
| | 0%
|
|======================================================================| 100%
|
| | 0%
|
|======================================================================| 100%
|
| | 0%
|
|======================================================================| 100%
|
| | 0%
|
|======================================================================| 100%
|
| | 0%
|
|======================================================================| 100%
|
| | 0%
|
|======================================================================| 100%
══ testthat results ═══════════════════════════════════════════════════════════
OK: 142 SKIPPED: 0 FAILED: 0
>
> proc.time()
user system elapsed
125.916 8.272 387.926
PharmacoGx.Rcheck/PharmacoGx-Ex.timings
| name | user | system | elapsed | |
| LogLogisticRegression | 0.696 | 0.052 | 0.746 | |
| PharmacoSet | 0.004 | 0.000 | 0.003 | |
| amcc | 1.008 | 0.068 | 1.071 | |
| availablePSets | 0.004 | 0.000 | 0.000 | |
| cellInfo-set | 0.660 | 0.012 | 0.675 | |
| cellInfo | 0.840 | 0.052 | 0.893 | |
| cellNames-set | 0.920 | 0.012 | 0.932 | |
| cellNames | 0.652 | 0.004 | 0.655 | |
| checkPSetStructure | 0.672 | 0.000 | 0.671 | |
| computeABC | 0.816 | 0.060 | 0.871 | |
| computeAUC | 0.416 | 0.052 | 0.465 | |
| computeAmax | 0.444 | 0.020 | 0.460 | |
| computeICn | 1.072 | 0.088 | 1.146 | |
| computeSlope | 0.000 | 0.000 | 0.002 | |
| connectivityScore | 0.052 | 0.008 | 0.059 | |
| cosinePerm | 0.056 | 0.000 | 0.057 | |
| dateCreated | 0.740 | 0.004 | 0.748 | |
| downloadPSet | 0 | 0 | 0 | |
| downloadPertSig | 0 | 0 | 0 | |
| drugDoseResponseCurve | 0.000 | 0.000 | 0.001 | |
| drugInfo-set | 0.652 | 0.004 | 0.656 | |
| drugInfo | 0.668 | 0.008 | 0.678 | |
| drugNames-set | 0.680 | 0.000 | 0.678 | |
| drugNames | 0.896 | 0.000 | 0.895 | |
| drugPerturbationSig | 2.080 | 0.136 | 2.208 | |
| drugSensitivitySig | 1.116 | 0.100 | 1.230 | |
| fNames | 0.696 | 0.008 | 0.709 | |
| featureInfo-set | 0.688 | 0.004 | 0.690 | |
| featureInfo | 0.732 | 0.008 | 0.740 | |
| filterNoisyCurves | 0.940 | 0.068 | 1.016 | |
| gwc | 0.808 | 0.000 | 0.811 | |
| intersectList | 0.000 | 0.000 | 0.001 | |
| intersectPSet | 2.304 | 0.904 | 128.643 | |
| mDataNames | 0.676 | 0.004 | 0.682 | |
| mcc | 1.936 | 0.096 | 2.015 | |
| molecularProfiles-set | 0.680 | 0.004 | 0.683 | |
| molecularProfiles | 1.144 | 0.196 | 1.341 | |
| pSetName | 0.728 | 0.000 | 0.731 | |
| pertNumber-set | 0.896 | 0.036 | 0.933 | |
| pertNumber | 0.676 | 0.000 | 0.676 | |
| phenoInfo-set | 0.688 | 0.000 | 0.688 | |
| phenoInfo | 1.096 | 0.096 | 1.193 | |
| sensNumber-set | 0.684 | 0.004 | 0.687 | |
| sensNumber | 0.732 | 0.052 | 0.782 | |
| sensitivityInfo-set | 0.884 | 0.004 | 0.887 | |
| sensitivityInfo | 1.380 | 0.196 | 1.580 | |
| sensitivityMeasures | 0.728 | 0.008 | 0.737 | |
| sensitivityProfiles-set | 0.696 | 0.012 | 0.708 | |
| sensitivityProfiles | 1.184 | 0.192 | 1.373 | |
| show-PharmacoSet-method | 0.74 | 0.00 | 0.74 | |
| show-PharmacoSig-method | 1.124 | 0.128 | 1.256 | |
| showSigAnnot | 1.196 | 0.128 | 1.348 | |
| subsetTo | 0.808 | 0.012 | 0.820 | |
| summarizeMolecularProfiles | 0.096 | 0.012 | 0.111 | |
| summarizeSensitivityProfiles | 0.036 | 0.008 | 0.044 | |
| symSetDiffList | 0.004 | 0.000 | 0.001 | |
| unionList | 0 | 0 | 0 | |