| Back to Multiple platform build/check report for BioC 3.7 |
|
This page was generated on 2018-10-17 08:36:21 -0400 (Wed, 17 Oct 2018).
| Package 1153/1561 | Hostname | OS / Arch | INSTALL | BUILD | CHECK | BUILD BIN | ||||||
| PWMEnrich 4.16.0 Robert Stojnic
| malbec2 | Linux (Ubuntu 16.04.1 LTS) / x86_64 | OK | OK | OK | |||||||
| tokay2 | Windows Server 2012 R2 Standard / x64 | [ OK ] | OK | OK | OK | |||||||
| merida2 | OS X 10.11.6 El Capitan / x86_64 | OK | OK | OK | OK |
| Package: PWMEnrich |
| Version: 4.16.0 |
| Command: C:\cygwin\bin\curl.exe -O https://malbec2.bioconductor.org/BBS/3.7/bioc/src/contrib/PWMEnrich_4.16.0.tar.gz && rm -rf PWMEnrich.buildbin-libdir && mkdir PWMEnrich.buildbin-libdir && C:\Users\biocbuild\bbs-3.7-bioc\R\bin\R.exe CMD INSTALL --merge-multiarch --build --library=PWMEnrich.buildbin-libdir PWMEnrich_4.16.0.tar.gz && C:\Users\biocbuild\bbs-3.7-bioc\R\bin\R.exe CMD INSTALL PWMEnrich_4.16.0.zip && rm PWMEnrich_4.16.0.tar.gz PWMEnrich_4.16.0.zip |
| StartedAt: 2018-10-16 19:43:46 -0400 (Tue, 16 Oct 2018) |
| EndedAt: 2018-10-16 19:45:03 -0400 (Tue, 16 Oct 2018) |
| EllapsedTime: 76.4 seconds |
| RetCode: 0 |
| Status: OK |
##############################################################################
##############################################################################
###
### Running command:
###
### C:\cygwin\bin\curl.exe -O https://malbec2.bioconductor.org/BBS/3.7/bioc/src/contrib/PWMEnrich_4.16.0.tar.gz && rm -rf PWMEnrich.buildbin-libdir && mkdir PWMEnrich.buildbin-libdir && C:\Users\biocbuild\bbs-3.7-bioc\R\bin\R.exe CMD INSTALL --merge-multiarch --build --library=PWMEnrich.buildbin-libdir PWMEnrich_4.16.0.tar.gz && C:\Users\biocbuild\bbs-3.7-bioc\R\bin\R.exe CMD INSTALL PWMEnrich_4.16.0.zip && rm PWMEnrich_4.16.0.tar.gz PWMEnrich_4.16.0.zip
###
##############################################################################
##############################################################################
% Total % Received % Xferd Average Speed Time Time Time Current
Dload Upload Total Spent Left Speed
0 0 0 0 0 0 0 0 --:--:-- --:--:-- --:--:-- 0
100 3482k 100 3482k 0 0 31.8M 0 --:--:-- --:--:-- --:--:-- 34.0M
install for i386
* installing *source* package 'PWMEnrich' ...
** R
** inst
** byte-compile and prepare package for lazy loading
** help
*** installing help indices
converting help for package 'PWMEnrich'
finding HTML links ... done
MotifEnrichmentReport html
MotifEnrichmentResults html
PFMtoPWM html
PWM html
PWMCutoffBackground html
PWMEmpiricalBackground html
PWMGEVBackground html
PWMLognBackground html
PWMUnscaled html
as.data.frame-commaMotifEnrichmentReport-method
html
getBackgroundFrequencies html
groupReport-commaMotifEnrichmentResults-method
html
makeBackground html
makePWMCutoffBackground html
makePWMEmpiricalBackground html
makePWMGEVBackground html
makePWMLognBackground html
makePWMPvalCutoffBackground html
makePWMPvalCutoffBackgroundFromSeq html
makePriors html
motifDiffEnrichment html
motifEcdf html
motifEnrichment html
motifIC html
motifRankingForGroup-commaMotifEnrichmentResults-method
html
motifRankingForSequence-commaMotifEnrichmentResults-method
html
motifScores html
motifSimilarity html
operators-MotifEnrichmentReport html
operators-MotifEnrichmentResults html
operators-PWM html
operators-PWMCutoffBackground html
operators-PWMEmpiricalBackground html
operators-PWMGEVBackground html
operators-PWMLognBackground html
plot html
plotMotifScores html
plotMultipleMotifs html
plotTopMotifsGroup-commaMotifEnrichmentResults-method
html
plotTopMotifsSequence-commaMotifEnrichmentResults-method
html
readMotifs html
registerCoresPWMEnrich html
reverseComplement html
scanWithPWM html
seqLogoGrid html
sequenceReport-commaMotifEnrichmentResults-method
html
subsetting-PWMCutoffBackground html
subsetting-PWMEmpiricalBackground html
subsetting-PWMGEVBackground html
subsetting-PWMLognBackground html
toPWM html
useBigMemoryPWMEnrich html
** building package indices
** installing vignettes
** testing if installed package can be loaded
In R CMD INSTALL
install for x64
* installing *source* package 'PWMEnrich' ...
** testing if installed package can be loaded
* MD5 sums
packaged installation of 'PWMEnrich' as PWMEnrich_4.16.0.zip
* DONE (PWMEnrich)
In R CMD INSTALL
In R CMD INSTALL
* installing to library 'C:/Users/biocbuild/bbs-3.7-bioc/R/library'
package 'PWMEnrich' successfully unpacked and MD5 sums checked
In R CMD INSTALL