| Back to Multiple platform build/check report for BioC 3.7 |
|
This page was generated on 2018-10-17 08:39:44 -0400 (Wed, 17 Oct 2018).
| Package 1136/1561 | Hostname | OS / Arch | INSTALL | BUILD | CHECK | BUILD BIN | ||||||
| PROPER 1.12.0 Hao Wu
| malbec2 | Linux (Ubuntu 16.04.1 LTS) / x86_64 | OK | OK | WARNINGS | |||||||
| tokay2 | Windows Server 2012 R2 Standard / x64 | OK | OK | WARNINGS | [ OK ] | |||||||
| merida2 | OS X 10.11.6 El Capitan / x86_64 | OK | OK | WARNINGS | OK |
| Package: PROPER |
| Version: 1.12.0 |
| Command: rm -rf PROPER.buildbin-libdir && mkdir PROPER.buildbin-libdir && C:\Users\biocbuild\bbs-3.7-bioc\R\bin\R.exe CMD INSTALL --merge-multiarch --build --library=PROPER.buildbin-libdir PROPER_1.12.0.tar.gz |
| StartedAt: 2018-10-17 06:48:59 -0400 (Wed, 17 Oct 2018) |
| EndedAt: 2018-10-17 06:49:07 -0400 (Wed, 17 Oct 2018) |
| EllapsedTime: 8.4 seconds |
| RetCode: 0 |
| Status: OK |
| PackageFile: PROPER_1.12.0.zip |
| PackageFileSize: 1.57 MiB |
##############################################################################
##############################################################################
###
### Running command:
###
### rm -rf PROPER.buildbin-libdir && mkdir PROPER.buildbin-libdir && C:\Users\biocbuild\bbs-3.7-bioc\R\bin\R.exe CMD INSTALL --merge-multiarch --build --library=PROPER.buildbin-libdir PROPER_1.12.0.tar.gz
###
##############################################################################
##############################################################################
install for i386
* installing *source* package 'PROPER' ...
** R
** data
** inst
** byte-compile and prepare package for lazy loading
** help
*** installing help indices
converting help for package 'PROPER'
finding HTML links ... done
RNAseq.SimOptions.2grp html
comparePower html
estParam html
historicalData html
plotPowerHist html
plots html
power.seqDepth html
runSims html
simRNAseq html
summaryPower html
** building package indices
** installing vignettes
** testing if installed package can be loaded
In R CMD INSTALL
install for x64
* installing *source* package 'PROPER' ...
** testing if installed package can be loaded
* MD5 sums
packaged installation of 'PROPER' as PROPER_1.12.0.zip
* DONE (PROPER)
In R CMD INSTALL
In R CMD INSTALL