| Back to Multiple platform build/check report for BioC 3.7 |
|
This page was generated on 2018-10-17 08:40:43 -0400 (Wed, 17 Oct 2018).
| Package 1081/1561 | Hostname | OS / Arch | INSTALL | BUILD | CHECK | BUILD BIN | ||||||
| PGA 1.10.1 Bo Wen
| malbec2 | Linux (Ubuntu 16.04.1 LTS) / x86_64 | OK | OK | OK | |||||||
| tokay2 | Windows Server 2012 R2 Standard / x64 | [ OK ] | OK | OK | OK | |||||||
| merida2 | OS X 10.11.6 El Capitan / x86_64 | OK | OK | OK | OK |
| Package: PGA |
| Version: 1.10.1 |
| Command: C:\cygwin\bin\curl.exe -O https://malbec2.bioconductor.org/BBS/3.7/bioc/src/contrib/PGA_1.10.1.tar.gz && rm -rf PGA.buildbin-libdir && mkdir PGA.buildbin-libdir && C:\Users\biocbuild\bbs-3.7-bioc\R\bin\R.exe CMD INSTALL --merge-multiarch --build --library=PGA.buildbin-libdir PGA_1.10.1.tar.gz && C:\Users\biocbuild\bbs-3.7-bioc\R\bin\R.exe CMD INSTALL PGA_1.10.1.zip && rm PGA_1.10.1.tar.gz PGA_1.10.1.zip |
| StartedAt: 2018-10-16 20:09:20 -0400 (Tue, 16 Oct 2018) |
| EndedAt: 2018-10-16 20:10:56 -0400 (Tue, 16 Oct 2018) |
| EllapsedTime: 95.3 seconds |
| RetCode: 0 |
| Status: OK |
##############################################################################
##############################################################################
###
### Running command:
###
### C:\cygwin\bin\curl.exe -O https://malbec2.bioconductor.org/BBS/3.7/bioc/src/contrib/PGA_1.10.1.tar.gz && rm -rf PGA.buildbin-libdir && mkdir PGA.buildbin-libdir && C:\Users\biocbuild\bbs-3.7-bioc\R\bin\R.exe CMD INSTALL --merge-multiarch --build --library=PGA.buildbin-libdir PGA_1.10.1.tar.gz && C:\Users\biocbuild\bbs-3.7-bioc\R\bin\R.exe CMD INSTALL PGA_1.10.1.zip && rm PGA_1.10.1.tar.gz PGA_1.10.1.zip
###
##############################################################################
##############################################################################
% Total % Received % Xferd Average Speed Time Time Time Current
Dload Upload Total Spent Left Speed
0 0 0 0 0 0 0 0 --:--:-- --:--:-- --:--:-- 0
100 3987k 100 3987k 0 0 41.6M 0 --:--:-- --:--:-- --:--:-- 44.7M
install for i386
* installing *source* package 'PGA' ...
** R
** inst
** byte-compile and prepare package for lazy loading
** help
*** installing help indices
converting help for package 'PGA'
finding HTML links ... done
PrepareAnnotationEnsembl2 html
finding level-2 HTML links ... done
PrepareAnnotationRefseq2 html
addGeneName4Ensembl html
createProDB4DenovoRNASeq html
dbCreator html
easyRun html
parserGear html
reportGear html
runTandem html
** building package indices
** installing vignettes
** testing if installed package can be loaded
In R CMD INSTALL
install for x64
* installing *source* package 'PGA' ...
** testing if installed package can be loaded
* MD5 sums
packaged installation of 'PGA' as PGA_1.10.1.zip
* DONE (PGA)
In R CMD INSTALL
In R CMD INSTALL
* installing to library 'C:/Users/biocbuild/bbs-3.7-bioc/R/library'
package 'PGA' successfully unpacked and MD5 sums checked
In R CMD INSTALL