| Back to Multiple platform build/check report for BioC 3.7 |
|
This page was generated on 2018-10-17 08:47:34 -0400 (Wed, 17 Oct 2018).
| Package 1074/1561 | Hostname | OS / Arch | INSTALL | BUILD | CHECK | BUILD BIN | ||||||
| PCpheno 1.42.0 Nolwenn Le Meur
| malbec2 | Linux (Ubuntu 16.04.1 LTS) / x86_64 | OK | OK | OK | |||||||
| tokay2 | Windows Server 2012 R2 Standard / x64 | OK | OK | OK | OK | |||||||
| merida2 | OS X 10.11.6 El Capitan / x86_64 | OK | OK | [ OK ] | OK |
| Package: PCpheno |
| Version: 1.42.0 |
| Command: /Library/Frameworks/R.framework/Versions/Current/Resources/bin/R CMD check --install=check:PCpheno.install-out.txt --library=/Library/Frameworks/R.framework/Versions/Current/Resources/library --no-vignettes --timings PCpheno_1.42.0.tar.gz |
| StartedAt: 2018-10-16 23:10:37 -0400 (Tue, 16 Oct 2018) |
| EndedAt: 2018-10-16 23:13:33 -0400 (Tue, 16 Oct 2018) |
| EllapsedTime: 176.0 seconds |
| RetCode: 0 |
| Status: OK |
| CheckDir: PCpheno.Rcheck |
| Warnings: 0 |
##############################################################################
##############################################################################
###
### Running command:
###
### /Library/Frameworks/R.framework/Versions/Current/Resources/bin/R CMD check --install=check:PCpheno.install-out.txt --library=/Library/Frameworks/R.framework/Versions/Current/Resources/library --no-vignettes --timings PCpheno_1.42.0.tar.gz
###
##############################################################################
##############################################################################
* using log directory ‘/Users/biocbuild/bbs-3.7-bioc/meat/PCpheno.Rcheck’
* using R version 3.5.1 Patched (2018-07-12 r74967)
* using platform: x86_64-apple-darwin15.6.0 (64-bit)
* using session charset: UTF-8
* using option ‘--no-vignettes’
* checking for file ‘PCpheno/DESCRIPTION’ ... OK
* checking extension type ... Package
* this is package ‘PCpheno’ version ‘1.42.0’
* checking package namespace information ... OK
* checking package dependencies ... NOTE
Depends: includes the non-default packages:
‘Category’ ‘ScISI’ ‘SLGI’ ‘ppiStats’ ‘ppiData’ ‘annotate’
Adding so many packages to the search path is excessive and importing
selectively is preferable.
* checking if this is a source package ... OK
* checking if there is a namespace ... OK
* checking for hidden files and directories ... OK
* checking for portable file names ... OK
* checking for sufficient/correct file permissions ... OK
* checking whether package ‘PCpheno’ can be installed ... OK
* checking installed package size ... OK
* checking package directory ... OK
* checking ‘build’ directory ... OK
* checking DESCRIPTION meta-information ... NOTE
Packages listed in more than one of Depends, Imports, Suggests, Enhances:
‘Category’ ‘ScISI’ ‘KEGG.db’ ‘GO.db’
A package should be listed in only one of these fields.
* checking top-level files ... OK
* checking for left-over files ... OK
* checking index information ... OK
* checking package subdirectories ... OK
* checking R files for non-ASCII characters ... OK
* checking R files for syntax errors ... OK
* checking whether the package can be loaded ... OK
* checking whether the package can be loaded with stated dependencies ... OK
* checking whether the package can be unloaded cleanly ... OK
* checking whether the namespace can be loaded with stated dependencies ... OK
* checking whether the namespace can be unloaded cleanly ... OK
* checking dependencies in R code ... NOTE
'library' or 'require' calls in package code:
‘GO.db’ ‘KEGG.db’
Please use :: or requireNamespace() instead.
See section 'Suggested packages' in the 'Writing R Extensions' manual.
Packages in Depends field not imported from:
‘SLGI’ ‘annotate’ ‘ppiData’ ‘ppiStats’
These packages need to be imported from (in the NAMESPACE file)
for when this namespace is loaded but not attached.
* checking S3 generic/method consistency ... OK
* checking replacement functions ... OK
* checking foreign function calls ... OK
* checking R code for possible problems ... OK
* checking Rd files ... OK
* checking Rd metadata ... OK
* checking Rd cross-references ... OK
* checking for missing documentation entries ... OK
* checking for code/documentation mismatches ... OK
* checking Rd \usage sections ... OK
* checking Rd contents ... OK
* checking for unstated dependencies in examples ... OK
* checking contents of ‘data’ directory ... OK
* checking data for non-ASCII characters ... OK
* checking data for ASCII and uncompressed saves ... OK
* checking sizes of PDF files under ‘inst/doc’ ... OK
* checking files in ‘vignettes’ ... OK
* checking examples ... OK
Examples with CPU or elapsed time > 5s
user system elapsed
graphTheory 5.850 0.202 6.098
gtResult-class 4.591 0.696 5.330
* checking for unstated dependencies in vignettes ... OK
* checking package vignettes in ‘inst/doc’ ... OK
* checking running R code from vignettes ... SKIPPED
* checking re-building of vignette outputs ... SKIPPED
* checking PDF version of manual ... OK
* DONE
Status: 3 NOTEs
See
‘/Users/biocbuild/bbs-3.7-bioc/meat/PCpheno.Rcheck/00check.log’
for details.
PCpheno.Rcheck/00install.out
############################################################################## ############################################################################## ### ### Running command: ### ### /Library/Frameworks/R.framework/Versions/Current/Resources/bin/R CMD INSTALL PCpheno ### ############################################################################## ############################################################################## * installing to library ‘/Library/Frameworks/R.framework/Versions/3.5/Resources/library’ * installing *source* package ‘PCpheno’ ... ** R ** data ** byte-compile and prepare package for lazy loading No methods found in package ‘Biobase’ for request: ‘listlen’ when loading ‘RpsiXML’ No methods found in package ‘annotate’ for requests: ‘pubmed’, ‘buildPubMedAbst’ when loading ‘RpsiXML’ No methods found in package ‘BiocGenerics’ for request: ‘plot’ when loading ‘SLGI’ ** help *** installing help indices ** building package indices ** installing vignettes ** testing if installed package can be loaded No methods found in package ‘Biobase’ for request: ‘listlen’ when loading ‘RpsiXML’ No methods found in package ‘annotate’ for requests: ‘pubmed’, ‘buildPubMedAbst’ when loading ‘RpsiXML’ No methods found in package ‘BiocGenerics’ for request: ‘plot’ when loading ‘SLGI’ * DONE (PCpheno)
PCpheno.Rcheck/PCpheno-Ex.timings
| name | user | system | elapsed | |
| CoHyperGResult-class | 0.205 | 0.035 | 0.247 | |
| Dudley | 0.010 | 0.010 | 0.019 | |
| Giaever | 0.166 | 0.017 | 0.183 | |
| HI | 0.003 | 0.003 | 0.006 | |
| KEGG2SCISI | 0.097 | 0.017 | 0.119 | |
| Kastenmayer | 0.041 | 0.005 | 0.047 | |
| Lesage | 0.013 | 0.003 | 0.017 | |
| Osterberg | 0.031 | 0.008 | 0.039 | |
| SGDphenoL | 0.034 | 0.007 | 0.042 | |
| YEASTOHNOLOG | 0.017 | 0.003 | 0.020 | |
| buildFDMat | 0.604 | 0.032 | 0.647 | |
| categoryToEntrezBuilder | 0.096 | 0.022 | 0.121 | |
| complexStatus | 0.645 | 0.074 | 0.725 | |
| deResult-class | 0.098 | 0.021 | 0.119 | |
| densityEstimate | 0.872 | 0.080 | 0.957 | |
| getDescr | 0.717 | 0.041 | 0.766 | |
| getFDgene | 0.167 | 0.013 | 0.181 | |
| graphTheory | 5.850 | 0.202 | 6.098 | |
| gtResult-class | 4.591 | 0.696 | 5.330 | |
| overlap | 0.002 | 0.000 | 0.002 | |
| plot | 0.699 | 0.167 | 0.872 | |
| ppiInteraction | 4.314 | 0.400 | 4.745 | |
| reduceM | 0.002 | 0.000 | 0.003 | |
| truncName | 0.001 | 0.000 | 0.002 | |