| Back to Multiple platform build/check report for BioC 3.7 |
|
This page was generated on 2017-12-05 07:21:40 -0500 (Tue, 05 Dec 2017).
| Package 993/1469 | Hostname | OS / Arch | INSTALL | BUILD | CHECK | BUILD BIN | ||||||
| PAnnBuilder 1.43.0 Li Hong
| malbec2 | Linux (Ubuntu 16.04.1 LTS) / x86_64 | OK | OK | OK | |||||||
| tokay2 | Windows Server 2012 R2 Standard / x64 | OK | OK | OK | OK | |||||||
| merida2 | OS X 10.11.6 El Capitan / x86_64 | OK | OK | OK | [ OK ] |
| Package: PAnnBuilder |
| Version: 1.43.0 |
| Command: rm -rf PAnnBuilder.buildbin-libdir && mkdir PAnnBuilder.buildbin-libdir && /Users/biocbuild/BBS/utils/build-universal.sh PAnnBuilder_1.43.0.tar.gz /Library/Frameworks/R.framework/Versions/Current/Resources/bin/R PAnnBuilder.buildbin-libdir |
| StartedAt: 2017-12-05 03:05:47 -0500 (Tue, 05 Dec 2017) |
| EndedAt: 2017-12-05 03:06:26 -0500 (Tue, 05 Dec 2017) |
| EllapsedTime: 39.1 seconds |
| RetCode: 0 |
| Status: OK |
| PackageFile: PAnnBuilder_1.43.0.tgz |
| PackageFileSize: 456.9 KiB |
############################################################################## ############################################################################## ### ### Running command: ### ### rm -rf PAnnBuilder.buildbin-libdir && mkdir PAnnBuilder.buildbin-libdir && /Users/biocbuild/BBS/utils/build-universal.sh PAnnBuilder_1.43.0.tar.gz /Library/Frameworks/R.framework/Versions/Current/Resources/bin/R PAnnBuilder.buildbin-libdir ### ############################################################################## ############################################################################## >>>>>>> >>>>>>> INSTALLATION WITH 'R CMD INSTALL --preclean --no-multiarch --library=PAnnBuilder.buildbin-libdir PAnnBuilder_1.43.0.tar.gz' >>>>>>> * installing *source* package ‘PAnnBuilder’ ... ** R ** data ** inst ** preparing package for lazy loading ** help *** installing help indices ** building package indices ** installing vignettes ** testing if installed package can be loaded * DONE (PAnnBuilder)