| Back to Multiple platform build/check report for BioC 3.7 |
|
This page was generated on 2018-10-17 08:39:26 -0400 (Wed, 17 Oct 2018).
| Package 1045/1561 | Hostname | OS / Arch | INSTALL | BUILD | CHECK | BUILD BIN | ||||||
| PAA 1.14.0 Michael Turewicz
| malbec2 | Linux (Ubuntu 16.04.1 LTS) / x86_64 | OK | OK | OK | |||||||
| tokay2 | Windows Server 2012 R2 Standard / x64 | OK | OK | OK | [ OK ] | |||||||
| merida2 | OS X 10.11.6 El Capitan / x86_64 | OK | OK | OK | OK |
| Package: PAA |
| Version: 1.14.0 |
| Command: rm -rf PAA.buildbin-libdir && mkdir PAA.buildbin-libdir && C:\Users\biocbuild\bbs-3.7-bioc\R\bin\R.exe CMD INSTALL --merge-multiarch --build --library=PAA.buildbin-libdir PAA_1.14.0.tar.gz |
| StartedAt: 2018-10-17 06:45:59 -0400 (Wed, 17 Oct 2018) |
| EndedAt: 2018-10-17 06:47:14 -0400 (Wed, 17 Oct 2018) |
| EllapsedTime: 75.0 seconds |
| RetCode: 0 |
| Status: OK |
| PackageFile: PAA_1.14.0.zip |
| PackageFileSize: 3.728 MiB |
##############################################################################
##############################################################################
###
### Running command:
###
### rm -rf PAA.buildbin-libdir && mkdir PAA.buildbin-libdir && C:\Users\biocbuild\bbs-3.7-bioc\R\bin\R.exe CMD INSTALL --merge-multiarch --build --library=PAA.buildbin-libdir PAA_1.14.0.tar.gz
###
##############################################################################
##############################################################################
install for i386
* installing *source* package 'PAA' ...
** libs
C:/Rtools/mingw_32/bin/gcc -I"C:/Users/BIOCBU˜1/BBS-3˜1.7-B/R/include" -DNDEBUG -I"C:/Users/biocbuild/bbs-3.7-bioc/R/library/Rcpp/include" -I"C:/extsoft/include" -O3 -Wall -std=gnu99 -mtune=generic -c PAA_init.c -o PAA_init.o
C:/Rtools/mingw_32/bin/g++ -I"C:/Users/BIOCBU˜1/BBS-3˜1.7-B/R/include" -DNDEBUG -I"C:/Users/biocbuild/bbs-3.7-bioc/R/library/Rcpp/include" -I"C:/extsoft/include" -O2 -Wall -mtune=generic -c RcppExports.cpp -o RcppExports.o
C:/Rtools/mingw_32/bin/g++ -I"C:/Users/BIOCBU˜1/BBS-3˜1.7-B/R/include" -DNDEBUG -I"C:/Users/biocbuild/bbs-3.7-bioc/R/library/Rcpp/include" -I"C:/extsoft/include" -O2 -Wall -mtune=generic -c joinMCountResults.cpp -o joinMCountResults.o
C:/Rtools/mingw_32/bin/g++ -I"C:/Users/BIOCBU˜1/BBS-3˜1.7-B/R/include" -DNDEBUG -I"C:/Users/biocbuild/bbs-3.7-bioc/R/library/Rcpp/include" -I"C:/extsoft/include" -O2 -Wall -mtune=generic -c mCount.cpp -o mCount.o
C:/Rtools/mingw_32/bin/g++ -I"C:/Users/BIOCBU˜1/BBS-3˜1.7-B/R/include" -DNDEBUG -I"C:/Users/biocbuild/bbs-3.7-bioc/R/library/Rcpp/include" -I"C:/extsoft/include" -O2 -Wall -mtune=generic -c mMsMatrix.cpp -o mMsMatrix.o
C:/Rtools/mingw_32/bin/g++ -I"C:/Users/BIOCBU˜1/BBS-3˜1.7-B/R/include" -DNDEBUG -I"C:/Users/biocbuild/bbs-3.7-bioc/R/library/Rcpp/include" -I"C:/extsoft/include" -O2 -Wall -mtune=generic -c sampling.cpp -o sampling.o
C:/Rtools/mingw_32/bin/g++ -shared -s -static-libgcc -o PAA.dll tmp.def PAA_init.o RcppExports.o joinMCountResults.o mCount.o mMsMatrix.o sampling.o -LC:/extsoft/lib/i386 -LC:/extsoft/lib -LC:/Users/BIOCBU˜1/BBS-3˜1.7-B/R/bin/i386 -lR
installing to C:/Users/biocbuild/bbs-3.7-bioc/meat/PAA.buildbin-libdir/PAA/libs/i386
** R
** demo
** inst
** byte-compile and prepare package for lazy loading
** help
*** installing help indices
converting help for package 'PAA'
finding HTML links ... done
batchAdjust html
batchFilter html
batchFilter.anova html
diffAnalysis html
loadGPR html
mMsMatrix html
normalizeArrays html
plotArray html
plotFeatures html
plotFeaturesHeatmap.2 html
plotFeaturesHeatmap html
plotMAPlots html
plotNormMethods html
preselect html
printFeatures html
pvaluePlot html
selectFeatures html
shuffleData html
volcanoPlot html
** building package indices
** installing vignettes
** testing if installed package can be loaded
In R CMD INSTALL
install for x64
* installing *source* package 'PAA' ...
** libs
C:/Rtools/mingw_64/bin/gcc -I"C:/Users/BIOCBU˜1/BBS-3˜1.7-B/R/include" -DNDEBUG -I"C:/Users/biocbuild/bbs-3.7-bioc/R/library/Rcpp/include" -I"C:/extsoft/include" -O2 -Wall -std=gnu99 -mtune=generic -c PAA_init.c -o PAA_init.o
C:/Rtools/mingw_64/bin/g++ -I"C:/Users/BIOCBU˜1/BBS-3˜1.7-B/R/include" -DNDEBUG -I"C:/Users/biocbuild/bbs-3.7-bioc/R/library/Rcpp/include" -I"C:/extsoft/include" -O2 -Wall -mtune=generic -c RcppExports.cpp -o RcppExports.o
C:/Rtools/mingw_64/bin/g++ -I"C:/Users/BIOCBU˜1/BBS-3˜1.7-B/R/include" -DNDEBUG -I"C:/Users/biocbuild/bbs-3.7-bioc/R/library/Rcpp/include" -I"C:/extsoft/include" -O2 -Wall -mtune=generic -c joinMCountResults.cpp -o joinMCountResults.o
C:/Rtools/mingw_64/bin/g++ -I"C:/Users/BIOCBU˜1/BBS-3˜1.7-B/R/include" -DNDEBUG -I"C:/Users/biocbuild/bbs-3.7-bioc/R/library/Rcpp/include" -I"C:/extsoft/include" -O2 -Wall -mtune=generic -c mCount.cpp -o mCount.o
C:/Rtools/mingw_64/bin/g++ -I"C:/Users/BIOCBU˜1/BBS-3˜1.7-B/R/include" -DNDEBUG -I"C:/Users/biocbuild/bbs-3.7-bioc/R/library/Rcpp/include" -I"C:/extsoft/include" -O2 -Wall -mtune=generic -c mMsMatrix.cpp -o mMsMatrix.o
C:/Rtools/mingw_64/bin/g++ -I"C:/Users/BIOCBU˜1/BBS-3˜1.7-B/R/include" -DNDEBUG -I"C:/Users/biocbuild/bbs-3.7-bioc/R/library/Rcpp/include" -I"C:/extsoft/include" -O2 -Wall -mtune=generic -c sampling.cpp -o sampling.o
C:/Rtools/mingw_64/bin/g++ -shared -s -static-libgcc -o PAA.dll tmp.def PAA_init.o RcppExports.o joinMCountResults.o mCount.o mMsMatrix.o sampling.o -LC:/extsoft/lib/x64 -LC:/extsoft/lib -LC:/Users/BIOCBU˜1/BBS-3˜1.7-B/R/bin/x64 -lR
installing to C:/Users/biocbuild/bbs-3.7-bioc/meat/PAA.buildbin-libdir/PAA/libs/x64
** testing if installed package can be loaded
* MD5 sums
packaged installation of 'PAA' as PAA_1.14.0.zip
* DONE (PAA)
In R CMD INSTALL
In R CMD INSTALL