| Back to Multiple platform build/check report for BioC 3.7 |
|
This page was generated on 2018-10-17 08:22:11 -0400 (Wed, 17 Oct 2018).
| Package 1044/1561 | Hostname | OS / Arch | INSTALL | BUILD | CHECK | BUILD BIN | ||||||
| OutlierD 1.44.0 Sukwoo Kim
| malbec2 | Linux (Ubuntu 16.04.1 LTS) / x86_64 | OK | OK | [ OK ] | |||||||
| tokay2 | Windows Server 2012 R2 Standard / x64 | OK | OK | OK | OK | |||||||
| merida2 | OS X 10.11.6 El Capitan / x86_64 | OK | OK | OK | OK |
| Package: OutlierD |
| Version: 1.44.0 |
| Command: /home/biocbuild/bbs-3.7-bioc/R/bin/R CMD check --install=check:OutlierD.install-out.txt --library=/home/biocbuild/bbs-3.7-bioc/R/library --no-vignettes --timings OutlierD_1.44.0.tar.gz |
| StartedAt: 2018-10-16 02:31:12 -0400 (Tue, 16 Oct 2018) |
| EndedAt: 2018-10-16 02:31:49 -0400 (Tue, 16 Oct 2018) |
| EllapsedTime: 37.1 seconds |
| RetCode: 0 |
| Status: OK |
| CheckDir: OutlierD.Rcheck |
| Warnings: 0 |
##############################################################################
##############################################################################
###
### Running command:
###
### /home/biocbuild/bbs-3.7-bioc/R/bin/R CMD check --install=check:OutlierD.install-out.txt --library=/home/biocbuild/bbs-3.7-bioc/R/library --no-vignettes --timings OutlierD_1.44.0.tar.gz
###
##############################################################################
##############################################################################
* using log directory ‘/home/biocbuild/bbs-3.7-bioc/meat/OutlierD.Rcheck’
* using R version 3.5.1 Patched (2018-07-12 r74967)
* using platform: x86_64-pc-linux-gnu (64-bit)
* using session charset: UTF-8
* using option ‘--no-vignettes’
* checking for file ‘OutlierD/DESCRIPTION’ ... OK
* this is package ‘OutlierD’ version ‘1.44.0’
* checking package namespace information ... OK
* checking package dependencies ... OK
* checking if this is a source package ... OK
* checking if there is a namespace ... OK
* checking for hidden files and directories ... OK
* checking for portable file names ... OK
* checking for sufficient/correct file permissions ... OK
* checking whether package ‘OutlierD’ can be installed ... OK
* checking installed package size ... OK
* checking package directory ... OK
* checking ‘build’ directory ... OK
* checking DESCRIPTION meta-information ... OK
* checking top-level files ... OK
* checking for left-over files ... OK
* checking index information ... OK
* checking package subdirectories ... OK
* checking R files for non-ASCII characters ... OK
* checking R files for syntax errors ... OK
* checking whether the package can be loaded ... OK
* checking whether the package can be loaded with stated dependencies ... OK
* checking whether the package can be unloaded cleanly ... OK
* checking whether the namespace can be loaded with stated dependencies ... OK
* checking whether the namespace can be unloaded cleanly ... OK
* checking dependencies in R code ... NOTE
'library' or 'require' calls to packages already attached by Depends:
‘Biobase’ ‘quantreg’
Please remove these calls from your code.
Packages in Depends field not imported from:
‘Biobase’ ‘quantreg’
These packages need to be imported from (in the NAMESPACE file)
for when this namespace is loaded but not attached.
* checking S3 generic/method consistency ... OK
* checking replacement functions ... OK
* checking foreign function calls ... OK
* checking R code for possible problems ... NOTE
NB: .First.lib is obsolete and will not be used in R >= 3.0.0
File ‘OutlierD/R/OutlierD.R’:
.First.lib calls:
require(Biobase)
Package startup functions should not change the search path.
See section ‘Good practice’ in '?.onAttach'.
.First.lib: no visible global function definition for ‘addVigs2WinMenu’
quant.const: no visible global function definition for ‘quantile’
quant.linear: no visible global function definition for ‘rq’
quant.nonlin: no visible global function definition for ‘nlrq’
quant.nonlin: no visible global function definition for ‘predict’
quant.nonpar: no visible global function definition for ‘rqss’
Undefined global functions or variables:
addVigs2WinMenu nlrq predict quantile rq rqss
Consider adding
importFrom("stats", "predict", "quantile")
to your NAMESPACE file.
* checking Rd files ... OK
* checking Rd metadata ... OK
* checking Rd cross-references ... OK
* checking for missing documentation entries ... OK
* checking for code/documentation mismatches ... OK
* checking Rd \usage sections ... OK
* checking Rd contents ... OK
* checking for unstated dependencies in examples ... OK
* checking contents of ‘data’ directory ... OK
* checking data for non-ASCII characters ... OK
* checking data for ASCII and uncompressed saves ... OK
* checking files in ‘vignettes’ ... OK
* checking examples ... OK
* checking for unstated dependencies in vignettes ... OK
* checking package vignettes in ‘inst/doc’ ... OK
* checking running R code from vignettes ... SKIPPED
* checking re-building of vignette outputs ... SKIPPED
* checking PDF version of manual ... OK
* DONE
Status: 2 NOTEs
See
‘/home/biocbuild/bbs-3.7-bioc/meat/OutlierD.Rcheck/00check.log’
for details.
OutlierD.Rcheck/00install.out
############################################################################## ############################################################################## ### ### Running command: ### ### /home/biocbuild/bbs-3.7-bioc/R/bin/R CMD INSTALL OutlierD ### ############################################################################## ############################################################################## * installing to library ‘/home/biocbuild/bbs-3.7-bioc/R/library’ * installing *source* package ‘OutlierD’ ... ** R ** data ** byte-compile and prepare package for lazy loading ** help *** installing help indices ** building package indices ** installing vignettes ** testing if installed package can be loaded * DONE (OutlierD)
OutlierD.Rcheck/OutlierD-Ex.timings
| name | user | system | elapsed | |
| OutlierD | 2.024 | 0.024 | 2.057 | |