| Back to Multiple platform build/check report for BioC 3.7 |
|
This page was generated on 2018-10-17 08:36:32 -0400 (Wed, 17 Oct 2018).
| Package 1040/1561 | Hostname | OS / Arch | INSTALL | BUILD | CHECK | BUILD BIN | ||||||
| OrganismDbi 1.22.0 Biocore Data Team
| malbec2 | Linux (Ubuntu 16.04.1 LTS) / x86_64 | OK | OK | OK | |||||||
| tokay2 | Windows Server 2012 R2 Standard / x64 | OK | OK | WARNINGS | [ OK ] | |||||||
| merida2 | OS X 10.11.6 El Capitan / x86_64 | OK | OK | OK | OK |
| Package: OrganismDbi |
| Version: 1.22.0 |
| Command: rm -rf OrganismDbi.buildbin-libdir && mkdir OrganismDbi.buildbin-libdir && C:\Users\biocbuild\bbs-3.7-bioc\R\bin\R.exe CMD INSTALL --merge-multiarch --build --library=OrganismDbi.buildbin-libdir OrganismDbi_1.22.0.tar.gz |
| StartedAt: 2018-10-17 06:45:48 -0400 (Wed, 17 Oct 2018) |
| EndedAt: 2018-10-17 06:46:29 -0400 (Wed, 17 Oct 2018) |
| EllapsedTime: 41.0 seconds |
| RetCode: 0 |
| Status: OK |
| PackageFile: OrganismDbi_1.22.0.zip |
| PackageFileSize: 561.5 KiB |
##############################################################################
##############################################################################
###
### Running command:
###
### rm -rf OrganismDbi.buildbin-libdir && mkdir OrganismDbi.buildbin-libdir && C:\Users\biocbuild\bbs-3.7-bioc\R\bin\R.exe CMD INSTALL --merge-multiarch --build --library=OrganismDbi.buildbin-libdir OrganismDbi_1.22.0.tar.gz
###
##############################################################################
##############################################################################
install for i386
* installing *source* package 'OrganismDbi' ...
** R
** inst
** byte-compile and prepare package for lazy loading
** help
*** installing help indices
converting help for package 'OrganismDbi'
finding HTML links ... done
OrganismDb html
Rd warning: C:/Users/biocbuild/bbs-3.7-bioc/tmpdir/Rtmp2XLPVt/R.INSTALL2470223a6d85/OrganismDbi/man/OrganismDb.Rd:191: file link 'seqlevels' in package 'GenomeInfoDb' does not exist and so has been treated as a topic
Rd warning: C:/Users/biocbuild/bbs-3.7-bioc/tmpdir/Rtmp2XLPVt/R.INSTALL2470223a6d85/OrganismDbi/man/OrganismDb.Rd:192: file link 'seqlengths' in package 'GenomeInfoDb' does not exist and so has been treated as a topic
Rd warning: C:/Users/biocbuild/bbs-3.7-bioc/tmpdir/Rtmp2XLPVt/R.INSTALL2470223a6d85/OrganismDbi/man/OrganismDb.Rd:193: file link 'isCircular' in package 'GenomeInfoDb' does not exist and so has been treated as a topic
Rd warning: C:/Users/biocbuild/bbs-3.7-bioc/tmpdir/Rtmp2XLPVt/R.INSTALL2470223a6d85/OrganismDbi/man/OrganismDb.Rd:194: file link 'genome' in package 'GenomeInfoDb' does not exist and so has been treated as a topic
coordinate-mapping-method html
Rd warning: C:/Users/biocbuild/bbs-3.7-bioc/tmpdir/Rtmp2XLPVt/R.INSTALL2470223a6d85/OrganismDbi/man/coordinate-mapping-method.Rd:11: file link 'mapToAlignments' in package 'GenomicAlignments' does not exist and so has been treated as a topic
Rd warning: C:/Users/biocbuild/bbs-3.7-bioc/tmpdir/Rtmp2XLPVt/R.INSTALL2470223a6d85/OrganismDbi/man/coordinate-mapping-method.Rd:101: file link 'mapToTranscripts' in package 'GenomicFeatures' does not exist and so has been treated as a topic
makeOrganismDbFromBiomart html
finding level-2 HTML links ... done
makeOrganismDbFromTxDb html
makeOrganismDbFromUCSC html
makeOrganismPackage html
rangeBasedAccessors html
Rd warning: C:/Users/biocbuild/bbs-3.7-bioc/tmpdir/Rtmp2XLPVt/R.INSTALL2470223a6d85/OrganismDbi/man/rangeBasedAccessors.Rd:93: file link 'BSgenome' in package 'BSgenome' does not exist and so has been treated as a topic
Rd warning: C:/Users/biocbuild/bbs-3.7-bioc/tmpdir/Rtmp2XLPVt/R.INSTALL2470223a6d85/OrganismDbi/man/rangeBasedAccessors.Rd:120: file link 'GRangesList' in package 'GenomicRanges' does not exist and so has been treated as a topic
Rd warning: C:/Users/biocbuild/bbs-3.7-bioc/tmpdir/Rtmp2XLPVt/R.INSTALL2470223a6d85/OrganismDbi/man/rangeBasedAccessors.Rd:123: file link 'GRangesList' in package 'GenomicRanges' does not exist and so has been treated as a topic
Rd warning: C:/Users/biocbuild/bbs-3.7-bioc/tmpdir/Rtmp2XLPVt/R.INSTALL2470223a6d85/OrganismDbi/man/rangeBasedAccessors.Rd:125: file link 'GRangesList' in package 'GenomicRanges' does not exist and so has been treated as a topic
Rd warning: C:/Users/biocbuild/bbs-3.7-bioc/tmpdir/Rtmp2XLPVt/R.INSTALL2470223a6d85/OrganismDbi/man/rangeBasedAccessors.Rd:195: file link 'GRangesList' in package 'GenomicRanges' does not exist and so has been treated as a topic
Rd warning: C:/Users/biocbuild/bbs-3.7-bioc/tmpdir/Rtmp2XLPVt/R.INSTALL2470223a6d85/OrganismDbi/man/rangeBasedAccessors.Rd:196: file link 'BSgenome' in package 'BSgenome' does not exist and so has been treated as a topic
Rd warning: C:/Users/biocbuild/bbs-3.7-bioc/tmpdir/Rtmp2XLPVt/R.INSTALL2470223a6d85/OrganismDbi/man/rangeBasedAccessors.Rd:197: file link 'GRangesList' in package 'GenomicRanges' does not exist and so has been treated as a topic
Rd warning: C:/Users/biocbuild/bbs-3.7-bioc/tmpdir/Rtmp2XLPVt/R.INSTALL2470223a6d85/OrganismDbi/man/rangeBasedAccessors.Rd:201: file link 'DNAString' in package 'Biostrings' does not exist and so has been treated as a topic
Rd warning: C:/Users/biocbuild/bbs-3.7-bioc/tmpdir/Rtmp2XLPVt/R.INSTALL2470223a6d85/OrganismDbi/man/rangeBasedAccessors.Rd:203: file link 'Rle' in package 'S4Vectors' does not exist and so has been treated as a topic
Rd warning: C:/Users/biocbuild/bbs-3.7-bioc/tmpdir/Rtmp2XLPVt/R.INSTALL2470223a6d85/OrganismDbi/man/rangeBasedAccessors.Rd:206: file link 'Rle' in package 'S4Vectors' does not exist and so has been treated as a topic
Rd warning: C:/Users/biocbuild/bbs-3.7-bioc/tmpdir/Rtmp2XLPVt/R.INSTALL2470223a6d85/OrganismDbi/man/rangeBasedAccessors.Rd:209: file link 'IntegerRangesList' in package 'IRanges' does not exist and so has been treated as a topic
Rd warning: C:/Users/biocbuild/bbs-3.7-bioc/tmpdir/Rtmp2XLPVt/R.INSTALL2470223a6d85/OrganismDbi/man/rangeBasedAccessors.Rd:215: file link 'IntegerRangesList' in package 'IRanges' does not exist and so has been treated as a topic
Rd warning: C:/Users/biocbuild/bbs-3.7-bioc/tmpdir/Rtmp2XLPVt/R.INSTALL2470223a6d85/OrganismDbi/man/rangeBasedAccessors.Rd:225: file link 'GenomicRanges' in package 'GenomicRanges' does not exist and so has been treated as a topic
Rd warning: C:/Users/biocbuild/bbs-3.7-bioc/tmpdir/Rtmp2XLPVt/R.INSTALL2470223a6d85/OrganismDbi/man/rangeBasedAccessors.Rd:253: file link 'MultiDb-class' in package 'OrganismDbi' does not exist and so has been treated as a topic
** building package indices
** installing vignettes
** testing if installed package can be loaded
In R CMD INSTALL
install for x64
* installing *source* package 'OrganismDbi' ...
** testing if installed package can be loaded
* MD5 sums
packaged installation of 'OrganismDbi' as OrganismDbi_1.22.0.zip
* DONE (OrganismDbi)
In R CMD INSTALL
In R CMD INSTALL