| Back to Multiple platform build/check report for BioC 3.7 |
|
This page was generated on 2018-10-17 08:27:27 -0400 (Wed, 17 Oct 2018).
| Package 1021/1561 | Hostname | OS / Arch | INSTALL | BUILD | CHECK | BUILD BIN | ||||||
| OmicsMarkeR 1.12.0 Charles E. Determan Jr.
| malbec2 | Linux (Ubuntu 16.04.1 LTS) / x86_64 | OK | OK | [ OK ] | |||||||
| tokay2 | Windows Server 2012 R2 Standard / x64 | OK | OK | OK | OK | |||||||
| merida2 | OS X 10.11.6 El Capitan / x86_64 | OK | OK | OK | OK |
| Package: OmicsMarkeR |
| Version: 1.12.0 |
| Command: /home/biocbuild/bbs-3.7-bioc/R/bin/R CMD check --install=check:OmicsMarkeR.install-out.txt --library=/home/biocbuild/bbs-3.7-bioc/R/library --no-vignettes --timings OmicsMarkeR_1.12.0.tar.gz |
| StartedAt: 2018-10-16 02:26:39 -0400 (Tue, 16 Oct 2018) |
| EndedAt: 2018-10-16 02:29:43 -0400 (Tue, 16 Oct 2018) |
| EllapsedTime: 183.8 seconds |
| RetCode: 0 |
| Status: OK |
| CheckDir: OmicsMarkeR.Rcheck |
| Warnings: 0 |
##############################################################################
##############################################################################
###
### Running command:
###
### /home/biocbuild/bbs-3.7-bioc/R/bin/R CMD check --install=check:OmicsMarkeR.install-out.txt --library=/home/biocbuild/bbs-3.7-bioc/R/library --no-vignettes --timings OmicsMarkeR_1.12.0.tar.gz
###
##############################################################################
##############################################################################
* using log directory ‘/home/biocbuild/bbs-3.7-bioc/meat/OmicsMarkeR.Rcheck’
* using R version 3.5.1 Patched (2018-07-12 r74967)
* using platform: x86_64-pc-linux-gnu (64-bit)
* using session charset: UTF-8
* using option ‘--no-vignettes’
* checking for file ‘OmicsMarkeR/DESCRIPTION’ ... OK
* this is package ‘OmicsMarkeR’ version ‘1.12.0’
* checking package namespace information ... OK
* checking package dependencies ... OK
* checking if this is a source package ... OK
* checking if there is a namespace ... OK
* checking for hidden files and directories ... OK
* checking for portable file names ... OK
* checking for sufficient/correct file permissions ... OK
* checking whether package ‘OmicsMarkeR’ can be installed ... OK
* checking installed package size ... OK
* checking package directory ... OK
* checking ‘build’ directory ... OK
* checking DESCRIPTION meta-information ... OK
* checking top-level files ... OK
* checking for left-over files ... OK
* checking index information ... OK
* checking package subdirectories ... OK
* checking R files for non-ASCII characters ... OK
* checking R files for syntax errors ... OK
* checking whether the package can be loaded ... OK
* checking whether the package can be loaded with stated dependencies ... OK
* checking whether the package can be unloaded cleanly ... OK
* checking whether the namespace can be loaded with stated dependencies ... OK
* checking whether the namespace can be unloaded cleanly ... OK
* checking dependencies in R code ... OK
* checking S3 generic/method consistency ... OK
* checking replacement functions ... OK
* checking foreign function calls ... OK
* checking R code for possible problems ... OK
* checking Rd files ... OK
* checking Rd metadata ... OK
* checking Rd cross-references ... OK
* checking for missing documentation entries ... OK
* checking for code/documentation mismatches ... OK
* checking Rd \usage sections ... OK
* checking Rd contents ... OK
* checking for unstated dependencies in examples ... OK
* checking installed files from ‘inst/doc’ ... OK
* checking files in ‘vignettes’ ... OK
* checking examples ... OK
Examples with CPU or elapsed time > 5s
user system elapsed
perm.class 10.252 0.000 10.261
performance.metrics 9.744 0.000 9.758
perm.features 8.912 0.000 8.921
predictNewClasses 8.592 0.020 8.625
feature.table 8.556 0.024 8.597
fs.stability 8.408 0.008 8.424
* checking for unstated dependencies in ‘tests’ ... OK
* checking tests ...
Running ‘testthat.R’
OK
* checking for unstated dependencies in vignettes ... OK
* checking package vignettes in ‘inst/doc’ ... OK
* checking running R code from vignettes ... SKIPPED
* checking re-building of vignette outputs ... SKIPPED
* checking PDF version of manual ... OK
* DONE
Status: OK
OmicsMarkeR.Rcheck/00install.out
############################################################################## ############################################################################## ### ### Running command: ### ### /home/biocbuild/bbs-3.7-bioc/R/bin/R CMD INSTALL OmicsMarkeR ### ############################################################################## ############################################################################## * installing to library ‘/home/biocbuild/bbs-3.7-bioc/R/library’ * installing *source* package ‘OmicsMarkeR’ ... ** R ** inst ** byte-compile and prepare package for lazy loading ** help *** installing help indices ** building package indices ** installing vignettes ** testing if installed package can be loaded * DONE (OmicsMarkeR)
OmicsMarkeR.Rcheck/tests/testthat.Rout
R version 3.5.1 Patched (2018-07-12 r74967) -- "Feather Spray"
Copyright (C) 2018 The R Foundation for Statistical Computing
Platform: x86_64-pc-linux-gnu (64-bit)
R is free software and comes with ABSOLUTELY NO WARRANTY.
You are welcome to redistribute it under certain conditions.
Type 'license()' or 'licence()' for distribution details.
R is a collaborative project with many contributors.
Type 'contributors()' for more information and
'citation()' on how to cite R or R packages in publications.
Type 'demo()' for some demos, 'help()' for on-line help, or
'help.start()' for an HTML browser interface to help.
Type 'q()' to quit R.
> library(testthat)
> library(OmicsMarkeR)
>
> test_check("OmicsMarkeR")
solo last variable══ testthat results ═══════════════════════════════════════════════════════════
OK: 100 SKIPPED: 0 FAILED: 0
>
> proc.time()
user system elapsed
51.040 0.228 51.329
OmicsMarkeR.Rcheck/OmicsMarkeR-Ex.timings
| name | user | system | elapsed | |
| RPT | 0.004 | 0.000 | 0.019 | |
| aggregation | 0.008 | 0.000 | 0.008 | |
| canberra | 0.004 | 0.000 | 0.003 | |
| canberra_stability | 0.004 | 0.000 | 0.003 | |
| create.corr.matrix | 0.008 | 0.004 | 0.012 | |
| create.discr.matrix | 0.008 | 0.000 | 0.009 | |
| create.random.matrix | 0.004 | 0.004 | 0.009 | |
| denovo.grid | 0.012 | 0.008 | 0.018 | |
| feature.table | 8.556 | 0.024 | 8.597 | |
| fit.only.model | 3.088 | 0.004 | 3.095 | |
| fs.ensembl.stability | 0.004 | 0.000 | 0.001 | |
| fs.stability | 8.408 | 0.008 | 8.424 | |
| jaccard | 0.000 | 0.000 | 0.001 | |
| kuncheva | 0.000 | 0.000 | 0.002 | |
| modelList | 0.004 | 0.000 | 0.002 | |
| ochiai | 0.000 | 0.000 | 0.001 | |
| pairwise.model.stability | 0.008 | 0.004 | 0.009 | |
| pairwise.stability | 0.004 | 0.000 | 0.004 | |
| params | 0.000 | 0.000 | 0.002 | |
| performance.metrics | 9.744 | 0.000 | 9.758 | |
| perm.class | 10.252 | 0.000 | 10.261 | |
| perm.features | 8.912 | 0.000 | 8.921 | |
| pof | 0.000 | 0.000 | 0.001 | |
| predictNewClasses | 8.592 | 0.020 | 8.625 | |
| sorensen | 0.000 | 0.000 | 0.001 | |
| spearman | 0.000 | 0.000 | 0.001 | |
| svmrfeFeatureRanking | 0.048 | 0.000 | 0.050 | |
| svmrfeFeatureRankingForMulticlass | 0.104 | 0.000 | 0.102 | |