| Back to Multiple platform build/check report for BioC 3.7 |
|
This page was generated on 2018-10-17 08:51:44 -0400 (Wed, 17 Oct 2018).
| Package 1018/1561 | Hostname | OS / Arch | INSTALL | BUILD | CHECK | BUILD BIN | ||||||
| OmicCircos 1.18.0 Ying Hu
| malbec2 | Linux (Ubuntu 16.04.1 LTS) / x86_64 | OK | OK | OK | |||||||
| tokay2 | Windows Server 2012 R2 Standard / x64 | OK | OK | OK | OK | |||||||
| merida2 | OS X 10.11.6 El Capitan / x86_64 | OK | OK | OK | [ OK ] |
| Package: OmicCircos |
| Version: 1.18.0 |
| Command: rm -rf OmicCircos.buildbin-libdir && mkdir OmicCircos.buildbin-libdir && /Users/biocbuild/BBS/utils/build-universal.sh OmicCircos_1.18.0.tar.gz /Library/Frameworks/R.framework/Versions/Current/Resources/bin/R OmicCircos.buildbin-libdir |
| StartedAt: 2018-10-17 01:47:56 -0400 (Wed, 17 Oct 2018) |
| EndedAt: 2018-10-17 01:48:38 -0400 (Wed, 17 Oct 2018) |
| EllapsedTime: 41.8 seconds |
| RetCode: 0 |
| Status: OK |
| PackageFile: OmicCircos_1.18.0.tgz |
| PackageFileSize: 4.984 MiB |
############################################################################## ############################################################################## ### ### Running command: ### ### rm -rf OmicCircos.buildbin-libdir && mkdir OmicCircos.buildbin-libdir && /Users/biocbuild/BBS/utils/build-universal.sh OmicCircos_1.18.0.tar.gz /Library/Frameworks/R.framework/Versions/Current/Resources/bin/R OmicCircos.buildbin-libdir ### ############################################################################## ############################################################################## >>>>>>> >>>>>>> INSTALLATION WITH 'R CMD INSTALL --preclean --no-multiarch --library=OmicCircos.buildbin-libdir OmicCircos_1.18.0.tar.gz' >>>>>>> * installing *source* package ‘OmicCircos’ ... ** R ** data ** demo ** inst ** byte-compile and prepare package for lazy loading ** help *** installing help indices ** building package indices ** installing vignettes ** testing if installed package can be loaded * DONE (OmicCircos)