| Back to Multiple platform build/check report for BioC 3.7 |
|
This page was generated on 2018-10-17 08:32:17 -0400 (Wed, 17 Oct 2018).
| Package 1015/1561 | Hostname | OS / Arch | INSTALL | BUILD | CHECK | BUILD BIN | ||||||
| OLINgui 1.54.0 Matthias Futschik
| malbec2 | Linux (Ubuntu 16.04.1 LTS) / x86_64 | OK | OK | OK | |||||||
| tokay2 | Windows Server 2012 R2 Standard / x64 | OK | OK | OK | [ OK ] | |||||||
| merida2 | OS X 10.11.6 El Capitan / x86_64 | OK | OK | OK | OK |
| Package: OLINgui |
| Version: 1.54.0 |
| Command: rm -rf OLINgui.buildbin-libdir && mkdir OLINgui.buildbin-libdir && C:\Users\biocbuild\bbs-3.7-bioc\R\bin\R.exe CMD INSTALL --merge-multiarch --build --library=OLINgui.buildbin-libdir OLINgui_1.54.0.tar.gz |
| StartedAt: 2018-10-17 06:44:55 -0400 (Wed, 17 Oct 2018) |
| EndedAt: 2018-10-17 06:45:03 -0400 (Wed, 17 Oct 2018) |
| EllapsedTime: 8.6 seconds |
| RetCode: 0 |
| Status: OK |
| PackageFile: OLINgui_1.54.0.zip |
| PackageFileSize: 274.5 KiB |
##############################################################################
##############################################################################
###
### Running command:
###
### rm -rf OLINgui.buildbin-libdir && mkdir OLINgui.buildbin-libdir && C:\Users\biocbuild\bbs-3.7-bioc\R\bin\R.exe CMD INSTALL --merge-multiarch --build --library=OLINgui.buildbin-libdir OLINgui_1.54.0.tar.gz
###
##############################################################################
##############################################################################
install for i386
* installing *source* package 'OLINgui' ...
** R
** inst
** byte-compile and prepare package for lazy loading
** help
*** installing help indices
converting help for package 'OLINgui'
finding HTML links ... done
OLINgui html
** building package indices
** installing vignettes
** testing if installed package can be loaded
In R CMD INSTALL
install for x64
* installing *source* package 'OLINgui' ...
** testing if installed package can be loaded
* MD5 sums
packaged installation of 'OLINgui' as OLINgui_1.54.0.zip
* DONE (OLINgui)
In R CMD INSTALL
In R CMD INSTALL