| Back to Multiple platform build/check report for BioC 3.7 | 
 | 
This page was generated on 2018-10-17 08:50:18 -0400 (Wed, 17 Oct 2018).
| Package 980/1561 | Hostname | OS / Arch | INSTALL | BUILD | CHECK | BUILD BIN | ||||||
| NarrowPeaks 1.24.0 Pedro Madrigal 
 | malbec2 | Linux (Ubuntu 16.04.1 LTS) / x86_64 | OK | OK | OK |  | ||||||
| tokay2 | Windows Server 2012 R2 Standard / x64 | OK | OK | OK | OK |  | ||||||
| merida2 | OS X 10.11.6 El Capitan / x86_64 | [ OK ] | OK | WARNINGS | OK |  | 
| Package: NarrowPeaks | 
| Version: 1.24.0 | 
| Command: /Library/Frameworks/R.framework/Versions/Current/Resources/bin/R CMD INSTALL NarrowPeaks | 
| StartedAt: 2018-10-16 15:41:02 -0400 (Tue, 16 Oct 2018) | 
| EndedAt: 2018-10-16 15:41:32 -0400 (Tue, 16 Oct 2018) | 
| EllapsedTime: 30.0 seconds | 
| RetCode: 0 | 
| Status: OK | 
##############################################################################
##############################################################################
###
### Running command:
###
###   /Library/Frameworks/R.framework/Versions/Current/Resources/bin/R CMD INSTALL NarrowPeaks
###
##############################################################################
##############################################################################
* installing to library ‘/Library/Frameworks/R.framework/Versions/3.5/Resources/library’
* installing *source* package ‘NarrowPeaks’ ...
** libs
clang -I"/Library/Frameworks/R.framework/Resources/include" -DNDEBUG   -I/usr/local/include   -fPIC  -Wall -g -O2  -c wig2CSARScore.c -o wig2CSARScore.o
wig2CSARScore.c:240:11: warning: explicitly assigning value of variable of type 'int' to itself [-Wself-assign]
                                        for(i=i;i<x+span_c;i++){
                                            ˜^˜
wig2CSARScore.c:246:10: warning: explicitly assigning value of variable of type 'int' to itself [-Wself-assign]
                                for(i=i;i<=chrL[m];i++)
                                    ˜^˜
wig2CSARScore.c:267:11: warning: explicitly assigning value of variable of type 'int' to itself [-Wself-assign]
                                        for(i=i;i<x+span_c;i++){
                                            ˜^˜
wig2CSARScore.c:273:10: warning: explicitly assigning value of variable of type 'int' to itself [-Wself-assign]
                                for(i=i;i<=chrL[m];i++)
                                    ˜^˜
wig2CSARScore.c:352:11: warning: explicitly assigning value of variable of type 'int' to itself [-Wself-assign]
                                        for(i=i;i<start_c+span_c;i++){
                                            ˜^˜
wig2CSARScore.c:359:10: warning: explicitly assigning value of variable of type 'int' to itself [-Wself-assign]
                                for(i=i;i<=chrL[m];i++)
                                    ˜^˜
wig2CSARScore.c:380:11: warning: explicitly assigning value of variable of type 'int' to itself [-Wself-assign]
                                        for(i=i;i<start_c+span_c;i++){
                                            ˜^˜
wig2CSARScore.c:387:10: warning: explicitly assigning value of variable of type 'int' to itself [-Wself-assign]
                                for(i=i;i<=chrL[m];i++)
                                    ˜^˜
8 warnings generated.
clang -I"/Library/Frameworks/R.framework/Resources/include" -DNDEBUG   -I/usr/local/include   -fPIC  -Wall -g -O2  -c wig2CSARScore_R_wrapper.c -o wig2CSARScore_R_wrapper.o
clang -dynamiclib -Wl,-headerpad_max_install_names -undefined dynamic_lookup -single_module -multiply_defined suppress -L/Library/Frameworks/R.framework/Resources/lib -L/usr/local/lib -o NarrowPeaks.so wig2CSARScore.o wig2CSARScore_R_wrapper.o -F/Library/Frameworks/R.framework/.. -framework R -Wl,-framework -Wl,CoreFoundation
installing to /Library/Frameworks/R.framework/Versions/3.5/Resources/library/NarrowPeaks/libs
** R
** data
** inst
** byte-compile and prepare package for lazy loading
** help
*** installing help indices
** building package indices
** installing vignettes
** testing if installed package can be loaded
* DONE (NarrowPeaks)