| Back to Multiple platform build/check report for BioC 3.7 |
|
This page was generated on 2018-10-17 08:34:50 -0400 (Wed, 17 Oct 2018).
| Package 1003/1561 | Hostname | OS / Arch | INSTALL | BUILD | CHECK | BUILD BIN | ||||||
| NTW 1.30.0 Yuanhua Liu
| malbec2 | Linux (Ubuntu 16.04.1 LTS) / x86_64 | OK | OK | WARNINGS | |||||||
| tokay2 | Windows Server 2012 R2 Standard / x64 | OK | OK | WARNINGS | [ OK ] | |||||||
| merida2 | OS X 10.11.6 El Capitan / x86_64 | OK | OK | WARNINGS | OK |
| Package: NTW |
| Version: 1.30.0 |
| Command: rm -rf NTW.buildbin-libdir && mkdir NTW.buildbin-libdir && C:\Users\biocbuild\bbs-3.7-bioc\R\bin\R.exe CMD INSTALL --merge-multiarch --build --library=NTW.buildbin-libdir NTW_1.30.0.tar.gz |
| StartedAt: 2018-10-17 06:44:29 -0400 (Wed, 17 Oct 2018) |
| EndedAt: 2018-10-17 06:44:34 -0400 (Wed, 17 Oct 2018) |
| EllapsedTime: 4.7 seconds |
| RetCode: 0 |
| Status: OK |
| PackageFile: NTW_1.30.0.zip |
| PackageFileSize: 527.9 KiB |
##############################################################################
##############################################################################
###
### Running command:
###
### rm -rf NTW.buildbin-libdir && mkdir NTW.buildbin-libdir && C:\Users\biocbuild\bbs-3.7-bioc\R\bin\R.exe CMD INSTALL --merge-multiarch --build --library=NTW.buildbin-libdir NTW_1.30.0.tar.gz
###
##############################################################################
##############################################################################
install for i386
* installing *source* package 'NTW' ...
** R
** data
** inst
** byte-compile and prepare package for lazy loading
Note: break used in wrong context: no loop is visible
** help
*** installing help indices
converting help for package 'NTW'
finding HTML links ... done
A.estimation.Srow html
AP.estimation.Srow html
NTW-package html
NTW html
P.preestimation html
comb.matrix html
methods.regression html
patterns.priorA html
sos.data html
** building package indices
** installing vignettes
** testing if installed package can be loaded
In R CMD INSTALL
install for x64
* installing *source* package 'NTW' ...
** testing if installed package can be loaded
* MD5 sums
packaged installation of 'NTW' as NTW_1.30.0.zip
* DONE (NTW)
In R CMD INSTALL
In R CMD INSTALL