| Back to Multiple platform build/check report for BioC 3.7 |
|
This page was generated on 2018-10-17 08:43:46 -0400 (Wed, 17 Oct 2018).
| Package 977/1561 | Hostname | OS / Arch | INSTALL | BUILD | CHECK | BUILD BIN | ||||||
| NADfinder 1.4.0 Jianhong Ou
| malbec2 | Linux (Ubuntu 16.04.1 LTS) / x86_64 | OK | OK | OK | |||||||
| tokay2 | Windows Server 2012 R2 Standard / x64 | [ OK ] | OK | WARNINGS | OK | |||||||
| merida2 | OS X 10.11.6 El Capitan / x86_64 | OK | OK | OK | OK |
| Package: NADfinder |
| Version: 1.4.0 |
| Command: C:\cygwin\bin\curl.exe -O https://malbec2.bioconductor.org/BBS/3.7/bioc/src/contrib/NADfinder_1.4.0.tar.gz && rm -rf NADfinder.buildbin-libdir && mkdir NADfinder.buildbin-libdir && C:\Users\biocbuild\bbs-3.7-bioc\R\bin\R.exe CMD INSTALL --merge-multiarch --build --library=NADfinder.buildbin-libdir NADfinder_1.4.0.tar.gz && C:\Users\biocbuild\bbs-3.7-bioc\R\bin\R.exe CMD INSTALL NADfinder_1.4.0.zip && rm NADfinder_1.4.0.tar.gz NADfinder_1.4.0.zip |
| StartedAt: 2018-10-16 20:37:49 -0400 (Tue, 16 Oct 2018) |
| EndedAt: 2018-10-16 20:39:09 -0400 (Tue, 16 Oct 2018) |
| EllapsedTime: 80.0 seconds |
| RetCode: 0 |
| Status: OK |
##############################################################################
##############################################################################
###
### Running command:
###
### C:\cygwin\bin\curl.exe -O https://malbec2.bioconductor.org/BBS/3.7/bioc/src/contrib/NADfinder_1.4.0.tar.gz && rm -rf NADfinder.buildbin-libdir && mkdir NADfinder.buildbin-libdir && C:\Users\biocbuild\bbs-3.7-bioc\R\bin\R.exe CMD INSTALL --merge-multiarch --build --library=NADfinder.buildbin-libdir NADfinder_1.4.0.tar.gz && C:\Users\biocbuild\bbs-3.7-bioc\R\bin\R.exe CMD INSTALL NADfinder_1.4.0.zip && rm NADfinder_1.4.0.tar.gz NADfinder_1.4.0.zip
###
##############################################################################
##############################################################################
% Total % Received % Xferd Average Speed Time Time Time Current
Dload Upload Total Spent Left Speed
0 0 0 0 0 0 0 0 --:--:-- --:--:-- --:--:-- 0
100 5397k 100 5397k 0 0 41.2M 0 --:--:-- --:--:-- --:--:-- 43.5M
install for i386
* installing *source* package 'NADfinder' ...
** R
** data
*** moving datasets to lazyload DB
** inst
** byte-compile and prepare package for lazy loading
** help
*** installing help indices
converting help for package 'NADfinder'
finding HTML links ... done
IntersectionNotStrict html
NADfinder-package html
backgroundCorrection html
butterFilter html
callPeaks html
cumulativePercentage html
exportSignals html
getCorrelations html
groupZscores html
log2se html
peakdet html
plotSig html
single.count html
smoothRatiosByChromosome html
tileCount html
tileCount2 html
Rd warning: C:/Users/biocbuild/bbs-3.7-bioc/tmpdir/RtmpiAXcvA/R.INSTALL151876722d2c/NADfinder/man/tileCount2.Rd:30: file link 'RangedSummarizedExperiment' in package 'SummarizedExperiment' does not exist and so has been treated as a topic
transformData html
trimPeaks html
triplicate.count html
zscoreOverBck html
** building package indices
** installing vignettes
** testing if installed package can be loaded
In R CMD INSTALL
install for x64
* installing *source* package 'NADfinder' ...
** testing if installed package can be loaded
* MD5 sums
packaged installation of 'NADfinder' as NADfinder_1.4.0.zip
* DONE (NADfinder)
In R CMD INSTALL
In R CMD INSTALL
* installing to library 'C:/Users/biocbuild/bbs-3.7-bioc/R/library'
package 'NADfinder' successfully unpacked and MD5 sums checked
In R CMD INSTALL