| Back to Multiple platform build/check report for BioC 3.7 | 
 | 
This page was generated on 2018-10-17 08:36:28 -0400 (Wed, 17 Oct 2018).
| Package 940/1561 | Hostname | OS / Arch | INSTALL | BUILD | CHECK | BUILD BIN | ||||||
| MotifDb 1.22.0 Paul Shannon 
 | malbec2 | Linux (Ubuntu 16.04.1 LTS) / x86_64 | OK | OK | OK |  | ||||||
| tokay2 | Windows Server 2012 R2 Standard / x64 | [ OK ] | OK | OK | OK |  | ||||||
| merida2 | OS X 10.11.6 El Capitan / x86_64 | OK | OK | OK | OK |  | 
| Package: MotifDb | 
| Version: 1.22.0 | 
| Command: C:\cygwin\bin\curl.exe -O https://malbec2.bioconductor.org/BBS/3.7/bioc/src/contrib/MotifDb_1.22.0.tar.gz && rm -rf MotifDb.buildbin-libdir && mkdir MotifDb.buildbin-libdir && C:\Users\biocbuild\bbs-3.7-bioc\R\bin\R.exe CMD INSTALL --merge-multiarch --build --library=MotifDb.buildbin-libdir MotifDb_1.22.0.tar.gz && C:\Users\biocbuild\bbs-3.7-bioc\R\bin\R.exe CMD INSTALL MotifDb_1.22.0.zip && rm MotifDb_1.22.0.tar.gz MotifDb_1.22.0.zip | 
| StartedAt: 2018-10-16 19:54:31 -0400 (Tue, 16 Oct 2018) | 
| EndedAt: 2018-10-16 19:56:05 -0400 (Tue, 16 Oct 2018) | 
| EllapsedTime: 94.0 seconds | 
| RetCode: 0 | 
| Status: OK | 
##############################################################################
##############################################################################
###
### Running command:
###
###   C:\cygwin\bin\curl.exe -O https://malbec2.bioconductor.org/BBS/3.7/bioc/src/contrib/MotifDb_1.22.0.tar.gz && rm -rf MotifDb.buildbin-libdir && mkdir MotifDb.buildbin-libdir && C:\Users\biocbuild\bbs-3.7-bioc\R\bin\R.exe CMD INSTALL --merge-multiarch --build --library=MotifDb.buildbin-libdir MotifDb_1.22.0.tar.gz && C:\Users\biocbuild\bbs-3.7-bioc\R\bin\R.exe CMD INSTALL MotifDb_1.22.0.zip && rm MotifDb_1.22.0.tar.gz MotifDb_1.22.0.zip
###
##############################################################################
##############################################################################
  % Total    % Received % Xferd  Average Speed   Time    Time     Time  Current
                                 Dload  Upload   Total   Spent    Left  Speed
  0     0    0     0    0     0      0      0 --:--:-- --:--:-- --:--:--     0
100 3197k  100 3197k    0     0  24.9M      0 --:--:-- --:--:-- --:--:-- 26.2M
install for i386
* installing *source* package 'MotifDb' ...
** R
** inst
** byte-compile and prepare package for lazy loading
** help
*** installing help indices
  converting help for package 'MotifDb'
    finding HTML links ... done
    MotifDb                                 html  
    MotifList-class                         html  
    associateTranscriptionFactors           html  
    export                                  html  
    geneToMotif                             html  
    motifToGene                             html  
    query                                   html  
    subset                                  html  
** building package indices
** installing vignettes
** testing if installed package can be loaded
See system.file("LICENSE", package="MotifDb") for use restrictions.
In R CMD INSTALL
install for x64
* installing *source* package 'MotifDb' ...
** testing if installed package can be loaded
See system.file("LICENSE", package="MotifDb") for use restrictions.
* MD5 sums
packaged installation of 'MotifDb' as MotifDb_1.22.0.zip
* DONE (MotifDb)
In R CMD INSTALL
In R CMD INSTALL
* installing to library 'C:/Users/biocbuild/bbs-3.7-bioc/R/library'
package 'MotifDb' successfully unpacked and MD5 sums checked
In R CMD INSTALL