| Back to Multiple platform build/check report for BioC 3.7 |
|
This page was generated on 2018-10-17 08:24:54 -0400 (Wed, 17 Oct 2018).
| Package 893/1561 | Hostname | OS / Arch | INSTALL | BUILD | CHECK | BUILD BIN | ||||||
| MethylSeekR 1.20.0 Lukas Burger
| malbec2 | Linux (Ubuntu 16.04.1 LTS) / x86_64 | OK | OK | [ OK ] | |||||||
| tokay2 | Windows Server 2012 R2 Standard / x64 | OK | OK | OK | OK | |||||||
| merida2 | OS X 10.11.6 El Capitan / x86_64 | OK | OK | OK | OK |
| Package: MethylSeekR |
| Version: 1.20.0 |
| Command: /home/biocbuild/bbs-3.7-bioc/R/bin/R CMD check --install=check:MethylSeekR.install-out.txt --library=/home/biocbuild/bbs-3.7-bioc/R/library --no-vignettes --timings MethylSeekR_1.20.0.tar.gz |
| StartedAt: 2018-10-16 01:56:26 -0400 (Tue, 16 Oct 2018) |
| EndedAt: 2018-10-16 02:01:23 -0400 (Tue, 16 Oct 2018) |
| EllapsedTime: 296.7 seconds |
| RetCode: 0 |
| Status: OK |
| CheckDir: MethylSeekR.Rcheck |
| Warnings: 0 |
##############################################################################
##############################################################################
###
### Running command:
###
### /home/biocbuild/bbs-3.7-bioc/R/bin/R CMD check --install=check:MethylSeekR.install-out.txt --library=/home/biocbuild/bbs-3.7-bioc/R/library --no-vignettes --timings MethylSeekR_1.20.0.tar.gz
###
##############################################################################
##############################################################################
* using log directory ‘/home/biocbuild/bbs-3.7-bioc/meat/MethylSeekR.Rcheck’
* using R version 3.5.1 Patched (2018-07-12 r74967)
* using platform: x86_64-pc-linux-gnu (64-bit)
* using session charset: UTF-8
* using option ‘--no-vignettes’
* checking for file ‘MethylSeekR/DESCRIPTION’ ... OK
* checking extension type ... Package
* this is package ‘MethylSeekR’ version ‘1.20.0’
* checking package namespace information ... OK
* checking package dependencies ... OK
* checking if this is a source package ... OK
* checking if there is a namespace ... OK
* checking for hidden files and directories ... OK
* checking for portable file names ... OK
* checking for sufficient/correct file permissions ... OK
* checking whether package ‘MethylSeekR’ can be installed ... OK
* checking installed package size ... OK
* checking package directory ... OK
* checking ‘build’ directory ... OK
* checking DESCRIPTION meta-information ... NOTE
Malformed Description field: should contain one or more complete sentences.
Package listed in more than one of Depends, Imports, Suggests, Enhances:
‘parallel’
A package should be listed in only one of these fields.
* checking top-level files ... OK
* checking for left-over files ... OK
* checking index information ... OK
* checking package subdirectories ... OK
* checking R files for non-ASCII characters ... OK
* checking R files for syntax errors ... OK
* checking whether the package can be loaded ... OK
* checking whether the package can be loaded with stated dependencies ... OK
* checking whether the package can be unloaded cleanly ... OK
* checking whether the namespace can be loaded with stated dependencies ... OK
* checking whether the namespace can be unloaded cleanly ... OK
* checking dependencies in R code ... NOTE
Namespace in Imports field not imported from: ‘geneplotter’
All declared Imports should be used.
Package in Depends field not imported from: ‘rtracklayer’
These packages need to be imported from (in the NAMESPACE file)
for when this namespace is loaded but not attached.
* checking S3 generic/method consistency ... OK
* checking replacement functions ... OK
* checking foreign function calls ... OK
* checking R code for possible problems ... NOTE
PMDviterbiSegmentation : <anonymous>: no visible global function
definition for ‘predict’
PMDviterbiSegmentation : <anonymous>: no visible global function
definition for ‘Rle’
PMDviterbiSegmentation : <anonymous>: no visible global function
definition for ‘runValue’
calculateAlphaDistr : <anonymous>: no visible global function
definition for ‘Rle’
calculateFDRs: no visible global function definition for ‘queryHits’
calculateFDRs : <anonymous>: no visible global function definition for
‘Rle’
calculateFDRs : <anonymous>: no visible global function definition for
‘runValue’
createGRangesObjectPMDSegmentation : <anonymous>: no visible global
function definition for ‘Rle’
createGRangesObjectPMDSegmentation : <anonymous>: no visible global
function definition for ‘nrun’
createGRangesObjectPMDSegmentation : <anonymous>: no visible global
function definition for ‘runValue’
plotFinalSegmentation: no visible global function definition for ‘Rle’
removeSNPs: no visible global function definition for ‘queryHits’
segmentUMRsLMRs : <anonymous>: no visible global function definition
for ‘Rle’
segmentUMRsLMRs : <anonymous>: no visible global function definition
for ‘runValue’
segmentUMRsLMRs: no visible global function definition for ‘queryHits’
segmentUMRsLMRs: no visible global function definition for
‘subjectHits’
segmentUMRsLMRs: no visible global function definition for ‘Rle’
segmentUMRsLMRs: no visible global function definition for ‘DataFrame’
segmentUMRsLMRs: no visible global function definition for
‘colorRampPalette’
Undefined global functions or variables:
DataFrame Rle colorRampPalette nrun predict queryHits runValue
subjectHits
Consider adding
importFrom("grDevices", "colorRampPalette")
importFrom("stats", "predict")
to your NAMESPACE file.
* checking Rd files ... OK
* checking Rd metadata ... OK
* checking Rd cross-references ... OK
* checking for missing documentation entries ... OK
* checking for code/documentation mismatches ... OK
* checking Rd \usage sections ... OK
* checking Rd contents ... OK
* checking for unstated dependencies in examples ... OK
* checking files in ‘vignettes’ ... OK
* checking examples ... OK
Examples with CPU or elapsed time > 5s
user system elapsed
MethylSeekR-package 39.620 0.436 57.061
plotPMDSegmentation 23.684 0.136 23.842
segmentPMDs 21.796 0.068 21.885
savePMDSegments 21.784 0.064 21.864
calculateFDRs 5.640 0.028 24.094
* checking for unstated dependencies in vignettes ... OK
* checking package vignettes in ‘inst/doc’ ... OK
* checking running R code from vignettes ... SKIPPED
* checking re-building of vignette outputs ... SKIPPED
* checking PDF version of manual ... OK
* DONE
Status: 3 NOTEs
See
‘/home/biocbuild/bbs-3.7-bioc/meat/MethylSeekR.Rcheck/00check.log’
for details.
MethylSeekR.Rcheck/00install.out
############################################################################## ############################################################################## ### ### Running command: ### ### /home/biocbuild/bbs-3.7-bioc/R/bin/R CMD INSTALL MethylSeekR ### ############################################################################## ############################################################################## * installing to library ‘/home/biocbuild/bbs-3.7-bioc/R/library’ * installing *source* package ‘MethylSeekR’ ... ** R ** inst ** byte-compile and prepare package for lazy loading ** help *** installing help indices ** building package indices ** installing vignettes ** testing if installed package can be loaded * DONE (MethylSeekR)
MethylSeekR.Rcheck/MethylSeekR-Ex.timings
| name | user | system | elapsed | |
| MethylSeekR-package | 39.620 | 0.436 | 57.061 | |
| calculateFDRs | 5.640 | 0.028 | 24.094 | |
| plotAlphaDistributionOneChr | 4.336 | 0.024 | 4.363 | |
| plotFinalSegmentation | 1.556 | 0.008 | 1.566 | |
| plotPMDSegmentation | 23.684 | 0.136 | 23.842 | |
| readMethylome | 0.280 | 0.000 | 0.277 | |
| readSNPTable | 0.064 | 0.004 | 0.066 | |
| removeSNPs | 0.376 | 0.004 | 0.381 | |
| savePMDSegments | 21.784 | 0.064 | 21.864 | |
| saveUMRLMRSegments | 1.092 | 0.024 | 1.117 | |
| segmentPMDs | 21.796 | 0.068 | 21.885 | |
| segmentUMRsLMRs | 1.096 | 0.000 | 1.096 | |