| Back to Multiple platform build/check report for BioC 3.7 |
|
This page was generated on 2018-10-17 08:39:41 -0400 (Wed, 17 Oct 2018).
| Package 866/1561 | Hostname | OS / Arch | INSTALL | BUILD | CHECK | BUILD BIN | ||||||
| Metab 1.14.0 Raphael Aggio
| malbec2 | Linux (Ubuntu 16.04.1 LTS) / x86_64 | OK | OK | OK | |||||||
| tokay2 | Windows Server 2012 R2 Standard / x64 | OK | OK | OK | [ OK ] | |||||||
| merida2 | OS X 10.11.6 El Capitan / x86_64 | OK | OK | OK | OK |
| Package: Metab |
| Version: 1.14.0 |
| Command: rm -rf Metab.buildbin-libdir && mkdir Metab.buildbin-libdir && C:\Users\biocbuild\bbs-3.7-bioc\R\bin\R.exe CMD INSTALL --merge-multiarch --build --library=Metab.buildbin-libdir Metab_1.14.0.tar.gz |
| StartedAt: 2018-10-17 06:39:30 -0400 (Wed, 17 Oct 2018) |
| EndedAt: 2018-10-17 06:40:17 -0400 (Wed, 17 Oct 2018) |
| EllapsedTime: 47.0 seconds |
| RetCode: 0 |
| Status: OK |
| PackageFile: Metab_1.14.0.zip |
| PackageFileSize: 3.287 MiB |
##############################################################################
##############################################################################
###
### Running command:
###
### rm -rf Metab.buildbin-libdir && mkdir Metab.buildbin-libdir && C:\Users\biocbuild\bbs-3.7-bioc\R\bin\R.exe CMD INSTALL --merge-multiarch --build --library=Metab.buildbin-libdir Metab_1.14.0.tar.gz
###
##############################################################################
##############################################################################
install for i386
* installing *source* package 'Metab' ...
** R
** data
** inst
** byte-compile and prepare package for lazy loading
** help
*** installing help indices
converting help for package 'Metab'
finding HTML links ... done
MetReport html
MetReportNames html
Metab-package html
buildLib html
exampleAMDISReport html
exampleBiomass html
exampleHtest html
exampleIonLib html
exampleMSLfile html
exampleMetReport html
htest html
normalizeByBiomass html
normalizeByInternalStandard html
removeFalsePositives html
** building package indices
** installing vignettes
** testing if installed package can be loaded
In R CMD INSTALL
install for x64
* installing *source* package 'Metab' ...
** testing if installed package can be loaded
* MD5 sums
packaged installation of 'Metab' as Metab_1.14.0.zip
* DONE (Metab)
In R CMD INSTALL
In R CMD INSTALL