| Back to Multiple platform build/check report for BioC 3.7 |
|
This page was generated on 2018-10-17 08:32:12 -0400 (Wed, 17 Oct 2018).
| Package 859/1561 | Hostname | OS / Arch | INSTALL | BUILD | CHECK | BUILD BIN | ||||||
| MergeMaid 2.52.0 Xiaogang Zhong
| malbec2 | Linux (Ubuntu 16.04.1 LTS) / x86_64 | OK | OK | WARNINGS | |||||||
| tokay2 | Windows Server 2012 R2 Standard / x64 | OK | OK | WARNINGS | [ OK ] | |||||||
| merida2 | OS X 10.11.6 El Capitan / x86_64 | OK | OK | WARNINGS | OK |
| Package: MergeMaid |
| Version: 2.52.0 |
| Command: rm -rf MergeMaid.buildbin-libdir && mkdir MergeMaid.buildbin-libdir && C:\Users\biocbuild\bbs-3.7-bioc\R\bin\R.exe CMD INSTALL --merge-multiarch --build --library=MergeMaid.buildbin-libdir MergeMaid_2.52.0.tar.gz |
| StartedAt: 2018-10-17 06:39:18 -0400 (Wed, 17 Oct 2018) |
| EndedAt: 2018-10-17 06:39:42 -0400 (Wed, 17 Oct 2018) |
| EllapsedTime: 24.1 seconds |
| RetCode: 0 |
| Status: OK |
| PackageFile: MergeMaid_2.52.0.zip |
| PackageFileSize: 652.7 KiB |
##############################################################################
##############################################################################
###
### Running command:
###
### rm -rf MergeMaid.buildbin-libdir && mkdir MergeMaid.buildbin-libdir && C:\Users\biocbuild\bbs-3.7-bioc\R\bin\R.exe CMD INSTALL --merge-multiarch --build --library=MergeMaid.buildbin-libdir MergeMaid_2.52.0.tar.gz
###
##############################################################################
##############################################################################
install for i386
* installing *source* package 'MergeMaid' ...
** R
** data
** inst
** byte-compile and prepare package for lazy loading
** help
*** installing help indices
converting help for package 'MergeMaid'
finding HTML links ... done
class.mergeCoeff html
class.mergeCor html
class.mergeExpressionSet html
intCor html
intcorDens html
intersection html
mergeData html
mergeExprs html
modelOutcome html
** building package indices
** installing vignettes
** testing if installed package can be loaded
In R CMD INSTALL
install for x64
* installing *source* package 'MergeMaid' ...
** testing if installed package can be loaded
* MD5 sums
packaged installation of 'MergeMaid' as MergeMaid_2.52.0.zip
* DONE (MergeMaid)
In R CMD INSTALL
In R CMD INSTALL