| Back to Multiple platform build/check report for BioC 3.7 |
|
This page was generated on 2018-10-17 08:46:27 -0400 (Wed, 17 Oct 2018).
| Package 971/1561 | Hostname | OS / Arch | INSTALL | BUILD | CHECK | BUILD BIN | ||||||
| MVCClass 1.54.0 Elizabeth Whalen
| malbec2 | Linux (Ubuntu 16.04.1 LTS) / x86_64 | OK | OK | OK | |||||||
| tokay2 | Windows Server 2012 R2 Standard / x64 | OK | OK | OK | OK | |||||||
| merida2 | OS X 10.11.6 El Capitan / x86_64 | OK | OK | OK | [ OK ] |
| Package: MVCClass |
| Version: 1.54.0 |
| Command: rm -rf MVCClass.buildbin-libdir && mkdir MVCClass.buildbin-libdir && /Users/biocbuild/BBS/utils/build-universal.sh MVCClass_1.54.0.tar.gz /Library/Frameworks/R.framework/Versions/Current/Resources/bin/R MVCClass.buildbin-libdir |
| StartedAt: 2018-10-17 01:45:23 -0400 (Wed, 17 Oct 2018) |
| EndedAt: 2018-10-17 01:46:23 -0400 (Wed, 17 Oct 2018) |
| EllapsedTime: 60.5 seconds |
| RetCode: 0 |
| Status: OK |
| PackageFile: MVCClass_1.54.0.tgz |
| PackageFileSize: 1.162 MiB |
############################################################################## ############################################################################## ### ### Running command: ### ### rm -rf MVCClass.buildbin-libdir && mkdir MVCClass.buildbin-libdir && /Users/biocbuild/BBS/utils/build-universal.sh MVCClass_1.54.0.tar.gz /Library/Frameworks/R.framework/Versions/Current/Resources/bin/R MVCClass.buildbin-libdir ### ############################################################################## ############################################################################## >>>>>>> >>>>>>> INSTALLATION WITH 'R CMD INSTALL --preclean --no-multiarch --library=MVCClass.buildbin-libdir MVCClass_1.54.0.tar.gz' >>>>>>> * installing *source* package ‘MVCClass’ ... ** R ** inst ** byte-compile and prepare package for lazy loading ** help *** installing help indices ** building package indices ** installing vignettes ** testing if installed package can be loaded * DONE (MVCClass)