| Back to Multiple platform build/check report for BioC 3.7 |
|
This page was generated on 2018-10-17 08:44:36 -0400 (Wed, 17 Oct 2018).
| Package 958/1561 | Hostname | OS / Arch | INSTALL | BUILD | CHECK | BUILD BIN | ||||||
| MSstatsQC 1.2.0 Eralp Dogu
| malbec2 | Linux (Ubuntu 16.04.1 LTS) / x86_64 | OK | OK | OK | |||||||
| tokay2 | Windows Server 2012 R2 Standard / x64 | [ OK ] | OK | OK | OK | |||||||
| merida2 | OS X 10.11.6 El Capitan / x86_64 | OK | OK | OK | OK |
| Package: MSstatsQC |
| Version: 1.2.0 |
| Command: C:\cygwin\bin\curl.exe -O https://malbec2.bioconductor.org/BBS/3.7/bioc/src/contrib/MSstatsQC_1.2.0.tar.gz && rm -rf MSstatsQC.buildbin-libdir && mkdir MSstatsQC.buildbin-libdir && C:\Users\biocbuild\bbs-3.7-bioc\R\bin\R.exe CMD INSTALL --merge-multiarch --build --library=MSstatsQC.buildbin-libdir MSstatsQC_1.2.0.tar.gz && C:\Users\biocbuild\bbs-3.7-bioc\R\bin\R.exe CMD INSTALL MSstatsQC_1.2.0.zip && rm MSstatsQC_1.2.0.tar.gz MSstatsQC_1.2.0.zip |
| StartedAt: 2018-10-16 19:50:54 -0400 (Tue, 16 Oct 2018) |
| EndedAt: 2018-10-16 19:51:49 -0400 (Tue, 16 Oct 2018) |
| EllapsedTime: 55.1 seconds |
| RetCode: 0 |
| Status: OK |
##############################################################################
##############################################################################
###
### Running command:
###
### C:\cygwin\bin\curl.exe -O https://malbec2.bioconductor.org/BBS/3.7/bioc/src/contrib/MSstatsQC_1.2.0.tar.gz && rm -rf MSstatsQC.buildbin-libdir && mkdir MSstatsQC.buildbin-libdir && C:\Users\biocbuild\bbs-3.7-bioc\R\bin\R.exe CMD INSTALL --merge-multiarch --build --library=MSstatsQC.buildbin-libdir MSstatsQC_1.2.0.tar.gz && C:\Users\biocbuild\bbs-3.7-bioc\R\bin\R.exe CMD INSTALL MSstatsQC_1.2.0.zip && rm MSstatsQC_1.2.0.tar.gz MSstatsQC_1.2.0.zip
###
##############################################################################
##############################################################################
% Total % Received % Xferd Average Speed Time Time Time Current
Dload Upload Total Spent Left Speed
0 0 0 0 0 0 0 0 --:--:-- --:--:-- --:--:-- 0
0 0 0 0 0 0 0 0 --:--:-- --:--:-- --:--:-- 0
100 892k 100 892k 0 0 13.2M 0 --:--:-- --:--:-- --:--:-- 14.5M
install for i386
* installing *source* package 'MSstatsQC' ...
** R
** data
*** moving datasets to lazyload DB
** byte-compile and prepare package for lazy loading
** help
*** installing help indices
converting help for package 'MSstatsQC'
finding HTML links ... done
CUSUMChart html
ChangePointEstimator html
DataProcess html
DecisionMap html
MSnbaseToMSstatsQC html
RadarPlot html
RiverPlot html
S9Site54 html
XmRChart html
** building package indices
** installing vignettes
** testing if installed package can be loaded
In R CMD INSTALL
install for x64
* installing *source* package 'MSstatsQC' ...
** testing if installed package can be loaded
* MD5 sums
packaged installation of 'MSstatsQC' as MSstatsQC_1.2.0.zip
* DONE (MSstatsQC)
In R CMD INSTALL
In R CMD INSTALL
* installing to library 'C:/Users/biocbuild/bbs-3.7-bioc/R/library'
package 'MSstatsQC' successfully unpacked and MD5 sums checked
In R CMD INSTALL