| Back to Multiple platform build/check report for BioC 3.7 |
|
This page was generated on 2018-10-17 08:37:49 -0400 (Wed, 17 Oct 2018).
| Package 957/1561 | Hostname | OS / Arch | INSTALL | BUILD | CHECK | BUILD BIN | ||||||
| MSstats 3.12.3 Meena Choi
| malbec2 | Linux (Ubuntu 16.04.1 LTS) / x86_64 | OK | OK | OK | |||||||
| tokay2 | Windows Server 2012 R2 Standard / x64 | [ OK ] | OK | OK | OK | |||||||
| merida2 | OS X 10.11.6 El Capitan / x86_64 | OK | OK | OK | OK |
| Package: MSstats |
| Version: 3.12.3 |
| Command: C:\cygwin\bin\curl.exe -O https://malbec2.bioconductor.org/BBS/3.7/bioc/src/contrib/MSstats_3.12.3.tar.gz && rm -rf MSstats.buildbin-libdir && mkdir MSstats.buildbin-libdir && C:\Users\biocbuild\bbs-3.7-bioc\R\bin\R.exe CMD INSTALL --merge-multiarch --build --library=MSstats.buildbin-libdir MSstats_3.12.3.tar.gz && C:\Users\biocbuild\bbs-3.7-bioc\R\bin\R.exe CMD INSTALL MSstats_3.12.3.zip && rm MSstats_3.12.3.tar.gz MSstats_3.12.3.zip |
| StartedAt: 2018-10-16 20:12:29 -0400 (Tue, 16 Oct 2018) |
| EndedAt: 2018-10-16 20:13:41 -0400 (Tue, 16 Oct 2018) |
| EllapsedTime: 72.7 seconds |
| RetCode: 0 |
| Status: OK |
##############################################################################
##############################################################################
###
### Running command:
###
### C:\cygwin\bin\curl.exe -O https://malbec2.bioconductor.org/BBS/3.7/bioc/src/contrib/MSstats_3.12.3.tar.gz && rm -rf MSstats.buildbin-libdir && mkdir MSstats.buildbin-libdir && C:\Users\biocbuild\bbs-3.7-bioc\R\bin\R.exe CMD INSTALL --merge-multiarch --build --library=MSstats.buildbin-libdir MSstats_3.12.3.tar.gz && C:\Users\biocbuild\bbs-3.7-bioc\R\bin\R.exe CMD INSTALL MSstats_3.12.3.zip && rm MSstats_3.12.3.tar.gz MSstats_3.12.3.zip
###
##############################################################################
##############################################################################
% Total % Received % Xferd Average Speed Time Time Time Current
Dload Upload Total Spent Left Speed
0 0 0 0 0 0 0 0 --:--:-- --:--:-- --:--:-- 0
100 200k 100 200k 0 0 2903k 0 --:--:-- --:--:-- --:--:-- 3229k
install for i386
* installing *source* package 'MSstats' ...
** R
** data
*** moving datasets to lazyload DB
** inst
** byte-compile and prepare package for lazy loading
** help
*** installing help indices
converting help for package 'MSstats'
finding HTML links ... done
DDARawData html
DDARawData.Skyline html
DIARawData html
DIAUmpiretoMSstatsFormat html
MSstats-package html
MaxQtoMSstatsFormat html
OpenMStoMSstatsFormat html
OpenSWATHtoMSstatsFormat html
PDtoMSstatsFormat html
ProgenesistoMSstatsFormat html
SRMRawData html
SkylinetoMSstatsFormat html
SpectronauttoMSstatsFormat html
SpikeInDataLinear html
SpikeInDataNonLinear html
dataProcess html
dataProcessPlots html
designSampleSize html
designSampleSizeClassification html
designSampleSizeClassificationPlots html
designSampleSizePlots html
groupComparison html
groupComparisonPlots html
linear_quantlim html
modelBasedQCPlots html
nonlinear_quantlim html
plot_quantlim html
quantification html
** building package indices
** installing vignettes
** testing if installed package can be loaded
In R CMD INSTALL
install for x64
* installing *source* package 'MSstats' ...
** testing if installed package can be loaded
* MD5 sums
packaged installation of 'MSstats' as MSstats_3.12.3.zip
* DONE (MSstats)
In R CMD INSTALL
In R CMD INSTALL
* installing to library 'C:/Users/biocbuild/bbs-3.7-bioc/R/library'
package 'MSstats' successfully unpacked and MD5 sums checked
In R CMD INSTALL