| Back to Multiple platform build/check report for BioC 3.7 | 
 | 
This page was generated on 2018-10-17 08:39:17 -0400 (Wed, 17 Oct 2018).
| Package 898/1561 | Hostname | OS / Arch | INSTALL | BUILD | CHECK | BUILD BIN | ||||||
| MGFM 1.14.0 Khadija El Amrani 
 | malbec2 | Linux (Ubuntu 16.04.1 LTS) / x86_64 | OK | OK | OK |  | ||||||
| tokay2 | Windows Server 2012 R2 Standard / x64 | [ OK ] | OK | OK | OK |  | ||||||
| merida2 | OS X 10.11.6 El Capitan / x86_64 | OK | OK | OK | OK |  | 
| Package: MGFM | 
| Version: 1.14.0 | 
| Command: C:\cygwin\bin\curl.exe -O https://malbec2.bioconductor.org/BBS/3.7/bioc/src/contrib/MGFM_1.14.0.tar.gz && rm -rf MGFM.buildbin-libdir && mkdir MGFM.buildbin-libdir && C:\Users\biocbuild\bbs-3.7-bioc\R\bin\R.exe CMD INSTALL --merge-multiarch --build --library=MGFM.buildbin-libdir MGFM_1.14.0.tar.gz && C:\Users\biocbuild\bbs-3.7-bioc\R\bin\R.exe CMD INSTALL MGFM_1.14.0.zip && rm MGFM_1.14.0.tar.gz MGFM_1.14.0.zip | 
| StartedAt: 2018-10-16 19:10:21 -0400 (Tue, 16 Oct 2018) | 
| EndedAt: 2018-10-16 19:11:05 -0400 (Tue, 16 Oct 2018) | 
| EllapsedTime: 44.2 seconds | 
| RetCode: 0 | 
| Status: OK | 
##############################################################################
##############################################################################
###
### Running command:
###
###   C:\cygwin\bin\curl.exe -O https://malbec2.bioconductor.org/BBS/3.7/bioc/src/contrib/MGFM_1.14.0.tar.gz && rm -rf MGFM.buildbin-libdir && mkdir MGFM.buildbin-libdir && C:\Users\biocbuild\bbs-3.7-bioc\R\bin\R.exe CMD INSTALL --merge-multiarch --build --library=MGFM.buildbin-libdir MGFM_1.14.0.tar.gz && C:\Users\biocbuild\bbs-3.7-bioc\R\bin\R.exe CMD INSTALL MGFM_1.14.0.zip && rm MGFM_1.14.0.tar.gz MGFM_1.14.0.zip
###
##############################################################################
##############################################################################
  % Total    % Received % Xferd  Average Speed   Time    Time     Time  Current
                                 Dload  Upload   Total   Spent    Left  Speed
  0     0    0     0    0     0      0      0 --:--:-- --:--:-- --:--:--     0
100 2886k  100 2886k    0     0  30.6M      0 --:--:-- --:--:-- --:--:-- 33.1M
install for i386
* installing *source* package 'MGFM' ...
** R
** data
*** moving datasets to lazyload DB
** byte-compile and prepare package for lazy loading
** help
*** installing help indices
  converting help for package 'MGFM'
    finding HTML links ... done
    MGFM-internal                           html  
    MGFM-package                            html  
    ds2.mat                                 html  
    getHtmlpage                             html  
    getMarkerGenes                          html  
** building package indices
** installing vignettes
** testing if installed package can be loaded
In R CMD INSTALL
install for x64
* installing *source* package 'MGFM' ...
** testing if installed package can be loaded
* MD5 sums
packaged installation of 'MGFM' as MGFM_1.14.0.zip
* DONE (MGFM)
In R CMD INSTALL
In R CMD INSTALL
* installing to library 'C:/Users/biocbuild/bbs-3.7-bioc/R/library'
package 'MGFM' successfully unpacked and MD5 sums checked
In R CMD INSTALL