| Back to Multiple platform build/check report for BioC 3.7 |
|
This page was generated on 2018-10-17 08:38:54 -0400 (Wed, 17 Oct 2018).
| Package 858/1561 | Hostname | OS / Arch | INSTALL | BUILD | CHECK | BUILD BIN | ||||||
| MEIGOR 1.14.0 Jose Egea
| malbec2 | Linux (Ubuntu 16.04.1 LTS) / x86_64 | OK | OK | WARNINGS | |||||||
| tokay2 | Windows Server 2012 R2 Standard / x64 | OK | OK | WARNINGS | [ OK ] | |||||||
| merida2 | OS X 10.11.6 El Capitan / x86_64 | OK | OK | WARNINGS | OK |
| Package: MEIGOR |
| Version: 1.14.0 |
| Command: rm -rf MEIGOR.buildbin-libdir && mkdir MEIGOR.buildbin-libdir && C:\Users\biocbuild\bbs-3.7-bioc\R\bin\R.exe CMD INSTALL --merge-multiarch --build --library=MEIGOR.buildbin-libdir MEIGOR_1.14.0.tar.gz |
| StartedAt: 2018-10-17 06:39:16 -0400 (Wed, 17 Oct 2018) |
| EndedAt: 2018-10-17 06:39:40 -0400 (Wed, 17 Oct 2018) |
| EllapsedTime: 24.1 seconds |
| RetCode: 0 |
| Status: OK |
| PackageFile: MEIGOR_1.14.0.zip |
| PackageFileSize: 806.3 KiB |
##############################################################################
##############################################################################
###
### Running command:
###
### rm -rf MEIGOR.buildbin-libdir && mkdir MEIGOR.buildbin-libdir && C:\Users\biocbuild\bbs-3.7-bioc\R\bin\R.exe CMD INSTALL --merge-multiarch --build --library=MEIGOR.buildbin-libdir MEIGOR_1.14.0.tar.gz
###
##############################################################################
##############################################################################
install for i386
* installing *source* package 'MEIGOR' ...
** R
** data
** inst
** byte-compile and prepare package for lazy loading
Note: possible error in 'runif(seed = options$seed)': unused argument (seed = options$seed)
** help
*** installing help indices
converting help for package 'MEIGOR'
finding HTML links ... done
BayesFit html
CeSSR html
CeVNSR html
MEIGO html
MEIGOR-package html
cnolist html
cur_params html
dhc html
essR-MEIGOR html
essR html
essR_multistart html
eucl_dist html
ith_VNSR html
ith_essR html
model html
nls_fobj html
optim_fobj html
paramsOpt html
runBayesFit html
rvnds_hamming html
rvnds_local html
solnp_eq html
solnp_fobj html
solnp_ineq html
ssm_beyond html
ssm_defaults html
ssm_evalfc html
ssm_isdif2 html
ssm_localsolver html
ssm_optset html
ssm_penalty_function html
ssm_round_int html
vns_defaults html
vns_optset html
** building package indices
** installing vignettes
** testing if installed package can be loaded
In R CMD INSTALL
install for x64
* installing *source* package 'MEIGOR' ...
** testing if installed package can be loaded
* MD5 sums
packaged installation of 'MEIGOR' as MEIGOR_1.14.0.zip
* DONE (MEIGOR)
In R CMD INSTALL
In R CMD INSTALL