| Back to Multiple platform build/check report for BioC 3.7 |
|
This page was generated on 2018-10-17 08:48:54 -0400 (Wed, 17 Oct 2018).
| Package 856/1561 | Hostname | OS / Arch | INSTALL | BUILD | CHECK | BUILD BIN | ||||||
| MEDIPS 1.32.0 Lukas Chavez
| malbec2 | Linux (Ubuntu 16.04.1 LTS) / x86_64 | OK | OK | OK | |||||||
| tokay2 | Windows Server 2012 R2 Standard / x64 | OK | OK | OK | OK | |||||||
| merida2 | OS X 10.11.6 El Capitan / x86_64 | OK | OK | [ OK ] | OK |
| Package: MEDIPS |
| Version: 1.32.0 |
| Command: /Library/Frameworks/R.framework/Versions/Current/Resources/bin/R CMD check --install=check:MEDIPS.install-out.txt --library=/Library/Frameworks/R.framework/Versions/Current/Resources/library --no-vignettes --timings MEDIPS_1.32.0.tar.gz |
| StartedAt: 2018-10-16 22:26:48 -0400 (Tue, 16 Oct 2018) |
| EndedAt: 2018-10-16 22:32:28 -0400 (Tue, 16 Oct 2018) |
| EllapsedTime: 340.0 seconds |
| RetCode: 0 |
| Status: OK |
| CheckDir: MEDIPS.Rcheck |
| Warnings: 0 |
##############################################################################
##############################################################################
###
### Running command:
###
### /Library/Frameworks/R.framework/Versions/Current/Resources/bin/R CMD check --install=check:MEDIPS.install-out.txt --library=/Library/Frameworks/R.framework/Versions/Current/Resources/library --no-vignettes --timings MEDIPS_1.32.0.tar.gz
###
##############################################################################
##############################################################################
* using log directory ‘/Users/biocbuild/bbs-3.7-bioc/meat/MEDIPS.Rcheck’
* using R version 3.5.1 Patched (2018-07-12 r74967)
* using platform: x86_64-apple-darwin15.6.0 (64-bit)
* using session charset: UTF-8
* using option ‘--no-vignettes’
* checking for file ‘MEDIPS/DESCRIPTION’ ... OK
* checking extension type ... Package
* this is package ‘MEDIPS’ version ‘1.32.0’
* checking package namespace information ... OK
* checking package dependencies ... OK
* checking if this is a source package ... OK
* checking if there is a namespace ... OK
* checking for hidden files and directories ... OK
* checking for portable file names ... OK
* checking for sufficient/correct file permissions ... OK
* checking whether package ‘MEDIPS’ can be installed ... OK
* checking installed package size ... OK
* checking package directory ... OK
* checking ‘build’ directory ... OK
* checking DESCRIPTION meta-information ... OK
* checking top-level files ... OK
* checking for left-over files ... OK
* checking index information ... OK
* checking package subdirectories ... OK
* checking R files for non-ASCII characters ... OK
* checking R files for syntax errors ... OK
* checking whether the package can be loaded ... OK
* checking whether the package can be loaded with stated dependencies ... OK
* checking whether the package can be unloaded cleanly ... OK
* checking whether the namespace can be loaded with stated dependencies ... OK
* checking whether the namespace can be unloaded cleanly ... OK
* checking dependencies in R code ... OK
* checking S3 generic/method consistency ... OK
* checking replacement functions ... OK
* checking foreign function calls ... OK
* checking R code for possible problems ... NOTE
MEDIPS.CpGenrich: no visible global function definition for ‘seqlevels’
MEDIPS.CpGenrich: no visible global function definition for
‘seqlengths’
MEDIPS.CpGenrich: no visible global function definition for ‘new’
MEDIPS.addCNV: no visible global function definition for ‘seqnames’
MEDIPS.correlation: no visible global function definition for ‘pdf’
MEDIPS.correlation: no visible global function definition for ‘dev.off’
MEDIPS.couplingVector: no visible global function definition for ‘new’
MEDIPS.createROIset: no visible global function definition for
‘seqnames’
MEDIPS.createROIset: no visible global function definition for
‘seqlengths’
MEDIPS.createROIset: no visible global function definition for ‘new’
MEDIPS.createSet: no visible global function definition for ‘seqnames’
MEDIPS.createSet: no visible global function definition for
‘seqlengths’
MEDIPS.createSet: no visible global function definition for ‘seqlevels’
MEDIPS.createSet: no visible global function definition for ‘new’
MEDIPS.diffMeth: no visible global function definition for ‘p.adjust’
MEDIPS.exportWIG: no visible global function definition for ‘seqnames’
MEDIPS.mergeSets: no visible global function definition for ‘new’
MEDIPS.meth: no visible global function definition for ‘seqnames’
MEDIPS.plotCalibrationPlot: no visible global function definition for
‘seqnames’
MEDIPS.plotCalibrationPlot: no visible global function definition for
‘points’
MEDIPS.plotSeqCoverage: no visible global function definition for ‘pie’
MEDIPS.plotSeqCoverage: no visible global function definition for
‘hist’
MEDIPS.saturation: no visible global function definition for
‘seqlevels’
MEDIPS.saturation: no visible global function definition for
‘seqlengths’
MEDIPS.selectROIs: no visible global function definition for
‘elementMetadata<-’
MEDIPS.selectROIs: no visible global function definition for
‘elementMetadata’
MEDIPS.selectROIs: no visible global function definition for
‘findOverlaps’
MEDIPS.selectROIs: no visible global function definition for ‘seqnames’
MEDIPS.seqCoverage: no visible global function definition for
‘seqlevels’
MEDIPS.seqCoverage: no visible global function definition for
‘seqlengths’
MEDIPS.setAnnotation: no visible global function definition for
‘findOverlaps’
getGRange: no visible global function definition for ‘qpois’
getGRange: no visible global function definition for ‘seqlengths’
getGRange: no visible global function definition for ‘countMatches’
getGRange: no visible global function definition for ‘strand<-’
getMObjectFromWIG: no visible global function definition for
‘seqlengths’
getMObjectFromWIG: no visible global function definition for
‘runLength’
getMObjectFromWIG: no visible global function definition for ‘seqnames’
getMObjectFromWIG: no visible global function definition for ‘runValue’
getMObjectFromWIG: no visible global function definition for ‘new’
getPairedGRange: no visible global function definition for ‘sd’
getPairedGRange: no visible global function definition for ‘qpois’
getPairedGRange: no visible global function definition for ‘seqlengths’
getPairedGRange: no visible global function definition for
‘countMatches’
getPairedGRange: no visible global function definition for ‘strand<-’
matSd: no visible binding for global variable ‘sd’
matTtest: no visible binding for global variable ‘sd’
matTtest: no visible global function definition for ‘pt’
Undefined global functions or variables:
countMatches dev.off elementMetadata elementMetadata<- findOverlaps
hist new p.adjust pdf pie points pt qpois runLength runValue sd
seqlengths seqlevels seqnames strand<-
Consider adding
importFrom("grDevices", "dev.off", "pdf")
importFrom("graphics", "hist", "pie", "points")
importFrom("methods", "new")
importFrom("stats", "p.adjust", "pt", "qpois", "sd")
to your NAMESPACE file (and ensure that your DESCRIPTION Imports field
contains 'methods').
* checking Rd files ... OK
* checking Rd metadata ... OK
* checking Rd cross-references ... OK
* checking for missing documentation entries ... OK
* checking for code/documentation mismatches ... OK
* checking Rd \usage sections ... OK
* checking Rd contents ... OK
* checking for unstated dependencies in examples ... OK
* checking sizes of PDF files under ‘inst/doc’ ... OK
* checking files in ‘vignettes’ ... OK
* checking examples ... OK
Examples with CPU or elapsed time > 5s
user system elapsed
MEDIPS.meth 40.447 2.770 43.515
MEDIPS.addCNV 20.574 0.818 21.564
MEDIPS.plotSaturation 8.483 0.992 9.580
MEDIPS.saturation 7.506 0.851 8.408
* checking for unstated dependencies in vignettes ... OK
* checking package vignettes in ‘inst/doc’ ... OK
* checking running R code from vignettes ... SKIPPED
* checking re-building of vignette outputs ... SKIPPED
* checking PDF version of manual ... OK
* DONE
Status: 1 NOTE
See
‘/Users/biocbuild/bbs-3.7-bioc/meat/MEDIPS.Rcheck/00check.log’
for details.
MEDIPS.Rcheck/00install.out
############################################################################## ############################################################################## ### ### Running command: ### ### /Library/Frameworks/R.framework/Versions/Current/Resources/bin/R CMD INSTALL MEDIPS ### ############################################################################## ############################################################################## * installing to library ‘/Library/Frameworks/R.framework/Versions/3.5/Resources/library’ * installing *source* package ‘MEDIPS’ ... ** R ** inst ** byte-compile and prepare package for lazy loading ** help *** installing help indices ** building package indices ** installing vignettes ** testing if installed package can be loaded * DONE (MEDIPS)
MEDIPS.Rcheck/MEDIPS-Ex.timings
| name | user | system | elapsed | |
| COUPLINGset-class | 0.002 | 0.000 | 0.002 | |
| MEDIPS.CpGenrich | 0.046 | 0.003 | 0.050 | |
| MEDIPS.addCNV | 20.574 | 0.818 | 21.564 | |
| MEDIPS.correlation | 1.356 | 0.082 | 1.451 | |
| MEDIPS.couplingVector | 3.504 | 0.193 | 3.746 | |
| MEDIPS.createROIset | 1.115 | 0.107 | 1.235 | |
| MEDIPS.createSet | 1.179 | 0.115 | 1.305 | |
| MEDIPS.exportWIG | 1.963 | 0.119 | 2.090 | |
| MEDIPS.getAnnotation | 0.001 | 0.000 | 0.001 | |
| MEDIPS.mergeFrames | 0.007 | 0.000 | 0.007 | |
| MEDIPS.mergeSets | 0.634 | 0.009 | 0.647 | |
| MEDIPS.meth | 40.447 | 2.770 | 43.515 | |
| MEDIPS.plotCalibrationPlot | 3.447 | 0.282 | 3.732 | |
| MEDIPS.plotSaturation | 8.483 | 0.992 | 9.580 | |
| MEDIPS.plotSeqCoverage | 3.576 | 0.287 | 3.868 | |
| MEDIPS.saturation | 7.506 | 0.851 | 8.408 | |
| MEDIPS.selectROIs | 1.818 | 0.162 | 1.989 | |
| MEDIPS.selectSig | 3.128 | 0.224 | 3.367 | |
| MEDIPS.seqCoverage | 3.119 | 0.253 | 3.397 | |
| MEDIPS.setAnnotation | 2.651 | 0.279 | 2.953 | |
| MEDIPSroiSet-class | 0.002 | 0.000 | 0.002 | |
| MEDIPSset-class | 0.002 | 0.000 | 0.002 | |